BEGIN:VCALENDAR
VERSION:2.0
PRODID:-//DAISEC - ECPv6.15.20//NONSGML v1.0//EN
CALSCALE:GREGORIAN
METHOD:PUBLISH
X-ORIGINAL-URL:https://daisec.de/en
X-WR-CALDESC:Events for DAISEC
REFRESH-INTERVAL;VALUE=DURATION:PT1H
X-Robots-Tag:noindex
X-PUBLISHED-TTL:PT1H
BEGIN:VTIMEZONE
TZID:Europe/Berlin
BEGIN:DAYLIGHT
TZOFFSETFROM:+0100
TZOFFSETTO:+0200
TZNAME:CEST
DTSTART:20230326T010000
END:DAYLIGHT
BEGIN:STANDARD
TZOFFSETFROM:+0200
TZOFFSETTO:+0100
TZNAME:CET
DTSTART:20231029T010000
END:STANDARD
BEGIN:DAYLIGHT
TZOFFSETFROM:+0100
TZOFFSETTO:+0200
TZNAME:CEST
DTSTART:20240331T010000
END:DAYLIGHT
BEGIN:STANDARD
TZOFFSETFROM:+0200
TZOFFSETTO:+0100
TZNAME:CET
DTSTART:20241027T010000
END:STANDARD
BEGIN:DAYLIGHT
TZOFFSETFROM:+0100
TZOFFSETTO:+0200
TZNAME:CEST
DTSTART:20250330T010000
END:DAYLIGHT
BEGIN:STANDARD
TZOFFSETFROM:+0200
TZOFFSETTO:+0100
TZNAME:CET
DTSTART:20251026T010000
END:STANDARD
END:VTIMEZONE
BEGIN:VEVENT
DTSTART;TZID=Europe/Berlin:20240213T100000
DTEND;TZID=Europe/Berlin:20240213T103000
DTSTAMP:20260425T034600
CREATED:20240206T115728Z
LAST-MODIFIED:20240206T160410Z
UID:10000075-1707818400-1707820200@daisec.de
SUMMARY:Robotik
DESCRIPTION:Jeder Betrieb und jede Branche wird von innovativen Technologien verändert und herausgefordert. Die Zeit bleibt auch nicht im Handwerk stehen. So findet auch die Robotik Einzug in die traditionelle Arbeitsweise des Handwerks. Robotik kann dabei Lösung für die Automatisierung monotoner und schwerer Arbeiten sein und dem Handwerk wieder mehr Zeit für die Kerntätigkeiten verschaffen. \n\n\n\n\n\n\n\nAufbau der Veranstaltung\n\n\n\n„Wie können wir durch Automatisierung fehlende / bald fehlende Fachkräfte abfedern?“ \n\n\n\n„Wie ist die Anbindung an Bestandssyteme? Bzw. wie kann diese erfolgen?“ \n\n\n\nReturn on invest? \n\n\n\n „Was muss ich als Betrieb tun?“ / Wie kann Automatisierung angegangen werden?“ / „An wen kann ich mich wenden?“ (Prozesse anschauen etc.) \n\n\n\n„Wie (einfach) lassen sich Roboter programmieren?“ \n\n\n\n„Sind Robotik-Lösungen auch kleine Betriebe / Handwerk interessant?“ „Welche Prozesse/Arbeitsabläufe eignen sich besonders?“ \n\n\n\n„Was sind besondere Herausforderungen für kleinere Unternehmen bei der Einführung von Robotik?“ \n\n\n\n\nAuf diese Schwerpunkte gehe ich anhand konkreter Praxisbeispiele ein.\n\n\n\n\n\n\n\n\nZiel der Veranstaltung\n\n\n\nRobotik kann ein weiteres Werkzeug im Handwerk sein. Im Austausch haben Sie die Chance sich über Chancen und Herausforderungen zu informieren. \n\n\n\n\n\n\n\nOrganisatorisches\n\n\n\nDie Veranstaltung findet online statt und es wird ein Link nach der Anmeldung bereitgestellt. \n\n\n\n \n\n\n\n\n\n\n\n\n\n\nVortragender\n\n\n\n\n\n\n\n\n\n\n\n\n\n\n\nDaniel Hübschmann\n\n\n\nHWK Dresden \n\n\n\n\n\n\n\n\n\n\nAnmeldung\n\n\n\n\n\n\n\n\n\n\n\n\n\n\n\nDie Anmeldung schließt drei Tage vor dem Veranstaltungstermin.Sollten Sie Fragen oder Probleme mit der Anmeldung haben\,wenden Sie sich bitte an den oben angegebenen Kontakt. \n\n\n\n\n\n\n\n\nVeranstaltungsort\n\n\n\n\n\n\n\n\n\n\n\n\n\n\n\n\n\n\n\n\n\n\n\n\n\n\n\n\n	\n		\n\n			\n			\n\n							\n					\n						Kommende Veranstaltungen					\n				\n			\n			\n				\n											\n\n	\n	\n		\n			Apr		\n		\n			29		\n	\n\n\n	\n		\n			\n\n				\n					\n		\n		14:00 – 15:30	\n	\n					\n	\n		KI-Wissensmanagement mit LLMs\, RAG und lokalen sowie cloudbasierten Ansätzen 1 – Überblick und Orientierung	\n\n				\n\n				\n			\n		\n	\n\n\n											\n\n	\n	\n		\n			May		\n		\n			7		\n	\n\n\n	\n		\n			\n\n				\n					\n		\n		16:30 – 19:00	\n	\n					\n	\n		2. KI Werkbank Forum 2026 (Lingen)	\n\n				\n\n				\n			\n		\n	\n\n\n											\n\n	\n	\n		\n			May		\n		\n			12		\n	\n\n\n	\n		\n			\n\n				\n					\n		\n		10:00 – 11:30	\n	\n					\n	\n		KI-Agenten in der Produktion	\n\n				\n\n				\n			\n		\n	\n\n\n									\n\n				\n	\n		View Calendar
URL:https://daisec.de/en/event/robotik/
LOCATION:Online
CATEGORIES:Kurzvortrag "Auf den Punkt"
ATTACH;FMTTYPE=image/png:https://daisec.de/wp-content/uploads/2023/09/Event-Kachel-Digitalisierungs-Dienstag.png
END:VEVENT
END:VCALENDAR