BEGIN:VCALENDAR
VERSION:2.0
PRODID:-//DAISEC - ECPv6.15.20//NONSGML v1.0//EN
CALSCALE:GREGORIAN
METHOD:PUBLISH
X-WR-CALNAME:DAISEC
X-ORIGINAL-URL:https://daisec.de/en
X-WR-CALDESC:Events for DAISEC
REFRESH-INTERVAL;VALUE=DURATION:PT1H
X-Robots-Tag:noindex
X-PUBLISHED-TTL:PT1H
BEGIN:VTIMEZONE
TZID:Europe/Berlin
BEGIN:DAYLIGHT
TZOFFSETFROM:+0100
TZOFFSETTO:+0200
TZNAME:CEST
DTSTART:20230326T010000
END:DAYLIGHT
BEGIN:STANDARD
TZOFFSETFROM:+0200
TZOFFSETTO:+0100
TZNAME:CET
DTSTART:20231029T010000
END:STANDARD
BEGIN:DAYLIGHT
TZOFFSETFROM:+0100
TZOFFSETTO:+0200
TZNAME:CEST
DTSTART:20240331T010000
END:DAYLIGHT
BEGIN:STANDARD
TZOFFSETFROM:+0200
TZOFFSETTO:+0100
TZNAME:CET
DTSTART:20241027T010000
END:STANDARD
BEGIN:DAYLIGHT
TZOFFSETFROM:+0100
TZOFFSETTO:+0200
TZNAME:CEST
DTSTART:20250330T010000
END:DAYLIGHT
BEGIN:STANDARD
TZOFFSETFROM:+0200
TZOFFSETTO:+0100
TZNAME:CET
DTSTART:20251026T010000
END:STANDARD
END:VTIMEZONE
BEGIN:VEVENT
DTSTART;TZID=Europe/Berlin:20240618T100000
DTEND;TZID=Europe/Berlin:20240618T110000
DTSTAMP:20260424T161838
CREATED:20240226T131210Z
LAST-MODIFIED:20240416T073305Z
UID:10000084-1718704800-1718708400@daisec.de
SUMMARY:Ransomware-Angriff - und nun?
DESCRIPTION:Ransomware-Angriffe sind DIE aktuelle Bedrohung aus dem Cyberspace für Unternehmen und täglich gibt es mehr Angriffe. In den letzten Jahren gab es eine Professionalisierung auf der Angriffsseite. Sie sind somit auch gefordert\, Ihre Maßnahmen und Vorbereitungen anzupassen. \n\n\n\n\n\n\n\nInhalt der Veranstaltung\n\n\n\n\nWas passiert bei einem erfolgreichen Angriff?\n\n\n\nWelche Fragen sollten unbedingt beantwortet werden?\n\n\n\nWie kann man sich darauf vorbereiten?\n\n\n\n\n\n\n\n\nZiel der Veranstaltung\n\n\n\nSie erhalten einen ersten Einblick in das Thema und können erste Maßnahmen für Ihr Unternehmen identifizieren. Sie haben die Chance sich mit Kolleg:innen und Cybersicherheitsexperten auszutauschen und Fragen zu stellen. \n\n\n\n\n\n\n\nOrganisatorisches\n\n\n\nDie Veranstaltung wird online durchgeführt. Nach der Anmeldung erhalten Sie einen Zugangslink per E-Mail. Wir empfehlen eine frühzeitige Anmeldung\, um sich einen Platz zu sichern und alle wichtigen Informationen vor der Veranstaltung zu erhalten. \n\n\n\n\n\n\n\n\n\n\nVortragender\n\n\n\n\n\n\n\n\n\n\n\n\n\n\n\nDr. Oliver Wiese\n\n\n\nExperte für Cybersicherheit \n\n\n\nwiese@daisec.de \n\n\n\n \n\n\n\n\n\n\n\n\n\n\nAnmeldung\n\n\n\n\n\n\n\n\n\n\n\n\n\n\n\nDie Anmeldung schließt drei Tage vor dem Veranstaltungstermin.Sollten Sie Fragen oder Probleme mit der Anmeldung haben\,wenden Sie sich bitte an den oben angegebenen Kontakt. \n\n\n\n\n\n\n\n\nVeranstaltungsort\n\n\n\n\n\n\n\n\n\n\n\n\n\n\n\n\n\n\n\n\n\n\n\n\n\n\n\n\n	\n		\n\n			\n			\n\n							\n					\n						Kommende Veranstaltungen					\n				\n			\n			\n				\n											\n\n	\n	\n		\n			Apr		\n		\n			20		\n	\n\n\n	\n		\n			\n\n				\n					\n		\n		20.04. – 24.04.	\n	\n					\n	\n		DAISEC auf der HANNOVER MESSE 2026	\n\n				\n\n				\n			\n		\n	\n\n\n											\n\n	\n	\n		\n			Apr		\n		\n			29		\n	\n\n\n	\n		\n			\n\n				\n					\n		\n		14:00 – 15:30	\n	\n					\n	\n		KI-Wissensmanagement mit LLMs\, RAG und lokalen sowie cloudbasierten Ansätzen 1 – Überblick und Orientierung	\n\n				\n\n				\n			\n		\n	\n\n\n											\n\n	\n	\n		\n			May		\n		\n			7		\n	\n\n\n	\n		\n			\n\n				\n					\n		\n		16:30 – 19:00	\n	\n					\n	\n		2. KI Werkbank Forum 2026 (Lingen)	\n\n				\n\n				\n			\n		\n	\n\n\n									\n\n				\n	\n		View Calendar
URL:https://daisec.de/en/event/ransomware-angriff-und-nun-18-06-2024/
LOCATION:Online
CATEGORIES:Kurzvortrag "Auf den Punkt"
ATTACH;FMTTYPE=image/png:https://daisec.de/wp-content/uploads/2024/02/2024-06-18-DAISEC-Digitalisierungs-Dienstag-Ransomeware.png
END:VEVENT
END:VCALENDAR