BEGIN:VCALENDAR
VERSION:2.0
PRODID:-//DAISEC - ECPv6.15.20//NONSGML v1.0//EN
CALSCALE:GREGORIAN
METHOD:PUBLISH
X-WR-CALNAME:DAISEC
X-ORIGINAL-URL:https://daisec.de/en
X-WR-CALDESC:Events for DAISEC
REFRESH-INTERVAL;VALUE=DURATION:PT1H
X-Robots-Tag:noindex
X-PUBLISHED-TTL:PT1H
BEGIN:VTIMEZONE
TZID:Europe/Berlin
BEGIN:DAYLIGHT
TZOFFSETFROM:+0100
TZOFFSETTO:+0200
TZNAME:CEST
DTSTART:20230326T010000
END:DAYLIGHT
BEGIN:STANDARD
TZOFFSETFROM:+0200
TZOFFSETTO:+0100
TZNAME:CET
DTSTART:20231029T010000
END:STANDARD
BEGIN:DAYLIGHT
TZOFFSETFROM:+0100
TZOFFSETTO:+0200
TZNAME:CEST
DTSTART:20240331T010000
END:DAYLIGHT
BEGIN:STANDARD
TZOFFSETFROM:+0200
TZOFFSETTO:+0100
TZNAME:CET
DTSTART:20241027T010000
END:STANDARD
BEGIN:DAYLIGHT
TZOFFSETFROM:+0100
TZOFFSETTO:+0200
TZNAME:CEST
DTSTART:20250330T010000
END:DAYLIGHT
BEGIN:STANDARD
TZOFFSETFROM:+0200
TZOFFSETTO:+0100
TZNAME:CET
DTSTART:20251026T010000
END:STANDARD
END:VTIMEZONE
BEGIN:VEVENT
DTSTART;TZID=Europe/Berlin:20240827T100000
DTEND;TZID=Europe/Berlin:20240827T103000
DTSTAMP:20260424T092758
CREATED:20240717T090522Z
LAST-MODIFIED:20240723T080005Z
UID:10000136-1724752800-1724754600@daisec.de
SUMMARY:3D-Druck erleben
DESCRIPTION:Die Additive Fertigung\, die als 3D-Druck sowie auch Additive Manufacturing bezeichnet wird\, bezieht sich auf eine Reihe verschiedener Technologien\, die im industriellen Bereich angewendet werden. Hierzu zählen alle Fertigungsverfahren\, bei denen ein Fertigungsteil durch das Hinzufügen von Material Schicht für Schicht aufgebaut wird und diese dadurch in Verbindung gebracht werden. Dieses Verfahren kann für die Fertigung von Anschauungs- und Funktionsprototypen (Rapid Prototyping\, RP)\, Werkzeugen und Formen (Rapid Tooling\, RT) sowie der Fertigung von Endprodukten (Rapid Manufacturing\, RM) angewendet werden. \n\n\n\nUm Ihnen einen Einblick in die Welt des 3D-Drucks zu geben\, erhalten Sie in diesem Impulsvortrag einen Überblick über die verschiedenen Arten von 3D-Druckverfahren. \n\n\n\n\n\n\n\nInhalt der Veranstaltung\n\n\n\nAllgemeine 3D-Druck-Einführung: \n\n\n\n\nWelche Verfahrenstypen gibt es?\n\n\n\nWas sind ihre Stärken und Schwächen?\n\n\n\nWie ist die Prozesskette in der Additiven Fertigung?\n\n\n\nWelche Nachbearbeitungsverfahren für 3D-gedruckte Teile gibt es?\n\n\n\n\n\n\n\n\nZiel der Veranstaltung\n\n\n\nUm den Anwendern den nächsten Schritt zur Digitalisierung ihrer Produktionsprozesse zu ermöglichen\, bieten wir einen Vortrag an\, in denen die Teilnehmer die verschiedenen Arten von 3D-Druckverfahren\, als auch die Stärken und Schwächen der einzelnen Verfahren kennenlernen können. \n\n\n\n\n\n\n\nOrganisatorisches\n\n\n\nDie Veranstaltung wird online durchgeführt. Nach der Anmeldung erhalten Sie einen Zugangslink per E-Mail. Wir empfehlen eine frühzeitige Anmeldung\, um sich einen Platz zu sichern und alle wichtigen Informationen vor der Veranstaltung zu erhalten. \n\n\n\n\n\n\n\n\n\n\nVortrag von\n\n\n\n\n\n\n\n\n\n\n\n\n\n\n\nKarl Hilbig\n\n\n\nExperte für 3D-Druck \n\n\n\nhilbig@daisec.de \n\n\n\n \n\n\n\n\n\n\n\n\n\n\nAnmeldung\n\n\n\n\n\n\n\n\n\n\n\n\n\nDies ist ein gemeinsames Angebot des DAISEC und des Mittelstand-Digital Zentrums Hannover.Die Anmeldung schließt zwei Tage vor Beginn der Veranstaltung.Bei Fragen kontaktieren Sie uns bitte über info@daisec.de \n\n\n\n\n\n\n\n\n\n\nVeranstaltungsort\n\n\n\n\n\n\n\n\n\n\n\n\n\n\n\n\n\n\n\n\n\n\n\n\n\n\n\n\n	\n		\n\n			\n			\n\n							\n					\n						Kommende Veranstaltungen					\n				\n			\n			\n				\n											\n\n	\n	\n		\n			Apr		\n		\n			20		\n	\n\n\n	\n		\n			\n\n				\n					\n		\n		20.04. – 24.04.	\n	\n					\n	\n		DAISEC auf der HANNOVER MESSE 2026	\n\n				\n\n				\n			\n		\n	\n\n\n											\n\n	\n	\n		\n			Apr		\n		\n			29		\n	\n\n\n	\n		\n			\n\n				\n					\n		\n		14:00 – 15:30	\n	\n					\n	\n		KI-Wissensmanagement mit LLMs\, RAG und lokalen sowie cloudbasierten Ansätzen 1 – Überblick und Orientierung	\n\n				\n\n				\n			\n		\n	\n\n\n											\n\n	\n	\n		\n			May		\n		\n			7		\n	\n\n\n	\n		\n			\n\n				\n					\n		\n		16:30 – 19:00	\n	\n					\n	\n		2. KI Werkbank Forum 2026 (Lingen)	\n\n				\n\n				\n			\n		\n	\n\n\n									\n\n				\n	\n		View Calendar
URL:https://daisec.de/en/event/3d-druck-erleben-27-08-2024/
LOCATION:Online
CATEGORIES:Kurzvortrag "Auf den Punkt"
ATTACH;FMTTYPE=image/png:https://daisec.de/wp-content/uploads/2024/07/2024-08-27-3D-Druck-erleben.png
END:VEVENT
BEGIN:VEVENT
DTSTART;TZID=Europe/Berlin:20240827T140000
DTEND;TZID=Europe/Berlin:20240827T143000
DTSTAMP:20260424T092759
CREATED:20240725T065539Z
LAST-MODIFIED:20240725T065541Z
UID:10000155-1724767200-1724769000@daisec.de
SUMMARY:Die Customer Journey: Kunden digital erreichen
DESCRIPTION:
URL:https://daisec.de/en/event/customer-journey-27-08-2024/
LOCATION:Online
CATEGORIES:Kurzvortrag "Auf den Punkt"
ATTACH;FMTTYPE=image/png:https://daisec.de/wp-content/uploads/2024/07/2024-08-27-Customer-Journey.png
END:VEVENT
BEGIN:VEVENT
DTSTART;TZID=Europe/Berlin:20240827T160000
DTEND;TZID=Europe/Berlin:20240827T173000
DTSTAMP:20260424T092759
CREATED:20240725T072438Z
LAST-MODIFIED:20240725T072440Z
UID:10000164-1724774400-1724779800@daisec.de
SUMMARY:Cybercrime – Der Faktor Mensch im Fokus
DESCRIPTION:
URL:https://daisec.de/en/event/cybercrime-der-faktor-mensch-im-fokus/
LOCATION:Online
ATTACH;FMTTYPE=image/png:https://daisec.de/wp-content/uploads/2024/07/Bild_2024-07-25_092018451.png
END:VEVENT
END:VCALENDAR