BEGIN:VCALENDAR
VERSION:2.0
PRODID:-//DAISEC - ECPv6.15.20//NONSGML v1.0//EN
CALSCALE:GREGORIAN
METHOD:PUBLISH
X-WR-CALNAME:DAISEC
X-ORIGINAL-URL:https://daisec.de/en
X-WR-CALDESC:Events for DAISEC
REFRESH-INTERVAL;VALUE=DURATION:PT1H
X-Robots-Tag:noindex
X-PUBLISHED-TTL:PT1H
BEGIN:VTIMEZONE
TZID:Europe/Berlin
BEGIN:DAYLIGHT
TZOFFSETFROM:+0100
TZOFFSETTO:+0200
TZNAME:CEST
DTSTART:20230326T010000
END:DAYLIGHT
BEGIN:STANDARD
TZOFFSETFROM:+0200
TZOFFSETTO:+0100
TZNAME:CET
DTSTART:20231029T010000
END:STANDARD
BEGIN:DAYLIGHT
TZOFFSETFROM:+0100
TZOFFSETTO:+0200
TZNAME:CEST
DTSTART:20240331T010000
END:DAYLIGHT
BEGIN:STANDARD
TZOFFSETFROM:+0200
TZOFFSETTO:+0100
TZNAME:CET
DTSTART:20241027T010000
END:STANDARD
BEGIN:DAYLIGHT
TZOFFSETFROM:+0100
TZOFFSETTO:+0200
TZNAME:CEST
DTSTART:20250330T010000
END:DAYLIGHT
BEGIN:STANDARD
TZOFFSETFROM:+0200
TZOFFSETTO:+0100
TZNAME:CET
DTSTART:20251026T010000
END:STANDARD
END:VTIMEZONE
BEGIN:VEVENT
DTSTART;TZID=Europe/Berlin:20240905T090000
DTEND;TZID=Europe/Berlin:20240905T103000
DTSTAMP:20260424T075917
CREATED:20240708T114947Z
LAST-MODIFIED:20240708T114948Z
UID:10000123-1725526800-1725532200@daisec.de
SUMMARY:Sicher durchs digitale Handwerk: Digitale Reihe zum Thema Cybersicherheit – Teil 3 Professionell auf Sicherheitsvorfälle reagieren
DESCRIPTION:
URL:https://daisec.de/en/event/sicher-durchs-digitale-handwerk-digitale-reihe-zum-thema-cybersicherheit-teil-3-professionell-auf-sicherheitsvorfaelle-reagieren/
LOCATION:Online
CATEGORIES:Öffentliche Veranstaltung
ATTACH;FMTTYPE=image/png:https://daisec.de/wp-content/uploads/2024/07/Bild_2024-07-08_134135390.png
ORGANIZER;CN="Baugewerbe-Verband Niedersachsen":MAILTO:kontakt@bvn.de
END:VEVENT
END:VCALENDAR