BEGIN:VCALENDAR
VERSION:2.0
PRODID:-//DAISEC - ECPv6.15.20//NONSGML v1.0//EN
CALSCALE:GREGORIAN
METHOD:PUBLISH
X-ORIGINAL-URL:https://daisec.de/en
X-WR-CALDESC:Events for DAISEC
REFRESH-INTERVAL;VALUE=DURATION:PT1H
X-Robots-Tag:noindex
X-PUBLISHED-TTL:PT1H
BEGIN:VTIMEZONE
TZID:Europe/Berlin
BEGIN:DAYLIGHT
TZOFFSETFROM:+0100
TZOFFSETTO:+0200
TZNAME:CEST
DTSTART:20240331T010000
END:DAYLIGHT
BEGIN:STANDARD
TZOFFSETFROM:+0200
TZOFFSETTO:+0100
TZNAME:CET
DTSTART:20241027T010000
END:STANDARD
BEGIN:DAYLIGHT
TZOFFSETFROM:+0100
TZOFFSETTO:+0200
TZNAME:CEST
DTSTART:20250330T010000
END:DAYLIGHT
BEGIN:STANDARD
TZOFFSETFROM:+0200
TZOFFSETTO:+0100
TZNAME:CET
DTSTART:20251026T010000
END:STANDARD
BEGIN:DAYLIGHT
TZOFFSETFROM:+0100
TZOFFSETTO:+0200
TZNAME:CEST
DTSTART:20260329T010000
END:DAYLIGHT
BEGIN:STANDARD
TZOFFSETFROM:+0200
TZOFFSETTO:+0100
TZNAME:CET
DTSTART:20261025T010000
END:STANDARD
END:VTIMEZONE
BEGIN:VEVENT
DTSTART;TZID=Europe/Berlin:20250305T133000
DTEND;TZID=Europe/Berlin:20250305T173000
DTSTAMP:20260423T175340
CREATED:20241202T154423Z
LAST-MODIFIED:20241202T155510Z
UID:10000184-1741181400-1741195800@daisec.de
SUMMARY:Digitale Geschäftsprozesse
DESCRIPTION:Digitale Geschäftsprozesse sind ein zentraler Bestandteil der modernen Wirtschaft und prägen zunehmend die Art und Weise\, wie Unternehmen agieren und wachsen. Sie umfassen die digitale Abbildung\, Steuerung und Optimierung von Arbeitsabläufen\, um Effizienz\, Transparenz und Flexibilität zu erhöhen. Durch den Einsatz von Technologien wie Automatisierung\, Cloud-Lösungen und Datenanalyse können Unternehmen nicht nur Kosten senken\, sondern auch innovative Geschäftsmodelle entwickeln. Digitale Prozesse sind somit ein wichtiger Treiber für Wettbewerbsfähigkeit und langfristigen Erfolg in einer dynamischen und technologiegetriebenen Welt. \n\n\n\n\n\n\n\nLerninhalte\n\n\n\nDie Prozessanalyse und -modellierung schafft Transparenz. So können Schwachstellen schnell erkannt und Arbeitsabläufe verbessert und einfacher gestaltet werden. Erfahren Sie\, wie Sie Digitalisierung für Ihre Zeiterfassung\, Dokumentation oder Ihr Auftragsmanagement nutzen können. Anhand praktischer Beispiele und Anwendungsfällen lernen Sie Best Practices für digitale Geschäftsprozesse und Einsatzmöglichkeiten für Ihr Unternehmen kennen. \n\n\n\n\n\n\n\n\nGrundlagen von Prozessen\n\n\n\nBusiness Prozess Modeling Notation\n\n\n\nEigene Prozesse visualisieren\n\n\n\n\n\n\n\n\nIhr Vorteil\n\n\n\n\nSie verstehen die Grundlagen von Prozessen\n\n\n\nSie erhalten Einblicke in die Visualisierung von Prozessen\n\n\n\nSie erhalten Einblicke\, wie man Prozess digitaler aufstellen kann\n\n\n\n\n\n\n\n\nZielgruppe und Vorkenntnisse\n\n\n\nKMU (Allgemeine Prozesse im Unternehmen müssen klar sein; kein Expertenwissen notwendig) \n\n\n\n\n\n\n\nGebühren\n\n\n\nDiese Veranstaltungsreihe ist kostenfrei. \n\n\n\n\n\n\n\nJetzt kostenlos anmelden!\n\n\n\n\n\n\n\n\n\nHinweis\n\n\n\nDie Plätze für die Teilnahme an der Veranstaltung sind begrenzt. Die Anmeldung schließt 3 Tage vor der Veranstaltung. Bei Fragen wenden Sie sich bitte an den obenstehenden Kontakt. \n\n\n\n\n\n\n\n\n\n\nKontakt\n\n\n\n\n\n\n\n\n\n\n\n\n\n\n\nRenata Latka\n\n\n\nExpertin für Digitalisierungstransformation \n\n\n\nlatka@daisec.de \n\n\n\n\n\n\n\n\n\n\n\n\n\n\n\n\n\n\n\n\n\n\n\n\n\n\n\n\n\n\n\n\n\n\n\n\n	\n		\n\n			\n			\n\n							\n					\n						Kommende Veranstaltungen					\n				\n			\n			\n				\n											\n\n	\n	\n		\n			Apr		\n		\n			20		\n	\n\n\n	\n		\n			\n\n				\n					\n		\n		20.04. – 24.04.	\n	\n					\n	\n		DAISEC auf der HANNOVER MESSE 2026	\n\n				\n\n				\n			\n		\n	\n\n\n											\n\n	\n	\n		\n			Apr		\n		\n			29		\n	\n\n\n	\n		\n			\n\n				\n					\n		\n		14:00 – 15:30	\n	\n					\n	\n		KI-Wissensmanagement mit LLMs\, RAG und lokalen sowie cloudbasierten Ansätzen 1 – Überblick und Orientierung	\n\n				\n\n				\n			\n		\n	\n\n\n											\n\n	\n	\n		\n			May		\n		\n			7		\n	\n\n\n	\n		\n			\n\n				\n					\n		\n		16:30 – 19:00	\n	\n					\n	\n		2. KI Werkbank Forum 2026 (Lingen)	\n\n				\n\n				\n			\n		\n	\n\n\n									\n\n				\n	\n		View Calendar	\n\n\n					\n	\n\n\n\n\n\n\n\n	\n		\n\n			\n			\n\n							\n					\n						Upcoming Events					\n				\n			\n			\n				\n											\n\n	\n	\n		\n			Apr		\n		\n			20		\n	\n\n\n	\n		\n			\n\n				\n					\n		\n		20.04. – 24.04.	\n	\n					\n	\n		DAISEC auf der HANNOVER MESSE 2026	\n\n				\n\n				\n			\n		\n	\n\n\n											\n\n	\n	\n		\n			Apr		\n		\n			29		\n	\n\n\n	\n		\n			\n\n				\n					\n		\n		14:00 – 15:30	\n	\n					\n	\n		KI-Wissensmanagement mit LLMs\, RAG und lokalen sowie cloudbasierten Ansätzen 1 – Überblick und Orientierung	\n\n				\n\n				\n			\n		\n	\n\n\n											\n\n	\n	\n		\n			May		\n		\n			7		\n	\n\n\n	\n		\n			\n\n				\n					\n		\n		16:30 – 19:00	\n	\n					\n	\n		2. KI Werkbank Forum 2026 (Lingen)	\n\n				\n\n				\n			\n		\n	\n\n\n											\n\n	\n	\n		\n			May		\n		\n			12		\n	\n\n\n	\n		\n			\n\n				\n					\n		\n		10:00 – 11:30	\n	\n					\n	\n		KI-Agenten in der Produktion	\n\n				\n\n				\n			\n		\n	\n\n\n									\n\n				\n	\n		View Calendar
URL:https://daisec.de/en/event/digitale-geschaeftsprozesse/
LOCATION:IT-Zentrum Lingen\, Kaiserstraße 10B\, Lingen (Ems)\, 49809
CATEGORIES:Webinar
ATTACH;FMTTYPE=image/png:https://daisec.de/wp-content/uploads/2024/12/2025-03-05-DAISEC-Digitale-Geschaeftsprozesse.png
END:VEVENT
END:VCALENDAR