BEGIN:VCALENDAR
VERSION:2.0
PRODID:-//DAISEC - ECPv6.15.20//NONSGML v1.0//EN
CALSCALE:GREGORIAN
METHOD:PUBLISH
X-ORIGINAL-URL:https://daisec.de/en
X-WR-CALDESC:Events for DAISEC
REFRESH-INTERVAL;VALUE=DURATION:PT1H
X-Robots-Tag:noindex
X-PUBLISHED-TTL:PT1H
BEGIN:VTIMEZONE
TZID:Europe/Berlin
BEGIN:DAYLIGHT
TZOFFSETFROM:+0100
TZOFFSETTO:+0200
TZNAME:CEST
DTSTART:20240331T010000
END:DAYLIGHT
BEGIN:STANDARD
TZOFFSETFROM:+0200
TZOFFSETTO:+0100
TZNAME:CET
DTSTART:20241027T010000
END:STANDARD
BEGIN:DAYLIGHT
TZOFFSETFROM:+0100
TZOFFSETTO:+0200
TZNAME:CEST
DTSTART:20250330T010000
END:DAYLIGHT
BEGIN:STANDARD
TZOFFSETFROM:+0200
TZOFFSETTO:+0100
TZNAME:CET
DTSTART:20251026T010000
END:STANDARD
BEGIN:DAYLIGHT
TZOFFSETFROM:+0100
TZOFFSETTO:+0200
TZNAME:CEST
DTSTART:20260329T010000
END:DAYLIGHT
BEGIN:STANDARD
TZOFFSETFROM:+0200
TZOFFSETTO:+0100
TZNAME:CET
DTSTART:20261025T010000
END:STANDARD
END:VTIMEZONE
BEGIN:VEVENT
DTSTART;TZID=Europe/Berlin:20250610T000000
DTEND;TZID=Europe/Berlin:20250610T235959
DTSTAMP:20260423T092951
CREATED:20250319T085840Z
LAST-MODIFIED:20250319T085906Z
UID:10000245-1749513600-1749599999@daisec.de
SUMMARY:NBank-Beratungssprechtag in Hannover (Handwerkskammer)
DESCRIPTION:
URL:https://daisec.de/en/event/nbank-beratungssprechtag-in-hannover-handwerkskammer-2/
LOCATION:Handwerkskammer Hannover\, Berliner Allee 17\, Hannover\, 30175
CATEGORIES:Öffentliche Veranstaltung
ATTACH;FMTTYPE=image/png:https://daisec.de/wp-content/uploads/2025/03/DAISEC-Template-NBank-Finanzierungsberatung.png
END:VEVENT
END:VCALENDAR