BEGIN:VCALENDAR
VERSION:2.0
PRODID:-//DAISEC - ECPv6.15.20//NONSGML v1.0//EN
CALSCALE:GREGORIAN
METHOD:PUBLISH
X-ORIGINAL-URL:https://daisec.de/en
X-WR-CALDESC:Events for DAISEC
REFRESH-INTERVAL;VALUE=DURATION:PT1H
X-Robots-Tag:noindex
X-PUBLISHED-TTL:PT1H
BEGIN:VTIMEZONE
TZID:Europe/Berlin
BEGIN:DAYLIGHT
TZOFFSETFROM:+0100
TZOFFSETTO:+0200
TZNAME:CEST
DTSTART:20240331T010000
END:DAYLIGHT
BEGIN:STANDARD
TZOFFSETFROM:+0200
TZOFFSETTO:+0100
TZNAME:CET
DTSTART:20241027T010000
END:STANDARD
BEGIN:DAYLIGHT
TZOFFSETFROM:+0100
TZOFFSETTO:+0200
TZNAME:CEST
DTSTART:20250330T010000
END:DAYLIGHT
BEGIN:STANDARD
TZOFFSETFROM:+0200
TZOFFSETTO:+0100
TZNAME:CET
DTSTART:20251026T010000
END:STANDARD
BEGIN:DAYLIGHT
TZOFFSETFROM:+0100
TZOFFSETTO:+0200
TZNAME:CEST
DTSTART:20260329T010000
END:DAYLIGHT
BEGIN:STANDARD
TZOFFSETFROM:+0200
TZOFFSETTO:+0100
TZNAME:CET
DTSTART:20261025T010000
END:STANDARD
END:VTIMEZONE
BEGIN:VEVENT
DTSTART;TZID=Europe/Berlin:20250924T120000
DTEND;TZID=Europe/Berlin:20250924T130000
DTSTAMP:20260423T130247
CREATED:20250814T091031Z
LAST-MODIFIED:20250922T113444Z
UID:10000271-1758715200-1758718800@daisec.de
SUMMARY:Beantragung von Fördermitteln für KI-Projekte - Erfolgsaussichten und Tipps
DESCRIPTION:Sie möchten wissen\, welche Förderprogramme die digitale Transformation – insbesondere den Einsatz von Künstlicher Intelligenz (KI) – unterstützen und wie Sie Ihre Chancen bei der Antragstellung verbessern können?Dann ist dieses Webinar genau das Richtige für Sie! \n\n\n\n\n\n\n\nUnser Angebot\n\n\n\nIn kompakten 60 Minuten erhalten Sie: \n\n\n\n\n\n\n\n\neinen Überblick über regionale\, landesweite und bundesweite Förderprogramme mit KI-Bezug\, \n\n\n\nEinblicke in eine Erfolgsgeschichte aus der Praxis – Unternehmerin Anke Freund berichtet von ihren Erfahrungen mit dem Förderprogramm „Green Economy“\, \n\n\n\nwertvolle Tipps für eine erfolgreiche Antragstellung und Hinweise zu Unterstützungsangeboten.\n\n\n\n\n\n\n\n\nAbgerundet wird die Veranstaltung mit einer Fragerunde\, bei der Sie Ihre individuellen Fragen stellen können. \n\n\n\n\n\n\n\nAgenda\n\n\n\n12:00 – 12:05 | Begrüßung und EinführungVorstellung der beteiligten Organisationen (DAISEC\, Wirtschaftsförderung Region Hannover\, NBank). Überblick über Ziel und Ablauf des Webinars. \n\n\n\n12:05 – 12:15 | Überblick über Förderprogramme mit KI-BezugRegionale\, landesweite und bundesweite Programme Fördermöglichkeiten mit Bezug zur digitalen Transformation. \n\n\n\n12:15 – 12:30 | Erfolgsgeschichte aus der PraxisInterview mit der Unternehmerin Anke Freund\, Tischlerei Dein Freund / Freund-IN über Erfahrungen mit dem Förderprogramm „Green Economy“. \n\n\n\n12:30 – 12:45 | Tipps für eine erfolgreiche AntragstellungPraktische Hinweise und Unterstützungsangebote für Antragsteller. \n\n\n\n12:45 – 13:00 | Fragerunde und AusblickGelegenheit für Fragen und Blick auf den nächsten Termin \n\n\n\n\n\n\n\nZielgruppe und Vorkenntnisse\n\n\n\nDas Webinar richtet sich an Unternehmer und Unternehmerinnen\, die sich über Fördermöglichkeiten mit Bezug zur digitalen Transformation\, insb. des Einsatzes von Künstlicher Intelligenz (KI)\, informieren möchten. \n\n\n\n\n\n\n\nGebühren\n\n\n\nDiese Veranstaltungsreihe ist kostenfrei. \n\n\n\n\n\n\n\n\n\n\n\n\n\nOrganisatorisches\n\n\n\nDie Vorträge finden online statt. Sie erhalten rechtzeitig vor dem Termin einen Link zum Online-Meeting. \n\n\n\nDie Anmeldung ist geschlossen.Sollten Sie Fragen oder Probleme mit der Anmeldung haben\,wenden Sie sich bitte an Walter Pirk unter pirk@daisec.de. \n\n\n\n\n\n\n\nVeranstaltungsort\n\n\n\n\n\n\n\n\n\n\n\n\n\n\n\n\n\n\n\n\n\n\nKontakt\n\n\n\n\n\n\n\n\n\n\n\n\n\n\n\nWalter Pirk\n\n\n\nExperte für handwerksspezifische Anforderungen an Technologie und Innovationsprozesse \n\n\n\npirk@daisec.de \n\n\n\n\n\n\n\nPartner\n\n\n\n\n\n\n\nDr. Jöran Wrana\n\n\n\nBetriebsberatung Innovation und TechnologieRegion HannoverWirtschaftsförderung \n\n\n\n\n\n\n\n\n\n\n\n\n\n\n\n\n\n\n\nDr. Frank Wessel\n\n\n\nFörderberaterEnterprise Europe Network (EEN) \n\n\n\n\n\n\n\n\n\n\n\n\n\n\n\n\n\n\n\n\n\n\n\n\n	\n		\n\n			\n			\n\n							\n					\n						Kommende Veranstaltungen					\n				\n			\n			\n				\n											\n\n	\n	\n		\n			Apr		\n		\n			20		\n	\n\n\n	\n		\n			\n\n				\n					\n		\n		20.04. – 24.04.	\n	\n					\n	\n		DAISEC auf der HANNOVER MESSE 2026	\n\n				\n\n				\n			\n		\n	\n\n\n											\n\n	\n	\n		\n			Apr		\n		\n			29		\n	\n\n\n	\n		\n			\n\n				\n					\n		\n		14:00 – 15:30	\n	\n					\n	\n		KI-Wissensmanagement mit LLMs\, RAG und lokalen sowie cloudbasierten Ansätzen 1 – Überblick und Orientierung	\n\n				\n\n				\n			\n		\n	\n\n\n											\n\n	\n	\n		\n			May		\n		\n			7		\n	\n\n\n	\n		\n			\n\n				\n					\n		\n		16:30 – 19:00	\n	\n					\n	\n		2. KI Werkbank Forum 2026 (Lingen)	\n\n				\n\n				\n			\n		\n	\n\n\n									\n\n				\n	\n		View Calendar
URL:https://daisec.de/en/event/beantragung-von-fordermitteln-24-09-2025/
LOCATION:Online
CATEGORIES:Webinar
ATTACH;FMTTYPE=image/png:https://daisec.de/wp-content/uploads/2025/08/2025-09-24-DAISEC-Event-Foerdermittel-Beantragung-1.png
END:VEVENT
END:VCALENDAR