BEGIN:VCALENDAR
VERSION:2.0
PRODID:-//DAISEC - ECPv6.15.20//NONSGML v1.0//EN
CALSCALE:GREGORIAN
METHOD:PUBLISH
X-ORIGINAL-URL:https://daisec.de/en
X-WR-CALDESC:Events for DAISEC
REFRESH-INTERVAL;VALUE=DURATION:PT1H
X-Robots-Tag:noindex
X-PUBLISHED-TTL:PT1H
BEGIN:VTIMEZONE
TZID:Europe/Berlin
BEGIN:DAYLIGHT
TZOFFSETFROM:+0100
TZOFFSETTO:+0200
TZNAME:CEST
DTSTART:20250330T010000
END:DAYLIGHT
BEGIN:STANDARD
TZOFFSETFROM:+0200
TZOFFSETTO:+0100
TZNAME:CET
DTSTART:20251026T010000
END:STANDARD
BEGIN:DAYLIGHT
TZOFFSETFROM:+0100
TZOFFSETTO:+0200
TZNAME:CEST
DTSTART:20260329T010000
END:DAYLIGHT
BEGIN:STANDARD
TZOFFSETFROM:+0200
TZOFFSETTO:+0100
TZNAME:CET
DTSTART:20261025T010000
END:STANDARD
BEGIN:DAYLIGHT
TZOFFSETFROM:+0100
TZOFFSETTO:+0200
TZNAME:CEST
DTSTART:20270328T010000
END:DAYLIGHT
BEGIN:STANDARD
TZOFFSETFROM:+0200
TZOFFSETTO:+0100
TZNAME:CET
DTSTART:20271031T010000
END:STANDARD
END:VTIMEZONE
BEGIN:VEVENT
DTSTART;TZID=Europe/Berlin:20260129T130000
DTEND;TZID=Europe/Berlin:20260129T170000
DTSTAMP:20260422T114601
CREATED:20251218T091536Z
LAST-MODIFIED:20251218T091621Z
UID:10000287-1769691600-1769706000@daisec.de
SUMMARY:Kreative KI-Potenziale entfalten – Menschen und Innovation in Balance bringen
DESCRIPTION:Workshop
URL:https://daisec.de/en/event/kreative-ki-potenziale-entfalten-menschen-und-innovation-in-balance-bringen-2/
ATTACH;FMTTYPE=image/jpeg:https://daisec.de/wp-content/uploads/2025/04/AdobeStock_588747619.jpg
END:VEVENT
BEGIN:VEVENT
DTSTART;TZID=Europe/Berlin:20260129T140000
DTEND;TZID=Europe/Berlin:20260129T150000
DTSTAMP:20260422T114601
CREATED:20260108T093449Z
LAST-MODIFIED:20260108T093541Z
UID:10000292-1769695200-1769698800@daisec.de
SUMMARY:Die BSFZ informiert
DESCRIPTION:Die Steuerliche Forschungszulage wurde durch das Steuerliche Investitionssofortprogramm und das Wachstumschancengesetz erheblich ausgeweitet und angepasst. Dazu bieten wir als digitales Format in 60 Minuten einen kompakten Einstieg\, bei dem wir die wichtigsten Informationen zum Antrag auf Bescheinigung über Forschung und Entwicklung bei der BSFZ vorstellen und am Ende der Veranstaltung Fragen beantworten.
URL:https://daisec.de/en/event/die-bsfz-informiert/
ATTACH;FMTTYPE=image/jpeg:https://daisec.de/wp-content/uploads/2025/04/AdobeStock_588747619.jpg
END:VEVENT
END:VCALENDAR