BEGIN:VCALENDAR
VERSION:2.0
PRODID:-//DAISEC - ECPv6.15.20//NONSGML v1.0//EN
CALSCALE:GREGORIAN
METHOD:PUBLISH
X-ORIGINAL-URL:https://daisec.de/en
X-WR-CALDESC:Events for DAISEC
REFRESH-INTERVAL;VALUE=DURATION:PT1H
X-Robots-Tag:noindex
X-PUBLISHED-TTL:PT1H
BEGIN:VTIMEZONE
TZID:Europe/Berlin
BEGIN:DAYLIGHT
TZOFFSETFROM:+0100
TZOFFSETTO:+0200
TZNAME:CEST
DTSTART:20250330T010000
END:DAYLIGHT
BEGIN:STANDARD
TZOFFSETFROM:+0200
TZOFFSETTO:+0100
TZNAME:CET
DTSTART:20251026T010000
END:STANDARD
BEGIN:DAYLIGHT
TZOFFSETFROM:+0100
TZOFFSETTO:+0200
TZNAME:CEST
DTSTART:20260329T010000
END:DAYLIGHT
BEGIN:STANDARD
TZOFFSETFROM:+0200
TZOFFSETTO:+0100
TZNAME:CET
DTSTART:20261025T010000
END:STANDARD
BEGIN:DAYLIGHT
TZOFFSETFROM:+0100
TZOFFSETTO:+0200
TZNAME:CEST
DTSTART:20270328T010000
END:DAYLIGHT
BEGIN:STANDARD
TZOFFSETFROM:+0200
TZOFFSETTO:+0100
TZNAME:CET
DTSTART:20271031T010000
END:STANDARD
END:VTIMEZONE
BEGIN:VEVENT
DTSTART;TZID=Europe/Berlin:20260420T000000
DTEND;TZID=Europe/Berlin:20260424T235959
DTSTAMP:20260422T035209
CREATED:20260325T150058Z
LAST-MODIFIED:20260413T104859Z
UID:10000300-1776643200-1777075199@daisec.de
SUMMARY:DAISEC auf der HANNOVER MESSE 2026
DESCRIPTION:Gespräch vor Ort vereinbaren\n\n\n\nWo finde ich den Messestand?\n\n\n\nKostenloses Ticket sichern\n\n\n\n\n\n\n\n\n\n\n\n\n\n\n\n\nGespräche vor Ort vereinbaren\n\n\n\n\n\n\n\n\n\nAn unserem Messestand können Sie direkt mit unseren DAISEC-ExpertInnen über Ihre Digitalisierungsthemen sprechen. Wir sind zu verschiedenen Schwerpunkten an den Messetagen für Sie da – vereinbaren Sie ein kostenloses Orientierungsgespräch über unser Kontaktformular! \n\n\n\n\n\n\nHier klicken und Termin anfragen\n\n\n\n\n\n\n\n\n\n\nSchauen Sie außerdem vorbei\, wenn Sie eine konkrete Idee für den Einsatz von KI in Ihrem Unternehmen haben und bei der Umsetzung Unterstützung oder Tipps benötigen – wir besprechen erste Details mit Ihnen und vereinbaren einen Folgetermin. Zudem geben wir Ihnen gern Tipps\, mit welchen unserer kostenlosen Angebote Ihr Unternehmen in den Bereichen Digitalisierung und Cybersicherheit wachsen kann. Wir freuen uns auf viele interessierte BesucherInnen und einen spannenden Austausch miteinander!  \n\n\n\n\n\n\n\n\n\n\n\n\n\n\n\nUnser Messestand – so finden Sie uns\n\n\n\nUnser Stand befindet sich auf dem Messegelände Hannover in Halle 16. Im südlichen Teil der Halle finden Sie den Gemeinschaftsstand HANNOVER (Stand F09) von hannover impuls\, denn wir gemeinsam mit weiteren Einrichtungen aus Hannover sowie Partnern teilen. Schauen Sie vorbei! \n\n\n\n\n\n\n			\n				\n			\n		\n\n\n\n\n\n\n\n\n\n\n\n\n\n\n\n\n\nKostenloses Ticket sichern\n\n\n\nSie haben noch kein Ticket für die HANNOVER MESSE? Kein Problem – nutzen Sie unseren Ticketcode muGLo und holen Sie sich über Klick auf den Button ein kostenloses Besucherticket für den gesamten Messezeitraum: \n\n\n\n\n\n\n\n\nKostenloses Ticket erhalten\n\n\n\n\n\n\n\n\n\n\n\n\n\n\n\n\nJetzt Gespräch vereinbaren!\n\n\n\nInteressiert? Dann vereinbaren Sie mit uns einen Termin für ein individuelles Gespräch zu Ihren Themen direkt auf der HANNOVER MESSE! Wir freuen uns\, von Ihnen zu hören: \n\n\n\n\n\n\n\n\n\n\n\n\nVorname *Nachname *E-Mail Adresse *TelefonnummerUnternehmenWebseiteThemenHandwerkstechnologienKünstliche IntelligenzFortbildungsangeboteCybersicherheitAnderesZu welchem Themenfeld möchten Sie ein Gespräch vereinbaren?Nachricht *0 / 180 Nachricht senden \n\n\n\n\n\n\n\n\n\n\n\n\n\n\n\n\n\n\n	\n		\n\n			\n			\n\n							\n					\n						Kommende Veranstaltungen					\n				\n			\n			\n				\n											\n\n	\n	\n		\n			Apr		\n		\n			20		\n	\n\n\n	\n		\n			\n\n				\n					\n		\n		20.04. – 24.04.	\n	\n					\n	\n		DAISEC auf der HANNOVER MESSE 2026	\n\n				\n\n				\n			\n		\n	\n\n\n											\n\n	\n	\n		\n			Apr		\n		\n			29		\n	\n\n\n	\n		\n			\n\n				\n					\n		\n		14:00 – 15:30	\n	\n					\n	\n		KI-Wissensmanagement mit LLMs\, RAG und lokalen sowie cloudbasierten Ansätzen 1 – Überblick und Orientierung	\n\n				\n\n				\n			\n		\n	\n\n\n											\n\n	\n	\n		\n			May		\n		\n			7		\n	\n\n\n	\n		\n			\n\n				\n					\n		\n		16:30 – 19:00	\n	\n					\n	\n		2. KI Werkbank Forum 2026 (Lingen)	\n\n				\n\n				\n			\n		\n	\n\n\n									\n\n				\n	\n		View Calendar
URL:https://daisec.de/en/event/daisec-hannover-messe-2026/
CATEGORIES:Öffentliche Veranstaltung
ATTACH;FMTTYPE=image/png:https://daisec.de/wp-content/uploads/2026/03/2026-03-DAISEC-auf-HANNOVER-MESSE.png
END:VEVENT
BEGIN:VEVENT
DTSTART;TZID=Europe/Berlin:20260429T140000
DTEND;TZID=Europe/Berlin:20260429T153000
DTSTAMP:20260422T035210
CREATED:20260408T123949Z
LAST-MODIFIED:20260409T094325Z
UID:10000302-1777471200-1777476600@daisec.de
SUMMARY:KI-Wissensmanagement mit LLMs\, RAG und lokalen sowie cloudbasierten Ansätzen 1 – Überblick und Orientierung
DESCRIPTION:Starttermin: \n\n\n\n\n\n\n\n\n\n\n\n\n\n\n\n\n\n\nIn diesem Workshop zeigen wir\, wie Künstliche Intelligenz – insbesondere Large Language Models (LLMs) in Kombination mit Retrieval-Augmented Generation (RAG) – genutzt werden kann\, um ein intelligentes Wissensmanagement auf Basis bestehender Dokumente aufzubauen. \n\n\n\nIm Zentrum steht die Frage\, wie sich vorhandene schriftliche Unterlagen\, etwa aus dem Qualitätsmanagement oder anderen dokumentengetriebenen Bereichen\, so aufbereiten lassen\, dass sie für KI-Systeme nutzbar werden und als Grundlage für ein modernes\, unterstützendes Wissensmanagement dienen können. \n\n\n\nDabei werden sowohl cloudbasierte Ansätze als auch lokale bzw. On-Premises-Varianten betrachtet. Anhand konkreter Beispiele wird gezeigt\, welche technischen Bausteine dafür notwendig sind\, wie die Verarbeitung von Dokumenten in einem RAG-System funktioniert und welche Unterschiede sich in Bezug auf Aufwand\, Datenschutz\, Flexibilität und Einsatzmöglichkeiten ergeben. \n\n\n\n\n\n\n\nModule wählbar\n\n\n\nDer Workshop ist modular aufgebaut. \n\n\n\n\n\n\n\nDieser Termin (29.04.2026): Überblick und Orientierung \n\n\n\n– Grundlagen\, zentrale Begriffe und typische Ansätze im KI-Wissensmanagement– Aufbau von KI-gestützten Systemen (Cloud vs. lokal) sowie Praxis von RAG– Überblick über mögliche Vertiefungsthemen und gemeinsame Priorisierung \n\n\n\n\n\n\n\nSchwerpunkt-Termin (13.05.2026): \n\n\n\nWerden am 29.04. gewählt\, sodass konkret darauf eingegangen werden kann\, unter anderem:– Grundlagen zu LLMs\, RAG und Vektor-Datenbanken– Aufbereitung bestehender Dokumente für KI-Systeme– Vergleich von Cloud- und On-Premises-Ansätzen– Demonstration konkreter Umsetzungsvarianten– optionale Vertiefung lokaler Setups und automatisierter Prozesse \n\n\n\n\nKI-Wissensmanagement mit LLMs\, RAG und lokalen sowie cloudbasierten Ansätzen 2 – Vertiefung\n\n\n\n\n\n\n\n\nIhre Vorteile\n\n\n\n– Einschätzung und Auswahl passender KI-Wissensmanagement-Lösungen– Identifikation relevanter Vertiefungsthemen für eigene Projekte– Vorbereitung für den Baustein „Schwerpunkt-Themen“ \n\n\n\n\n\n\n\nGebühren\n\n\n\nDiese Veranstaltungsreihe ist kostenfrei. \n\n\n\n\n\n\n\nJetzt kostenlos anmelden!\n\n\n\n\n\n\n\n\n\nTechnische Voraussetzungen und Online-Zugang\n\n\n\nRechtzeitig vor der Veranstaltung erhalten Sie einen Link für die Online-Sitzungen\, über welchen Sie sich einwählen können. \n\n\n\nZur Teilnahme benötigen Sie einen internetfähigen PC\, Laptop oder Netbook mit Kamera\, Mikrofon\, Lautsprecher oder Headset. Auf dem Smartphone werden Präsentationen nur sehr klein angezeigt. \n\n\n\n\n\n\n\nVeranstaltungsort\n\n\n\n\n\n\n\n\n\n\n\n\n\n\n\n\n\n\n\n\n\n\nKontakt\n\n\n\n\n\n\n\n\n\n\n\n\n\n\n\nRenata Latka\n\n\n\nExpertin für Digitalisierungstransformation \n\n\n\nlatka@daisec.de \n\n\n\n\n\n\n\nReferent\n\n\n\n\n\n\n\nGeorg Wernitznig\n\n\n\nExperte des DIHOST \n\n\n\n\n\n\n\n\n\n\n\n\n\n\n\n\n\n\n\n\n\n\n\n\n	\n		\n\n			\n			\n\n							\n					\n						Kommende Veranstaltungen					\n				\n			\n			\n				\n											\n\n	\n	\n		\n			Apr		\n		\n			20		\n	\n\n\n	\n		\n			\n\n				\n					\n		\n		20.04. – 24.04.	\n	\n					\n	\n		DAISEC auf der HANNOVER MESSE 2026	\n\n				\n\n				\n			\n		\n	\n\n\n											\n\n	\n	\n		\n			Apr		\n		\n			29		\n	\n\n\n	\n		\n			\n\n				\n					\n		\n		14:00 – 15:30	\n	\n					\n	\n		KI-Wissensmanagement mit LLMs\, RAG und lokalen sowie cloudbasierten Ansätzen 1 – Überblick und Orientierung	\n\n				\n\n				\n			\n		\n	\n\n\n											\n\n	\n	\n		\n			May		\n		\n			7		\n	\n\n\n	\n		\n			\n\n				\n					\n		\n		16:30 – 19:00	\n	\n					\n	\n		2. KI Werkbank Forum 2026 (Lingen)	\n\n				\n\n				\n			\n		\n	\n\n\n									\n\n				\n	\n		View Calendar
URL:https://daisec.de/en/event/ki-wissensmanagement-llms-rag-cloud-uberblick-und-orientierung-29-04-26/
LOCATION:Online
CATEGORIES:Webinar,Workshops
ATTACH;FMTTYPE=image/png:https://daisec.de/wp-content/uploads/2026/04/2026-04-DAISEC-KI-Wissensmanagement-LLM-RAG-Cloud.png
END:VEVENT
END:VCALENDAR