BEGIN:VCALENDAR
VERSION:2.0
PRODID:-//DAISEC - ECPv6.15.20//NONSGML v1.0//EN
CALSCALE:GREGORIAN
METHOD:PUBLISH
X-ORIGINAL-URL:https://daisec.de
X-WR-CALDESC:Veranstaltungen für DAISEC
REFRESH-INTERVAL;VALUE=DURATION:PT1H
X-Robots-Tag:noindex
X-PUBLISHED-TTL:PT1H
BEGIN:VTIMEZONE
TZID:Europe/Berlin
BEGIN:DAYLIGHT
TZOFFSETFROM:+0100
TZOFFSETTO:+0200
TZNAME:CEST
DTSTART:20230326T010000
END:DAYLIGHT
BEGIN:STANDARD
TZOFFSETFROM:+0200
TZOFFSETTO:+0100
TZNAME:CET
DTSTART:20231029T010000
END:STANDARD
BEGIN:DAYLIGHT
TZOFFSETFROM:+0100
TZOFFSETTO:+0200
TZNAME:CEST
DTSTART:20240331T010000
END:DAYLIGHT
BEGIN:STANDARD
TZOFFSETFROM:+0200
TZOFFSETTO:+0100
TZNAME:CET
DTSTART:20241027T010000
END:STANDARD
BEGIN:DAYLIGHT
TZOFFSETFROM:+0100
TZOFFSETTO:+0200
TZNAME:CEST
DTSTART:20250330T010000
END:DAYLIGHT
BEGIN:STANDARD
TZOFFSETFROM:+0200
TZOFFSETTO:+0100
TZNAME:CET
DTSTART:20251026T010000
END:STANDARD
END:VTIMEZONE
BEGIN:VEVENT
DTSTART;TZID=Europe/Berlin:20240118T180000
DTEND;TZID=Europe/Berlin:20240118T210000
DTSTAMP:20260425T034457
CREATED:20240108T142315Z
LAST-MODIFIED:20240117T084128Z
UID:10000046-1705600800-1705611600@daisec.de
SUMMARY:Die ganze Welt des E-Sports
DESCRIPTION:Der DAISEC ist Partner beim Austauschevent zu E-Sports von Digitales Hannover: tauchen Sie ein in die spannende Welt des E-Sports und lernen Sie das Weltmeisterteam aus Hannover und dessen sportliche Heimat\, das eSport-Innovation-Hub\, kennen.
URL:https://daisec.de/event/e-sports-digitales-hannover/
LOCATION:Dr. Buhmann Schule & Akademie\, Prinzenstrasse 2\, Hannover\, 30159
CATEGORIES:Öffentliche Veranstaltung
ATTACH;FMTTYPE=image/png:https://daisec.de/wp-content/uploads/2024/01/Bild_2024-01-08_145520763.png
ORGANIZER;CN="Digitales Hannover e.V.":MAILTO:info@digitaleshannover.de
END:VEVENT
END:VCALENDAR