BEGIN:VCALENDAR
VERSION:2.0
PRODID:-//DAISEC - ECPv6.15.20//NONSGML v1.0//EN
CALSCALE:GREGORIAN
METHOD:PUBLISH
X-WR-CALNAME:DAISEC
X-ORIGINAL-URL:https://daisec.de
X-WR-CALDESC:Veranstaltungen für DAISEC
REFRESH-INTERVAL;VALUE=DURATION:PT1H
X-Robots-Tag:noindex
X-PUBLISHED-TTL:PT1H
BEGIN:VTIMEZONE
TZID:Europe/Berlin
BEGIN:DAYLIGHT
TZOFFSETFROM:+0100
TZOFFSETTO:+0200
TZNAME:CEST
DTSTART:20230326T010000
END:DAYLIGHT
BEGIN:STANDARD
TZOFFSETFROM:+0200
TZOFFSETTO:+0100
TZNAME:CET
DTSTART:20231029T010000
END:STANDARD
BEGIN:DAYLIGHT
TZOFFSETFROM:+0100
TZOFFSETTO:+0200
TZNAME:CEST
DTSTART:20240331T010000
END:DAYLIGHT
BEGIN:STANDARD
TZOFFSETFROM:+0200
TZOFFSETTO:+0100
TZNAME:CET
DTSTART:20241027T010000
END:STANDARD
BEGIN:DAYLIGHT
TZOFFSETFROM:+0100
TZOFFSETTO:+0200
TZNAME:CEST
DTSTART:20250330T010000
END:DAYLIGHT
BEGIN:STANDARD
TZOFFSETFROM:+0200
TZOFFSETTO:+0100
TZNAME:CET
DTSTART:20251026T010000
END:STANDARD
END:VTIMEZONE
BEGIN:VEVENT
DTSTART;TZID=Europe/Berlin:20240430T000000
DTEND;TZID=Europe/Berlin:20240430T235959
DTSTAMP:20260424T182123
CREATED:20240115T110636Z
LAST-MODIFIED:20240122T093730Z
UID:10000058-1714435200-1714521599@daisec.de
SUMMARY:KI-Inforeihe: Fachverband Metall NRW
DESCRIPTION:Die KI-Info- und Schulungsreihe des DAISEC \n\n\n\nDie digitale Transformation und der Einsatz von künstlicher Intelligenz (KI) schreitet rasant voran. Die mit diesem Wandel einhergehenden Wettbewerbsvorteile sollten sich nicht nur industriell geprägte Unternehmen und Konzerne sichern\, sondern insbesondere auch kleine und mittlere Betriebe.  \n\n\n\nIm Rahmen der vierteiligen „KI-Informations- und Schulungsreihe“ erwerben UnternehmerInnen Kenntnisse über die Anwendungsmöglichkeiten von KI-Technologien in ihren jeweiligen Gewerken. \n\n\n\n\n\n\n\nFachverband Metall NRW\n\n\n\nDiese Module unseres Qualifizierungsprogramms richten sich exklusiv an den Fachverband Metall NRW. \n\n\n\n\n\n\nKontakt\n\n\n\n\n\n\n\n\n\n\n\n\n\n\n\nWalter Pirk\n\n\n\nExperte für handwerksspezifische Anforderungen an Technologie und Innovationsprozesse \n\n\n\npirk@daisec.de \n\n\n\n\n\n\n\n\n\n\n\n\n\n\n\n\n\n\n\n\n\n\nKlingt interessant?\n\n\n\nSie sind auch an der Durchführung unseres Qualifizierungsprogramms „KI-Inforeihe“ interessiert? Dann kontaktieren Sie gern unseren Experten Walter Pirk. Nähere Informationen zur KI-Inforeihe finden Sie hier: \n\n\n\n\nMehr über die KI-Inforeihe\n\n\n\n\n\n\n\n\n\n\n\n\n\n\n\n\n\n\n\n\n\n\n\n\n\n\n\n\n\n\n\n\n\n\n\n\n\n\n\n\n\n\n\n\n\n\n\n\n	\n		\n\n			\n			\n\n							\n					\n						Kommende Veranstaltungen					\n				\n			\n			\n				\n											\n\n	\n	\n		\n			Apr.		\n		\n			20		\n	\n\n\n	\n		\n			\n\n				\n					\n		\n		20.04. – 24.04.	\n	\n					\n	\n		DAISEC auf der HANNOVER MESSE 2026	\n\n				\n\n				\n			\n		\n	\n\n\n											\n\n	\n	\n		\n			Apr.		\n		\n			29		\n	\n\n\n	\n		\n			\n\n				\n					\n		\n		14:00 – 15:30	\n	\n					\n	\n		KI-Wissensmanagement mit LLMs\, RAG und lokalen sowie cloudbasierten Ansätzen 1 – Überblick und Orientierung	\n\n				\n\n				\n			\n		\n	\n\n\n											\n\n	\n	\n		\n			Mai		\n		\n			7		\n	\n\n\n	\n		\n			\n\n				\n					\n		\n		16:30 – 19:00	\n	\n					\n	\n		2. KI Werkbank Forum 2026 (Lingen)	\n\n				\n\n				\n			\n		\n	\n\n\n									\n\n				\n	\n		Kalender anzeigen
URL:https://daisec.de/event/ki-inforeihe-fachverband-metall-nrw/2024-04-30/
LOCATION:Online
CATEGORIES:KI-Inforeihe,Qualifizierungsprogramm
ATTACH;FMTTYPE=image/png:https://daisec.de/wp-content/uploads/2024/01/Event-Kachel-KI-Inforeihe-Fachverband-Metall-NRW.png
END:VEVENT
END:VCALENDAR