BEGIN:VCALENDAR
VERSION:2.0
PRODID:-//DAISEC - ECPv6.15.20//NONSGML v1.0//EN
CALSCALE:GREGORIAN
METHOD:PUBLISH
X-WR-CALNAME:DAISEC
X-ORIGINAL-URL:https://daisec.de
X-WR-CALDESC:Veranstaltungen für DAISEC
REFRESH-INTERVAL;VALUE=DURATION:PT1H
X-Robots-Tag:noindex
X-PUBLISHED-TTL:PT1H
BEGIN:VTIMEZONE
TZID:Europe/Berlin
BEGIN:DAYLIGHT
TZOFFSETFROM:+0100
TZOFFSETTO:+0200
TZNAME:CEST
DTSTART:20230326T010000
END:DAYLIGHT
BEGIN:STANDARD
TZOFFSETFROM:+0200
TZOFFSETTO:+0100
TZNAME:CET
DTSTART:20231029T010000
END:STANDARD
BEGIN:DAYLIGHT
TZOFFSETFROM:+0100
TZOFFSETTO:+0200
TZNAME:CEST
DTSTART:20240331T010000
END:DAYLIGHT
BEGIN:STANDARD
TZOFFSETFROM:+0200
TZOFFSETTO:+0100
TZNAME:CET
DTSTART:20241027T010000
END:STANDARD
BEGIN:DAYLIGHT
TZOFFSETFROM:+0100
TZOFFSETTO:+0200
TZNAME:CEST
DTSTART:20250330T010000
END:DAYLIGHT
BEGIN:STANDARD
TZOFFSETFROM:+0200
TZOFFSETTO:+0100
TZNAME:CET
DTSTART:20251026T010000
END:STANDARD
END:VTIMEZONE
BEGIN:VEVENT
DTSTART;TZID=Europe/Berlin:20240603T120000
DTEND;TZID=Europe/Berlin:20240604T120000
DTSTAMP:20260424T143457
CREATED:20240328T105934Z
LAST-MODIFIED:20240328T110105Z
UID:10000095-1717416000-1717502400@daisec.de
SUMMARY:FIS-Jahrestagung 2024 des Zentralverbands des Deutschen Handwerks
DESCRIPTION:Jahrestagung der Fachinformationsstellen des Zentralverband des Deutschen Handwerks 2024 in Kooperation mit dem DAISEC\n\n\n\nWir zeigen auf der Jahrestagung des Zentralverbands in unserem Stationenlauf mögliche betriebliche Einsatzfelder von Künstlicher Intelligenz und arbeiten Bedarfe und Anforderungen der VerbändevertreterInnen heraus. Zudem geben wir einen Überblick über den aktuellen Stand der Forschung im Bereich KI. \n\n\n\n\n\n\n\n\n\n\n\n\nKontakt\n\n\n\n\n\n\n\n\n\n\n\n\n\n\n\nWalter Pirk\n\n\n\nExperte für handwerksspezifische Anforderungen an Technologie und Innovationsprozesse \n\n\n\npirk@daisec.de \n\n\n\n\n\n\n\n\n\n\n\n\n\n\n\n\n	\n		\n\n			\n			\n\n							\n					\n						Kommende Veranstaltungen					\n				\n			\n			\n				\n											\n\n	\n	\n		\n			Apr.		\n		\n			20		\n	\n\n\n	\n		\n			\n\n				\n					\n		\n		20.04. – 24.04.	\n	\n					\n	\n		DAISEC auf der HANNOVER MESSE 2026	\n\n				\n\n				\n			\n		\n	\n\n\n											\n\n	\n	\n		\n			Apr.		\n		\n			29		\n	\n\n\n	\n		\n			\n\n				\n					\n		\n		14:00 – 15:30	\n	\n					\n	\n		KI-Wissensmanagement mit LLMs\, RAG und lokalen sowie cloudbasierten Ansätzen 1 – Überblick und Orientierung	\n\n				\n\n				\n			\n		\n	\n\n\n											\n\n	\n	\n		\n			Mai		\n		\n			7		\n	\n\n\n	\n		\n			\n\n				\n					\n		\n		16:30 – 19:00	\n	\n					\n	\n		2. KI Werkbank Forum 2026 (Lingen)	\n\n				\n\n				\n			\n		\n	\n\n\n									\n\n				\n	\n		Kalender anzeigen
URL:https://daisec.de/event/fis-jahrestagung-2024-des-zentralverbands-des-deutschen-handwerks/
LOCATION:Forschungszentrum L3S\, Lange Laube 6\, Hannover\, 30159
ATTACH;FMTTYPE=image/png:https://daisec.de/wp-content/uploads/2024/03/2024-03-28-DAISEC-Twitter-FIS-Jahrestagung.png
END:VEVENT
END:VCALENDAR