BEGIN:VCALENDAR
VERSION:2.0
PRODID:-//DAISEC - ECPv6.15.20//NONSGML v1.0//EN
CALSCALE:GREGORIAN
METHOD:PUBLISH
X-ORIGINAL-URL:https://daisec.de
X-WR-CALDESC:Veranstaltungen für DAISEC
REFRESH-INTERVAL;VALUE=DURATION:PT1H
X-Robots-Tag:noindex
X-PUBLISHED-TTL:PT1H
BEGIN:VTIMEZONE
TZID:Europe/Berlin
BEGIN:DAYLIGHT
TZOFFSETFROM:+0100
TZOFFSETTO:+0200
TZNAME:CEST
DTSTART:20230326T010000
END:DAYLIGHT
BEGIN:STANDARD
TZOFFSETFROM:+0200
TZOFFSETTO:+0100
TZNAME:CET
DTSTART:20231029T010000
END:STANDARD
BEGIN:DAYLIGHT
TZOFFSETFROM:+0100
TZOFFSETTO:+0200
TZNAME:CEST
DTSTART:20240331T010000
END:DAYLIGHT
BEGIN:STANDARD
TZOFFSETFROM:+0200
TZOFFSETTO:+0100
TZNAME:CET
DTSTART:20241027T010000
END:STANDARD
BEGIN:DAYLIGHT
TZOFFSETFROM:+0100
TZOFFSETTO:+0200
TZNAME:CEST
DTSTART:20250330T010000
END:DAYLIGHT
BEGIN:STANDARD
TZOFFSETFROM:+0200
TZOFFSETTO:+0100
TZNAME:CET
DTSTART:20251026T010000
END:STANDARD
END:VTIMEZONE
BEGIN:VEVENT
DTSTART;TZID=Europe/Berlin:20240606T090000
DTEND;TZID=Europe/Berlin:20240606T130000
DTSTAMP:20260424T130129
CREATED:20240110T063946Z
LAST-MODIFIED:20240416T074833Z
UID:10000051-1717664400-1717678800@daisec.de
SUMMARY:KI-Assistenzsysteme in der Produktion – datenbasierte Planung und Fertigung
DESCRIPTION:Die Auftragsabwicklung produzierender Unternehmen stützt sich auf eine komplexe Prozesskette aus Konstruktion und Arbeitsvorbereitung über Teilefertigung und Montage bis hin zur Qualitätssicherung. KI-basierte Assistenzsysteme bieten Unternehmen das Potenzial diese Arbeitsabläufe effizienter zu gestalten und fundierte Entscheidungen in einem dynamischen Umfeld schnell zu treffen. Sie ermöglichen eine automatisierte Planung für die autonome Fertigung. \n\n\n\n\n\n\n\nUnser Angebot\n\n\n\nIn diesem Training werden die Grundlagen und Umsetzungsmöglichkeiten von KI-basierten Assistenzsystemen in der Produktion aufgezeigt. Dies beinhaltet zum Beispiel die Digitalisierung von Werkstückinformationen während der Konstruktion oder die KI-unterstützte Planung von Arbeitsgängen. \n\n\n\n\n\n\n\nLerninhalte\n\n\n\n– Wie können potenzielle Anwendungsfelder für KI in der Produktion identifiziert werden?– Welche Bedeutung haben qualitativ hochwertige Daten für den Einsatz von KI in der Produktion?– Welche Techniken gibt es für die Datenaufbereitung\, -analyse und -integration?– Welche KI-Modelle können in der Produktion für welche Aufgabe genutzt werden?– Wie kann das Ergebnis eines KI-Modells interpretiert werden? \n\n\n\n\n\n\n\nIhr Vorteil\n\n\n\n– Sie wissen\, wie KI in der Produktion eingesetzt werden kann– Sie können Einsatzmöglichkeiten in Ihrem Unternehmen identifizieren– Sie kennen Techniken zur Datenaufbereitung\, -analyse und -integration– Sie können in der Produktion einsetzbare Codes programmieren– Sie können mit Hilfe der Prognosen der KI ein Assistenzsystem aufbauen \n\n\n\n\n\n\n\nZielgruppe und Vorkenntnisse\n\n\n\n– Kleine und mittlere Unternehmen\, die schon erste Erfahrungen mit dem Einsatz datengetriebener Softwarelösungen in ihrer Produktion gesammelt haben und somit eine nutzbare Datengrundlage haben– Führungskräfte in der Produktion– Techniker/-innen und Ingenieur/-innen in der Produktion \n\n\n\n\n\n\n\nOrganisatorisches\n\n\n\nDie Dauer der Veranstaltung beträgt 4 Stunden. Das Webinar findet online statt. Ein Link zum Online-Webinarraum wird Ihnen rechtzeitig vor der Veranstaltung zugesendet. \n\n\n\n\n\n\n\n\n\n\nKontakt\n\n\n\n\n\n\n\n\n\n\n\n\n\n\n\nAlexander Böttcher\n\n\n\nExperte für KI-Technologien in der Fertigung \n\n\n\nboettcher@daisec.de \n\n\n\n\n\n\n\n\n\n\n\n\n\n\n\n\n\n\nAnmeldung\n\n\n\n\n\n\n\n\n\n\n\n\n\nDie Teilnehmerzahl ist auf 15 begrenzt.Die Anmeldung schließt drei Tage vor dem Veranstaltungstermin.Sollten Sie Fragen oder Probleme mit der Anmeldung haben\,wenden Sie sich bitte an den oben angegebenen Kontakt. \n\n\n\n\n\n\n\n\n\n\nVeranstaltungsort\n\n\n\n\n\n\n\n\n\n\n\n\n\n\n\n\n\n\n\n\n\n\n\n\n\n\n\n\n	\n		\n\n			\n			\n\n							\n					\n						Kommende Veranstaltungen					\n				\n			\n			\n				\n											\n\n	\n	\n		\n			Apr.		\n		\n			20		\n	\n\n\n	\n		\n			\n\n				\n					\n		\n		20.04. – 24.04.	\n	\n					\n	\n		DAISEC auf der HANNOVER MESSE 2026	\n\n				\n\n				\n			\n		\n	\n\n\n											\n\n	\n	\n		\n			Apr.		\n		\n			29		\n	\n\n\n	\n		\n			\n\n				\n					\n		\n		14:00 – 15:30	\n	\n					\n	\n		KI-Wissensmanagement mit LLMs\, RAG und lokalen sowie cloudbasierten Ansätzen 1 – Überblick und Orientierung	\n\n				\n\n				\n			\n		\n	\n\n\n											\n\n	\n	\n		\n			Mai		\n		\n			7		\n	\n\n\n	\n		\n			\n\n				\n					\n		\n		16:30 – 19:00	\n	\n					\n	\n		2. KI Werkbank Forum 2026 (Lingen)	\n\n				\n\n				\n			\n		\n	\n\n\n									\n\n				\n	\n		Kalender anzeigen
URL:https://daisec.de/event/ki-assistenzsysteme-produktion-datenbasierte-planung-fertigung-06-06-2024/
LOCATION:Online
CATEGORIES:Webinar
ATTACH;FMTTYPE=image/png:https://daisec.de/wp-content/uploads/2024/01/2024-06-06-DAISEC-Schulung-KI-Assistenzsysteme-Produktion.png
END:VEVENT
END:VCALENDAR