BEGIN:VCALENDAR
VERSION:2.0
PRODID:-//DAISEC - ECPv6.15.20//NONSGML v1.0//EN
CALSCALE:GREGORIAN
METHOD:PUBLISH
X-WR-CALNAME:DAISEC
X-ORIGINAL-URL:https://daisec.de
X-WR-CALDESC:Veranstaltungen für DAISEC
REFRESH-INTERVAL;VALUE=DURATION:PT1H
X-Robots-Tag:noindex
X-PUBLISHED-TTL:PT1H
BEGIN:VTIMEZONE
TZID:Europe/Berlin
BEGIN:DAYLIGHT
TZOFFSETFROM:+0100
TZOFFSETTO:+0200
TZNAME:CEST
DTSTART:20230326T010000
END:DAYLIGHT
BEGIN:STANDARD
TZOFFSETFROM:+0200
TZOFFSETTO:+0100
TZNAME:CET
DTSTART:20231029T010000
END:STANDARD
BEGIN:DAYLIGHT
TZOFFSETFROM:+0100
TZOFFSETTO:+0200
TZNAME:CEST
DTSTART:20240331T010000
END:DAYLIGHT
BEGIN:STANDARD
TZOFFSETFROM:+0200
TZOFFSETTO:+0100
TZNAME:CET
DTSTART:20241027T010000
END:STANDARD
BEGIN:DAYLIGHT
TZOFFSETFROM:+0100
TZOFFSETTO:+0200
TZNAME:CEST
DTSTART:20250330T010000
END:DAYLIGHT
BEGIN:STANDARD
TZOFFSETFROM:+0200
TZOFFSETTO:+0100
TZNAME:CET
DTSTART:20251026T010000
END:STANDARD
END:VTIMEZONE
BEGIN:VEVENT
DTSTART;TZID=Europe/Berlin:20240613T090000
DTEND;TZID=Europe/Berlin:20240613T130000
DTSTAMP:20260424T125232
CREATED:20240110T065610Z
LAST-MODIFIED:20240416T074925Z
UID:10000052-1718269200-1718283600@daisec.de
SUMMARY:Zukunftsorientierte Prozessoptimierung: Eine Chance für KMU
DESCRIPTION:In einer Welt\, in der technologischer Fortschritt und Innovation die Schlüsselfaktoren für den Unternehmenserfolg sind\, gewinnen moderne Optimierungsmethoden wie das bestärkende Lernen (Reinforcement Learning\, RL) zunehmend an Bedeutung. Reinforcement Learning hat in der Wissenschaft beeindruckende Erfolge erzielt: Beispielsweise durch das Gewinnen gegen die weltbesten Spieler/-innen in Brett- und Computerspielen\, das Erlernen des Autofahrens innerhalb eines Tages oder die signifikante Reduzierung des Energieverbrauchs in Datenzentren. Diese Errungenschaften demonstrieren das enorme Potenzial von RL\, das auch in der unternehmerischen Praxis genutzt wird – insbesondere in der Optimierung von Betriebsabläufen\, der effizienten Ressourcenverwaltung und der Steigerung der Produktionsleistung. Unser Training zielt darauf ab\, KMU in die Lage zu versetzen\, diese fortschrittliche Technologie zu verstehen und gemeinsam Möglichkeiten zum Einsatz von RL im Unternehmen zu identifizieren. \n\n\n\n\n\n\n\nUnser Angebot\n\n\n\nTeilnehmende erlangen ein grundlegendes Verständnis von Reinforcement Learning und dessen Anwendung in der Unternehmenspraxis. Sie lernen\, wie diese Technik in Unternehmen eingesetzt werden kann\, um Prozesse zu optimieren und Entscheidungsfindung zu verbessern. Besonderer Fokus liegt auf der Identifikation und Bewertung von RL-basierten Anwendungsfällen im eigenen KMU. \n\n\n\n\n\n\n\nLerninhalte\n\n\n\n– Wie funktioniert Reinforcement Learning?– Welche Einsatzmöglichkeiten gibt es in der Praxis?– Was sind Voraussetzungen für den Einsatz?– Wo kann in meinem Unternehmen RL eingesetzt werden und wie profitiert mein Unternehmen davon? \n\n\n\n\n\n\n\nIhr Vorteil\n\n\n\n– Sie erhalten ein Verständnis über die Funktionsweise von Reinforcement Learning und in welchen Szenarien es in der Praxis zum Einsatz kommt– Sie erwerben Wissen über die Herausforderungen und Voraussetzungen für den Einsatz– Sie identifizieren konkrete Anwendungsmöglichkeiten von Reinforcement Learning spezifisch für Ihr KMU \n\n\n\n\n\n\n\nZielgruppe und Vorkenntnisse\n\n\n\nDie Veranstaltung richtet sich an mittleres Management\, Führungskräfte in der Produktion\, Entwickler/-innen\, Anwender/-innen\, Product Owner. \n\n\n\n\n\n\n\nOrganisatorisches\n\n\n\nDie Veranstaltung dauert ca. 4 Stunden und findet online statt. Der Link zum Webinar-Raum wird Ihnen rechtzeitig vor der Veranstaltung zugeschickt.  \n\n\n\nDiese Veranstaltung wird vom Zukunftslabor Gesellschaft und Arbeit unterstützt.  \n\n\n\n\n\n\n\n\n\n\n\n\n\n\nKontakt\n\n\n\n\n\n\n\n\n\n\n\n\n\n\n\nMarkus Engel\n\n\n\nExperte für Künstliche Intelligenz \n\n\n\nengel@daisec.de \n\n\n\n\n\n\n\n\n\n\n\n\n\n\nAnmeldung\n\n\n\n\n\n\n\n\n\n\n\n\n\nDie Teilnehmerzahl ist auf 15 begrenzt. Die Anmeldung schließt drei Tage vor dem Veranstaltungstermin.Sollten Sie Fragen oder Probleme mit der Anmeldung haben\,wenden Sie sich bitte an den oben angegebenen Kontakt. \n\n\n\n\n\n\n\n\n\n\nVeranstaltungsort\n\n\n\n\n\n\n\n\n\n\n\n\n\n\n\n\n\n\n\n\n\n\n\n\n\n\n\n\n	\n		\n\n			\n			\n\n							\n					\n						Kommende Veranstaltungen					\n				\n			\n			\n				\n											\n\n	\n	\n		\n			Apr.		\n		\n			20		\n	\n\n\n	\n		\n			\n\n				\n					\n		\n		20.04. – 24.04.	\n	\n					\n	\n		DAISEC auf der HANNOVER MESSE 2026	\n\n				\n\n				\n			\n		\n	\n\n\n											\n\n	\n	\n		\n			Apr.		\n		\n			29		\n	\n\n\n	\n		\n			\n\n				\n					\n		\n		14:00 – 15:30	\n	\n					\n	\n		KI-Wissensmanagement mit LLMs\, RAG und lokalen sowie cloudbasierten Ansätzen 1 – Überblick und Orientierung	\n\n				\n\n				\n			\n		\n	\n\n\n											\n\n	\n	\n		\n			Mai		\n		\n			7		\n	\n\n\n	\n		\n			\n\n				\n					\n		\n		16:30 – 19:00	\n	\n					\n	\n		2. KI Werkbank Forum 2026 (Lingen)	\n\n				\n\n				\n			\n		\n	\n\n\n									\n\n				\n	\n		Kalender anzeigen
URL:https://daisec.de/event/zukunftsorientierte-prozessoptimierung-13-06-2024/
LOCATION:Online
CATEGORIES:Webinar
ATTACH;FMTTYPE=image/png:https://daisec.de/wp-content/uploads/2024/01/2024-06-13-DAISEC-Schulung-Prozessoptimierung.png
END:VEVENT
END:VCALENDAR