BEGIN:VCALENDAR
VERSION:2.0
PRODID:-//DAISEC - ECPv6.15.20//NONSGML v1.0//EN
CALSCALE:GREGORIAN
METHOD:PUBLISH
X-WR-CALNAME:DAISEC
X-ORIGINAL-URL:https://daisec.de
X-WR-CALDESC:Veranstaltungen für DAISEC
REFRESH-INTERVAL;VALUE=DURATION:PT1H
X-Robots-Tag:noindex
X-PUBLISHED-TTL:PT1H
BEGIN:VTIMEZONE
TZID:Europe/Berlin
BEGIN:DAYLIGHT
TZOFFSETFROM:+0100
TZOFFSETTO:+0200
TZNAME:CEST
DTSTART:20230326T010000
END:DAYLIGHT
BEGIN:STANDARD
TZOFFSETFROM:+0200
TZOFFSETTO:+0100
TZNAME:CET
DTSTART:20231029T010000
END:STANDARD
BEGIN:DAYLIGHT
TZOFFSETFROM:+0100
TZOFFSETTO:+0200
TZNAME:CEST
DTSTART:20240331T010000
END:DAYLIGHT
BEGIN:STANDARD
TZOFFSETFROM:+0200
TZOFFSETTO:+0100
TZNAME:CET
DTSTART:20241027T010000
END:STANDARD
BEGIN:DAYLIGHT
TZOFFSETFROM:+0100
TZOFFSETTO:+0200
TZNAME:CEST
DTSTART:20250330T010000
END:DAYLIGHT
BEGIN:STANDARD
TZOFFSETFROM:+0200
TZOFFSETTO:+0100
TZNAME:CET
DTSTART:20251026T010000
END:STANDARD
END:VTIMEZONE
BEGIN:VEVENT
DTSTART;TZID=Europe/Berlin:20240813T100000
DTEND;TZID=Europe/Berlin:20240813T103000
DTSTAMP:20260424T060949
CREATED:20240716T121725Z
LAST-MODIFIED:20240806T085426Z
UID:10000132-1723543200-1723545000@daisec.de
SUMMARY:KI-Herausforderungen für die IT-Sicherheit
DESCRIPTION:KI bietet viele Chancen\, aber wie mit jeder neuen Technologie kommen auch neue Gefahren. In diesem Vortrag beleuchten wir neue Angriffsmöglichkeiten\, die von Cyberkriminellen gegen Unternehmen eingesetzt werden können und sprechen darüber wie man sich dagegen schützen kann. \n\n\n\n\n\n\n\nInhalt der Veranstaltung\n\n\n\n\nEinführung in übliche Angriffe auf KMUs\n\n\n\nWeitere Möglichkeiten durch KI\n\n\n\nErläuterung von Schutzmöglichkeiten\n\n\n\n\n\n\n\n\nZiel der Veranstaltung\n\n\n\nSie erhalten einen Einblick in aktuelle Cyberangriffe in denen KI zum Einsatz kommt. Außerdem sprechen wir auch darüber\, wie man sich dagegen schützen kann. \n\n\n\n\n\n\n\nOrganisatorisches\n\n\n\nDie Veranstaltung findet online statt und es wird ein Link nach der Anmeldung bereitgestellt. \n\n\n\n\n\n\n\n\n\n\nVortrag von\n\n\n\n\n\n\n\n\n\n\n\n\n\n\n\nJan-Ulrich Holtgrave\n\n\n\nExperte IT-Sicherheit \n\n\n\nholtgrave@daisec.de \n\n\n\n\n\n\n\n\n\n\nAnmeldung\n\n\n\n\n\n\n\n\n\n\n\n\n\nDies ist ein gemeinsames Angebot des DAISEC und des Mittelstand-Digital Zentrums Hannover.Die Anmeldung schließt zwei Tage vor Beginn der Veranstaltung.Bei Fragen kontaktieren Sie uns bitte über info@daisec.de \n\n\n\n\n\n\n\n\n\n\nVeranstaltungsort\n\n\n\n\n\n\n\n\n\n\n\n\n\n\n\n\n\n\n\n\n\n\n\n\n\n\n\n\n	\n		\n\n			\n			\n\n							\n					\n						Kommende Veranstaltungen					\n				\n			\n			\n				\n											\n\n	\n	\n		\n			Apr.		\n		\n			20		\n	\n\n\n	\n		\n			\n\n				\n					\n		\n		20.04. – 24.04.	\n	\n					\n	\n		DAISEC auf der HANNOVER MESSE 2026	\n\n				\n\n				\n			\n		\n	\n\n\n											\n\n	\n	\n		\n			Apr.		\n		\n			29		\n	\n\n\n	\n		\n			\n\n				\n					\n		\n		14:00 – 15:30	\n	\n					\n	\n		KI-Wissensmanagement mit LLMs\, RAG und lokalen sowie cloudbasierten Ansätzen 1 – Überblick und Orientierung	\n\n				\n\n				\n			\n		\n	\n\n\n											\n\n	\n	\n		\n			Mai		\n		\n			7		\n	\n\n\n	\n		\n			\n\n				\n					\n		\n		16:30 – 19:00	\n	\n					\n	\n		2. KI Werkbank Forum 2026 (Lingen)	\n\n				\n\n				\n			\n		\n	\n\n\n									\n\n				\n	\n		Kalender anzeigen
URL:https://daisec.de/event/ki-herausforderungen-it-sicherheit-13-08-2024/
LOCATION:Online\, Online-Meeting
CATEGORIES:Kurzvortrag "Auf den Punkt"
ATTACH;FMTTYPE=image/png:https://daisec.de/wp-content/uploads/2024/07/2024-08-13-KI-Herausforderungen.png
END:VEVENT
BEGIN:VEVENT
DTSTART;TZID=Europe/Berlin:20240813T110000
DTEND;TZID=Europe/Berlin:20240813T140000
DTSTAMP:20260424T060950
CREATED:20240708T115608Z
LAST-MODIFIED:20240708T115609Z
UID:10000124-1723546800-1723557600@daisec.de
SUMMARY:DAISEC Mobiler Workshop: Generative Künstliche Intelligenz für Ihr Unternehmen
DESCRIPTION:
URL:https://daisec.de/event/daisec-mobiler-workshop-generative-kuenstliche-intelligenz-fuer-ihr-unternehmen/
LOCATION:zedita\, Bahnhofsplatz 19\, Hameln\, 31785
CATEGORIES:Öffentliche Veranstaltung
ATTACH;FMTTYPE=image/png:https://daisec.de/wp-content/uploads/2024/07/Bild_2024-07-08_135318878.png
END:VEVENT
BEGIN:VEVENT
DTSTART;TZID=Europe/Berlin:20240813T140000
DTEND;TZID=Europe/Berlin:20240813T143000
DTSTAMP:20260424T060950
CREATED:20240725T061849Z
LAST-MODIFIED:20240725T061850Z
UID:10000153-1723557600-1723559400@daisec.de
SUMMARY:KI im Arbeitsalltag
DESCRIPTION:
URL:https://daisec.de/event/ki-arbeitsalltag-13-08-2024/
LOCATION:Online
CATEGORIES:Kurzvortrag "Auf den Punkt"
ATTACH;FMTTYPE=image/png:https://daisec.de/wp-content/uploads/2024/07/2024-08-13-KI-Arbeitsalltag.png
END:VEVENT
END:VCALENDAR