BEGIN:VCALENDAR
VERSION:2.0
PRODID:-//DAISEC - ECPv6.15.20//NONSGML v1.0//EN
CALSCALE:GREGORIAN
METHOD:PUBLISH
X-WR-CALNAME:DAISEC
X-ORIGINAL-URL:https://daisec.de
X-WR-CALDESC:Veranstaltungen für DAISEC
REFRESH-INTERVAL;VALUE=DURATION:PT1H
X-Robots-Tag:noindex
X-PUBLISHED-TTL:PT1H
BEGIN:VTIMEZONE
TZID:Europe/Berlin
BEGIN:DAYLIGHT
TZOFFSETFROM:+0100
TZOFFSETTO:+0200
TZNAME:CEST
DTSTART:20230326T010000
END:DAYLIGHT
BEGIN:STANDARD
TZOFFSETFROM:+0200
TZOFFSETTO:+0100
TZNAME:CET
DTSTART:20231029T010000
END:STANDARD
BEGIN:DAYLIGHT
TZOFFSETFROM:+0100
TZOFFSETTO:+0200
TZNAME:CEST
DTSTART:20240331T010000
END:DAYLIGHT
BEGIN:STANDARD
TZOFFSETFROM:+0200
TZOFFSETTO:+0100
TZNAME:CET
DTSTART:20241027T010000
END:STANDARD
BEGIN:DAYLIGHT
TZOFFSETFROM:+0100
TZOFFSETTO:+0200
TZNAME:CEST
DTSTART:20250330T010000
END:DAYLIGHT
BEGIN:STANDARD
TZOFFSETFROM:+0200
TZOFFSETTO:+0100
TZNAME:CET
DTSTART:20251026T010000
END:STANDARD
END:VTIMEZONE
BEGIN:VEVENT
DTSTART;TZID=Europe/Berlin:20240829T090000
DTEND;TZID=Europe/Berlin:20240829T103000
DTSTAMP:20260424T043321
CREATED:20240708T114558Z
LAST-MODIFIED:20240708T114559Z
UID:10000121-1724922000-1724927400@daisec.de
SUMMARY:Sicher durchs digitale Handwerk: Digitale Reihe zum Thema Cybersicherheit – Teil 1 Menschen stärken
DESCRIPTION:
URL:https://daisec.de/event/sicher-durchs-digitale-handwerk-digitale-reihe-zum-thema-cybersicherheit-teil-1-menschen-staerken/
LOCATION:Online
CATEGORIES:Öffentliche Veranstaltung
ATTACH;FMTTYPE=image/png:https://daisec.de/wp-content/uploads/2024/07/Bild_2024-07-08_134135390.png
ORGANIZER;CN="Baugewerbe-Verband Niedersachsen":MAILTO:kontakt@bvn.de
END:VEVENT
BEGIN:VEVENT
DTSTART;TZID=Europe/Berlin:20240829T150000
DTEND;TZID=Europe/Berlin:20240829T170000
DTSTAMP:20260424T043321
CREATED:20240513T111602Z
LAST-MODIFIED:20240808T133929Z
UID:10000105-1724943600-1724950800@daisec.de
SUMMARY:3D-Druck: Einführungsworkshop 1
DESCRIPTION:Seit der ersten Entwicklungsphase in den 1980er Jahren sind 3D-Druckverfahren inzwischen ausgereift und für den Einsatz in Produktionsumgebungen geeignet. Im Gegensatz zu herkömmlichen Fertigungsverfahren\, bei denen die Erzeugnisse entweder durch Gießen oder Entfernen von Material (z.B. Fräsen) hergestellt werden\, wird beim 3D-Druckverfahren das Material Schicht für Schicht aufgebaut. Dies ermöglicht die Herstellung sehr komplexer Formen. \n\n\n\nDa für die Fertigung keine zusätzlichen Werkzeuge erforderlich sind\, können die Erzeugnisse kostengünstig in kleinen bis mittleren Losgrößen hergestellt werden. Das Verfahren bietet eine enorme Freiheit bei der Gestaltung von Kunststoff-\, Metall- und Keramikteilen\, wodurch sich die Fertigungsteile schnell und ressourcenschonend herstellen lassen. \n\n\n\n\n\n\n\nUnser Angebot\n\n\n\nUm Ihnen den nächsten Schritt zur Digitalisierung Ihrer Produktionsprozesse zu ermöglichen\, bieten wir Ihnen eine Reihe von online Einführungsworkshops an\, in denen Sie die verschiedenen Arten von 3D-Druckverfahren sowie ihre Stärken und Schwächen kennenlernen.  \n\n\n\nWir bieten Ihnen insgesamt drei Einführungsworkshops in einem wiederkehrenden Rhythmus. So haben Sie die Flexibilität\, einen Workshop passend zu Ihrem Zeitplan zu besuchen. Suchen Sie sich einfach aus der Liste in der Anmeldung die für Sie passenden Termine aus. Darüber hinaus bieten wir einen praktischen 3D-Druck-Workshop an\, für den Sie sich ebenfalls unten anmelden können. \n\n\n\n\n\n\n\nLerninhalte\n\n\n\nEinführungsworkshops 1: Einführung und Extrusionsverfahren \n\n\n\n\nAllgemeine 3D-Druck-Einführung\n\nWelche Verfahrenstypen gibt es?\n\n\n\nWas sind ihre Stärken und Schwächen?\n\n\n\nWie unterscheidet sich die Prozesskette von der Idee bis zum Bauteil von traditionellen Verfahren?\n\n\n\n\n\nMaterialextrusionsverfahren (auch bekannt als FDM)\n\nWie funktionieren diese Verfahren?\n\n\n\nWelche Materialien können sie verarbeiten?\n\n\n\nWas sind ihre Stärken und Schwächen?\n\n\n\nIn welchen Anwendungen wird die Technologie erfolgreich eingesetzt?\n\n\n\nWelche Designrichtlinien sollten bei diesen Verfahren berücksichtigt werden?\n\n\n\n\n\nSchichtlaminierungsverfahren\n\n\n\n\n\n\n\n\nIhre Vorteile\n\n\n\n\nSie lernen die technologische Vielfalt des 3D-Drucks kennen.\n\n\n\nSie entwickeln ein Verständnis dafür\, welche im Unternehmen hergestellten Produkte\, Potenzial für die Produktion mittels 3D-Druck aufweisen.\n\n\n\nSie erwerben Kenntnisse über geeignete Konstruktionsverfahren für den 3D-Druck.\n\n\n\nSie verstehen\, wie sich der 3D-Druck in dem Fertigungsportfolio Ihres Unternehmens integrieren lässt.\n\n\n\n\n\n\n\n\nZielgruppe und Vorkenntnisse\n\n\n\nMitarbeitende aus Produktentwicklung\, Design und Fertigung aus allen Branchen. Es sind keine Vorkenntnisse zum Thema 3D-Druck erforderlich. Die Einführungsworkshops können in beliebiger Reihenfolge besucht werden. \n\n\n\n\n\n\n\nOrganisatorisches\n\n\n\nDie Einführungsworkshops finden online statt. Hier sind die nächsten Termine: \n\n\n\n\n\n\n\nModulreihe 1 \n\n\n\n\nEinführungsworkshop 1 (Einführung und Extrusionsverfahren): 29.08.24 von 15:00 bis 17:00\n\n\n\nEinführungsworkshop 2 (Photopolymerisation und Nachbearbeitung): 26.09.24 von 15:00 bis 17:00\n\n\n\nEinführungsworkshop 3 (Pulverbasierte Verfahren\, 3D-Modelle und 3D-Scannen): 24.10.24 von 15:00 bis 17:00\n\n\n\n\n\n\n\n\nModulreihe 2 \n\n\n\n\nEinführungsworkshop 1 (Einführung und Extrusionsverfahren): 28.11.24 von 15:00 bis 17:00\n\n\n\nEinführungsworkshop 2 (Photopolymerisation und Nachbearbeitung): 19.12.24 von 15:00 bis 17:00\n\n\n\nEinführungsworkshop 3 (Pulverbasierte Verfahren\, 3D-Modelle und 3D-Scannen): 30.01.25 von 15:00 bis 17:00\n\n\n\n\n\n\n\n\nPraxisworkshop \n\n\n\n07.11.24 von 9:30 bis 14:30 (TU Braunschweig) \n\n\n\n\n\n\n\nVerwenden Sie bitte die Schaltfläche unten\, um sich anzumelden. Sie können die Termine beliebig kombinieren. \n\n\n\nWenn Sie auch an dem praktischen Vor-Ort-Workshop zum 3D-Druck teilnehmen möchten\, können Sie sich ebenfalls über das Formular unten anmelden. Nähere Informationen zum Praxisworkshops finden Sie hier. \n\n\n\n\n\n\n\n\n\n\nKontakt\n\n\n\n\n\n\n\n\n\n\n\n\n\n\n\nKarl Hilbig\n\n\n\nExperte für 3D-Druck \n\n\n\nhilbig@daisec.de \n\n\n\n\n\n\n\n\n\n\n\n\n\n\nAnmeldung\n\n\n\n\n\n\n\n\n\n\n\n\n\nDie Einführungs-Workshops finden online statt. Sie erhalten rechtzeitig vor dem Termin einen Link zum Online-Meeting.Die Anmeldung schließt drei Tage vor dem Veranstaltungstermin.Sollten Sie Fragen oder Probleme mit der Anmeldung haben\,wenden Sie sich bitte an den oben angegebenen Kontakt. \n\n\n\n\n\n\n\n\n\n\nVeranstaltungsort\n\n\n\n\n\n\n\n\n\n\n\n\n\n\n\n\n\n\n\n\n\n\n\n\n\n\n\n\n	\n		\n\n			\n			\n\n							\n					\n						Kommende Veranstaltungen					\n				\n			\n			\n				\n											\n\n	\n	\n		\n			Apr.		\n		\n			20		\n	\n\n\n	\n		\n			\n\n				\n					\n		\n		20.04. – 24.04.	\n	\n					\n	\n		DAISEC auf der HANNOVER MESSE 2026	\n\n				\n\n				\n			\n		\n	\n\n\n											\n\n	\n	\n		\n			Apr.		\n		\n			29		\n	\n\n\n	\n		\n			\n\n				\n					\n		\n		14:00 – 15:30	\n	\n					\n	\n		KI-Wissensmanagement mit LLMs\, RAG und lokalen sowie cloudbasierten Ansätzen 1 – Überblick und Orientierung	\n\n				\n\n				\n			\n		\n	\n\n\n											\n\n	\n	\n		\n			Mai		\n		\n			7		\n	\n\n\n	\n		\n			\n\n				\n					\n		\n		16:30 – 19:00	\n	\n					\n	\n		2. KI Werkbank Forum 2026 (Lingen)	\n\n				\n\n				\n			\n		\n	\n\n\n									\n\n				\n	\n		Kalender anzeigen
URL:https://daisec.de/event/3d-druck-einfuehrung1-29-08-2024/
LOCATION:Online
ATTACH;FMTTYPE=image/png:https://daisec.de/wp-content/uploads/2024/05/2024-05-30-DAISEC-Template-3D-Druck-Einfuehrungsworkshop.png
END:VEVENT
END:VCALENDAR