BEGIN:VCALENDAR
VERSION:2.0
PRODID:-//DAISEC - ECPv6.15.20//NONSGML v1.0//EN
CALSCALE:GREGORIAN
METHOD:PUBLISH
X-WR-CALNAME:DAISEC
X-ORIGINAL-URL:https://daisec.de
X-WR-CALDESC:Veranstaltungen für DAISEC
REFRESH-INTERVAL;VALUE=DURATION:PT1H
X-Robots-Tag:noindex
X-PUBLISHED-TTL:PT1H
BEGIN:VTIMEZONE
TZID:Europe/Berlin
BEGIN:DAYLIGHT
TZOFFSETFROM:+0100
TZOFFSETTO:+0200
TZNAME:CEST
DTSTART:20230326T010000
END:DAYLIGHT
BEGIN:STANDARD
TZOFFSETFROM:+0200
TZOFFSETTO:+0100
TZNAME:CET
DTSTART:20231029T010000
END:STANDARD
BEGIN:DAYLIGHT
TZOFFSETFROM:+0100
TZOFFSETTO:+0200
TZNAME:CEST
DTSTART:20240331T010000
END:DAYLIGHT
BEGIN:STANDARD
TZOFFSETFROM:+0200
TZOFFSETTO:+0100
TZNAME:CET
DTSTART:20241027T010000
END:STANDARD
BEGIN:DAYLIGHT
TZOFFSETFROM:+0100
TZOFFSETTO:+0200
TZNAME:CEST
DTSTART:20250330T010000
END:DAYLIGHT
BEGIN:STANDARD
TZOFFSETFROM:+0200
TZOFFSETTO:+0100
TZNAME:CET
DTSTART:20251026T010000
END:STANDARD
END:VTIMEZONE
BEGIN:VEVENT
DTSTART;TZID=Europe/Berlin:20240926T090000
DTEND;TZID=Europe/Berlin:20240926T120000
DTSTAMP:20260424T043530
CREATED:20240712T065248Z
LAST-MODIFIED:20240712T065538Z
UID:10000125-1727341200-1727352000@daisec.de
SUMMARY:KI-Assistenzsysteme in der Produktion – datenbasierte Planung und Fertigung
DESCRIPTION:Die Auftragsabwicklung produzierender Unternehmen stützt sich auf eine komplexe Prozesskette aus Konstruktion und Arbeitsvorbereitung über Teilefertigung und Montage bis hin zur Qualitätssicherung. \n\n\n\nKI-basierte Assistenzsysteme bieten Unternehmen das Potenzial\, diese Arbeitsabläufe effizienter zu gestalten und fundierte Entscheidungen in einem dynamischen Umfeld schnell zu treffen. Sie ermöglichen eine automatisierte Planung für die autonome Fertigung. Ein verbreitetes Beispiel ist die automatisierte Erkennung von Anomalien in Fertigungsprozessen\, um Ausschuss zu vermeiden. \n\n\n\n\n\n\n\nUnser Angebot\n\n\n\nIn dieser Schulung zeigen wir Ihnen die Grundlagen und Umsetzungsmöglichkeiten von KI-basierten Assistenzsystemen in der Produktion. Dabei besprechen wir zum Beispiel die Digitalisierung von Werkstückinformationen während der Konstruktion oder die KI-unterstützte Planung von Arbeitsgängen. \n\n\n\n\n\n\n\nLerninhalte\n\n\n\n– Welchen Nutzen erhalten Sie durch den Einsatz von KI in der Produktion?– Wie können potenzielle Anwendungsfelder für KI in der Produktion identifiziert werden?– Welche KI-Modelle können in der Produktion für welche Aufgabe genutzt werden?– Welche Bedeutung haben qualitativ hochwertige Daten für den Einsatz von KI in der Produktion?– Welche Techniken gibt es für die Datenaufbereitung\, -analyse und -integration?– Wie kann das Ergebnis eines KI-Modells interpretiert werden? \n\n\n\n\n\n\n\nIhr Vorteil\n\n\n\n– Sie wissen\, wie KI in der Produktion eingesetzt werden kann– Sie können Einsatzmöglichkeiten und Anwendungsfelder für KI in Ihrem Unternehmen identifizieren– Sie kennen Techniken zur Datenaufbereitung\, -analyse und -integration– Sie bekommen einen Einblick in die Erstellung von KI-Modellen \n\n\n\n\n\n\n\nZielgruppe und Vorkenntnisse\n\n\n\n– Kleine und mittlere Unternehmen\, die datengetriebene Softwarelösungen in ihrer Produktion einsetzen möchten– Techniker/-innen und Ingenieur/-innen in der Produktion \n\n\n\n\n\n\n\nOrganisatorisches\n\n\n\nDie Dauer der Veranstaltung beträgt ca. 3 Stunden. Das Webinar findet online statt. Ein Link zum Online-Webinarraum wird Ihnen rechtzeitig vor der Veranstaltung zugesendet. \n\n\n\n\n\n\n\n\n\n\nKontakt\n\n\n\n\n\n\n\n\n\n\n\n\n\n\n\nSimon Kettelmann\n\n\n\nExperte für KI-Technologien in der Fertigung \n\n\n\nkettelmann@daisec.de \n\n\n\n\n\n\n\n\n\n\n\n\n\n\n\n\n\n\nAnmeldung\n\n\n\n\n\n\n\n\n\n\n\n\n\nDie Teilnehmerzahl ist auf 15 begrenzt.Die Anmeldung schließt drei Tage vor dem Veranstaltungstermin.Sollten Sie Fragen oder Probleme mit der Anmeldung haben\,wenden Sie sich bitte an den oben angegebenen Kontakt. \n\n\n\n\n\n\n\n\n\n\nVeranstaltungsort\n\n\n\n\n\n\n\n\n\n\n\n\n\n\n\n\n\n\n\n\n\n\n\n\n\n\n\n\n	\n		\n\n			\n			\n\n							\n					\n						Kommende Veranstaltungen					\n				\n			\n			\n				\n											\n\n	\n	\n		\n			Apr.		\n		\n			20		\n	\n\n\n	\n		\n			\n\n				\n					\n		\n		20.04. – 24.04.	\n	\n					\n	\n		DAISEC auf der HANNOVER MESSE 2026	\n\n				\n\n				\n			\n		\n	\n\n\n											\n\n	\n	\n		\n			Apr.		\n		\n			29		\n	\n\n\n	\n		\n			\n\n				\n					\n		\n		14:00 – 15:30	\n	\n					\n	\n		KI-Wissensmanagement mit LLMs\, RAG und lokalen sowie cloudbasierten Ansätzen 1 – Überblick und Orientierung	\n\n				\n\n				\n			\n		\n	\n\n\n											\n\n	\n	\n		\n			Mai		\n		\n			7		\n	\n\n\n	\n		\n			\n\n				\n					\n		\n		16:30 – 19:00	\n	\n					\n	\n		2. KI Werkbank Forum 2026 (Lingen)	\n\n				\n\n				\n			\n		\n	\n\n\n									\n\n				\n	\n		Kalender anzeigen
URL:https://daisec.de/event/ki-assistenzsysteme-produktion-26-09-2024/
LOCATION:Online
CATEGORIES:Webinar
ATTACH;FMTTYPE=image/png:https://daisec.de/wp-content/uploads/2024/07/2024-09-26-DAISEC-Schulung-KI-Assistenzsysteme-Produktion.png
END:VEVENT
BEGIN:VEVENT
DTSTART;TZID=Europe/Berlin:20240926T150000
DTEND;TZID=Europe/Berlin:20240926T170000
DTSTAMP:20260424T043531
CREATED:20240513T113722Z
LAST-MODIFIED:20240926T091120Z
UID:10000108-1727362800-1727370000@daisec.de
SUMMARY:3D-Druck: Einführungsworkshop 2
DESCRIPTION:Seit der ersten Entwicklungsphase in den 1980er Jahren sind 3D-Druckverfahren inzwischen ausgereift und für den Einsatz in Produktionsumgebungen geeignet. Im Gegensatz zu herkömmlichen Fertigungsverfahren\, bei denen die Erzeugnisse entweder durch Gießen oder Entfernen von Material (z.B. Fräsen) hergestellt werden\, wird beim 3D-Druckverfahren das Material Schicht für Schicht aufgebaut. Dies ermöglicht die Herstellung sehr komplexer Formen. \n\n\n\nDa für die Fertigung keine zusätzlichen Werkzeuge erforderlich sind\, können die Erzeugnisse kostengünstig in kleinen bis mittleren Losgrößen hergestellt werden. Das Verfahren bietet eine enorme Freiheit bei der Gestaltung von Kunststoff-\, Metall- und Keramikteilen\, wodurch sich die Fertigungsteile schnell und ressourcenschonend herstellen lassen. \n\n\n\n\n\n\n\nUnser Angebot\n\n\n\nUm Ihnen den nächsten Schritt zur Digitalisierung Ihrer Produktionsprozesse zu ermöglichen\, bieten wir Ihnen eine Reihe von online Einführungsworkshops an\, in denen Sie die verschiedenen Arten von 3D-Druckverfahren sowie ihre Stärken und Schwächen kennenlernen.  \n\n\n\nWir bieten Ihnen insgesamt drei Einführungsworkshops in einem wiederkehrenden Rhythmus. So haben Sie die Flexibilität\, einen Workshop passend zu Ihrem Zeitplan zu besuchen. Suchen Sie sich einfach aus der Liste in der Anmeldung die für Sie passenden Termine aus. Darüber hinaus bieten wir einen praktischen 3D-Druck-Workshop an\, für den Sie sich ebenfalls unten anmelden können. \n\n\n\n\n\n\n\nLerninhalte\n\n\n\nEinführungsworkshops 2: Photopolymerisation und Nachbearbeitung \n\n\n\n\nBadbasierte Photopolymerisation (auch bekannt als SLA)\n\nWie funktionieren diese Verfahren?\n\n\n\nWelche Materialien können sie verarbeiten?\n\n\n\nWas sind ihre Stärken und Schwächen?\n\n\n\nIn welchen Anwendungen wird die Technologie erfolgreich eingesetzt?\n\n\n\nWelche Designrichtlinien sollten bei diesen Verfahren berücksichtigt werden?\n\n\n\n\n\nFreistrahl-Materialauftrag\n\n\n\nNachbearbeitung für 3D-gedruckte Teile\n\n\n\nDirekter vs. indirekter 3D-Druck\n\n3D-Druck von Montagehilfen\n\n\n\n3D-Druck von Gussformen\n\n\n\n\n\n\nIhre Vorteile\n\n\n\n\nSie lernen die technologische Vielfalt des 3D-Drucks kennen.\n\n\n\nSie entwickeln ein Verständnis dafür\, welche im Unternehmen hergestellten Produkte\, Potenzial für die Produktion mittels 3D-Druck aufweisen.\n\n\n\nSie erwerben Kenntnisse über geeignete Konstruktionsverfahren für den 3D-Druck.\n\n\n\nSie verstehen\, wie sich der 3D-Druck in dem Fertigungsportfolio Ihres Unternehmens integrieren lässt.\n\n\n\n\n\n\n\n\nZielgruppe und Vorkenntnisse\n\n\n\nMitarbeitende aus Produktentwicklung\, Design und Fertigung aus allen Branchen. Es sind keine Vorkenntnisse zum Thema 3D-Druck erforderlich. Die Einführungsworkshops können in beliebiger Reihenfolge besucht werden. \n\n\n\n\n\n\n\nOrganisatorisches\n\n\n\nDie Einführungsworkshops finden online statt. Hier sind die nächsten Termine: \n\n\n\n\n\n\n\nModulreihe 1 \n\n\n\n\nEinführungsworkshop 2 (Photopolymerisation und Nachbearbeitung): 26.09.24 von 15:00 bis 17:00\n\n\n\nEinführungsworkshop 3 (Pulverbasierte Verfahren\, 3D-Modelle und 3D-Scannen): 24.10.24 von 15:00 bis 17:00\n\n\n\n\n\n\n\n\nModulreihe 2 \n\n\n\n\nEinführungsworkshop 1 (Einführung und Extrusionsverfahren): 28.11.24 von 15:00 bis 17:00\n\n\n\nEinführungsworkshop 2 (Photopolymerisation und Nachbearbeitung): 19.12.24 von 15:00 bis 17:00\n\n\n\nEinführungsworkshop 3 (Pulverbasierte Verfahren\, 3D-Modelle und 3D-Scannen): 30.01.25 von 15:00 bis 17:00\n\n\n\n\n\n\n\n\nPraxisworkshop \n\n\n\n07.11.24 von 9:30 bis 14:30 (TU Braunschweig) \n\n\n\n\n\n\n\nVerwenden Sie bitte die Schaltfläche unten\, um sich anzumelden. Sie können die Termine beliebig kombinieren. \n\n\n\nWenn Sie auch an dem praktischen Vor-Ort-Workshop zum 3D-Druck teilnehmen möchten\, können Sie sich ebenfalls über das Formular unten anmelden. Nähere Informationen zum Praxisworkshops finden Sie hier. \n\n\n\n\n\n\n\n\n\n\nKontakt\n\n\n\n\n\n\n\n\n\n\n\n\n\n\n\nKarl Hilbig\n\n\n\nExperte für 3D-Druck \n\n\n\nhilbig@daisec.de \n\n\n\n\n\n\n\n\n\n\n\n\n\n\nAnmeldung\n\n\n\n\n\n\n\n\n\n\n\n\n\nDie Einführungs-Workshops finden online statt. Sie erhalten rechtzeitig vor dem Termin einen Link zum Online-Meeting.Die Anmeldung schließt drei Tage vor dem Veranstaltungstermin.Sollten Sie Fragen oder Probleme mit der Anmeldung haben\,wenden Sie sich bitte an den oben angegebenen Kontakt. \n\n\n\n\n\n\n\n\n\n\nVeranstaltungsort\n\n\n\n\n\n\n\n\n\n\n\n\n\n\n\n\n\n\n\n\n\n\n\n\n\n\n\n\n	\n		\n\n			\n			\n\n							\n					\n						Kommende Veranstaltungen					\n				\n			\n			\n				\n											\n\n	\n	\n		\n			Apr.		\n		\n			20		\n	\n\n\n	\n		\n			\n\n				\n					\n		\n		20.04. – 24.04.	\n	\n					\n	\n		DAISEC auf der HANNOVER MESSE 2026	\n\n				\n\n				\n			\n		\n	\n\n\n											\n\n	\n	\n		\n			Apr.		\n		\n			29		\n	\n\n\n	\n		\n			\n\n				\n					\n		\n		14:00 – 15:30	\n	\n					\n	\n		KI-Wissensmanagement mit LLMs\, RAG und lokalen sowie cloudbasierten Ansätzen 1 – Überblick und Orientierung	\n\n				\n\n				\n			\n		\n	\n\n\n											\n\n	\n	\n		\n			Mai		\n		\n			7		\n	\n\n\n	\n		\n			\n\n				\n					\n		\n		16:30 – 19:00	\n	\n					\n	\n		2. KI Werkbank Forum 2026 (Lingen)	\n\n				\n\n				\n			\n		\n	\n\n\n									\n\n				\n	\n		Kalender anzeigen
URL:https://daisec.de/event/3d-druck-einfuehrung2-26-09-2024/
LOCATION:Online
ATTACH;FMTTYPE=image/png:https://daisec.de/wp-content/uploads/2024/05/2024-05-30-DAISEC-Template-3D-Druck-Einfuehrungsworkshop.png
END:VEVENT
END:VCALENDAR