BEGIN:VCALENDAR
VERSION:2.0
PRODID:-//DAISEC - ECPv6.15.20//NONSGML v1.0//EN
CALSCALE:GREGORIAN
METHOD:PUBLISH
X-ORIGINAL-URL:https://daisec.de
X-WR-CALDESC:Veranstaltungen für DAISEC
REFRESH-INTERVAL;VALUE=DURATION:PT1H
X-Robots-Tag:noindex
X-PUBLISHED-TTL:PT1H
BEGIN:VTIMEZONE
TZID:Europe/Berlin
BEGIN:DAYLIGHT
TZOFFSETFROM:+0100
TZOFFSETTO:+0200
TZNAME:CEST
DTSTART:20230326T010000
END:DAYLIGHT
BEGIN:STANDARD
TZOFFSETFROM:+0200
TZOFFSETTO:+0100
TZNAME:CET
DTSTART:20231029T010000
END:STANDARD
BEGIN:DAYLIGHT
TZOFFSETFROM:+0100
TZOFFSETTO:+0200
TZNAME:CEST
DTSTART:20240331T010000
END:DAYLIGHT
BEGIN:STANDARD
TZOFFSETFROM:+0200
TZOFFSETTO:+0100
TZNAME:CET
DTSTART:20241027T010000
END:STANDARD
BEGIN:DAYLIGHT
TZOFFSETFROM:+0100
TZOFFSETTO:+0200
TZNAME:CEST
DTSTART:20250330T010000
END:DAYLIGHT
BEGIN:STANDARD
TZOFFSETFROM:+0200
TZOFFSETTO:+0100
TZNAME:CET
DTSTART:20251026T010000
END:STANDARD
END:VTIMEZONE
BEGIN:VEVENT
DTSTART;TZID=Europe/Berlin:20241008T100000
DTEND;TZID=Europe/Berlin:20241008T103000
DTSTAMP:20260424T025802
CREATED:20240716T115457Z
LAST-MODIFIED:20240813T102026Z
UID:10000128-1728381600-1728383400@daisec.de
SUMMARY:Wann lohnen sich Cyberversicherungen?
DESCRIPTION:Haben Sie schon eine Cyberversicherung oder brauchen Sie erst noch eine? Die meisten Cyberversicherungen bieten nicht nur eine Versicherung\, sondern auch Unterstützung im Bereich der Cybersicherheit. Gleichzeitig stellen Sie auch Anforderungen an Sie und Ihre Cybersicherheit. Wenn Sie eine Cyberversicherung haben\, sollten Sie prüfen\, ob Sie alle Anforderungen erfüllen. Falls Sie noch keine haben\, sollten Sie überlegen\, ob Sie eine brauchen. In beiden Fällen bietet der Vortrag einen Einstieg. \n\n\n\n\n\n\n\nInhalt der Veranstaltung\n\n\n\n\nWas bieten heutige Cyberversicherungen?\n\n\n\nWelche Anforderungen sind oftmals gefordert?\n\n\n\nWelche Aspekte sind zu berücksichtigen für den Abschluss oder Verzicht auf eine Cyberversicherung?\n\n\n\n\n\n\n\n\nZiel der Veranstaltung\n\n\n\nSie erhalten einen ersten Einblick in das Thema und können erste Maßnahmen für Ihr Unternehmen identifizieren. Sie haben die Chance sich mit Kolleg:innen und Cybersicherheitsexperten auszutauschen und Fragen zu stellen. \n\n\n\n\n\n\n\nOrganisatorisches\n\n\n\nDie Veranstaltung wird online durchgeführt. Nach der Anmeldung erhalten Sie einen Zugangslink per E-Mail. Wir empfehlen eine frühzeitige Anmeldung\, um sich einen Platz zu sichern und alle wichtigen Informationen vor der Veranstaltung zu erhalten. \n\n\n\n\n\n\n\n\n\n\nVortrag von\n\n\n\n\n\n\n\n\n\n\n\n\n\n\n\nDr. Oliver Wiese\n\n\n\nExperte für Cybersicherheit \n\n\n\nwiese@daisec.de \n\n\n\n\n\n\n\n\n\n\nAnmeldung\n\n\n\n\n\n\n\n\n\n\n\n\n\nDies ist ein gemeinsames Angebot des DAISEC und des Mittelstand-Digital Zentrums Hannover.Die Anmeldung schließt zwei Tage vor Beginn der Veranstaltung.Bei Fragen kontaktieren Sie uns bitte über info@daisec.de \n\n\n\n\n\n\n\n\n\n\nVeranstaltungsort\n\n\n\n\n\n\n\n\n\n\n\n\n\n\n\n\n\n\n\n\n\n\n\n\n\n\n\n\n	\n		\n\n			\n			\n\n							\n					\n						Kommende Veranstaltungen					\n				\n			\n			\n				\n											\n\n	\n	\n		\n			Apr.		\n		\n			20		\n	\n\n\n	\n		\n			\n\n				\n					\n		\n		20.04. – 24.04.	\n	\n					\n	\n		DAISEC auf der HANNOVER MESSE 2026	\n\n				\n\n				\n			\n		\n	\n\n\n											\n\n	\n	\n		\n			Apr.		\n		\n			29		\n	\n\n\n	\n		\n			\n\n				\n					\n		\n		14:00 – 15:30	\n	\n					\n	\n		KI-Wissensmanagement mit LLMs\, RAG und lokalen sowie cloudbasierten Ansätzen 1 – Überblick und Orientierung	\n\n				\n\n				\n			\n		\n	\n\n\n											\n\n	\n	\n		\n			Mai		\n		\n			7		\n	\n\n\n	\n		\n			\n\n				\n					\n		\n		16:30 – 19:00	\n	\n					\n	\n		2. KI Werkbank Forum 2026 (Lingen)	\n\n				\n\n				\n			\n		\n	\n\n\n									\n\n				\n	\n		Kalender anzeigen
URL:https://daisec.de/event/wann-lohnen-sich-cyberversicherungen-08-10-2024/
LOCATION:Online
CATEGORIES:Kurzvortrag "Auf den Punkt"
ATTACH;FMTTYPE=image/png:https://daisec.de/wp-content/uploads/2024/07/2024-10-08-Cyberversicherungen.png
END:VEVENT
END:VCALENDAR