BEGIN:VCALENDAR
VERSION:2.0
PRODID:-//DAISEC - ECPv6.15.20//NONSGML v1.0//EN
CALSCALE:GREGORIAN
METHOD:PUBLISH
X-ORIGINAL-URL:https://daisec.de
X-WR-CALDESC:Veranstaltungen für DAISEC
REFRESH-INTERVAL;VALUE=DURATION:PT1H
X-Robots-Tag:noindex
X-PUBLISHED-TTL:PT1H
BEGIN:VTIMEZONE
TZID:Europe/Berlin
BEGIN:DAYLIGHT
TZOFFSETFROM:+0100
TZOFFSETTO:+0200
TZNAME:CEST
DTSTART:20230326T010000
END:DAYLIGHT
BEGIN:STANDARD
TZOFFSETFROM:+0200
TZOFFSETTO:+0100
TZNAME:CET
DTSTART:20231029T010000
END:STANDARD
BEGIN:DAYLIGHT
TZOFFSETFROM:+0100
TZOFFSETTO:+0200
TZNAME:CEST
DTSTART:20240331T010000
END:DAYLIGHT
BEGIN:STANDARD
TZOFFSETFROM:+0200
TZOFFSETTO:+0100
TZNAME:CET
DTSTART:20241027T010000
END:STANDARD
BEGIN:DAYLIGHT
TZOFFSETFROM:+0100
TZOFFSETTO:+0200
TZNAME:CEST
DTSTART:20250330T010000
END:DAYLIGHT
BEGIN:STANDARD
TZOFFSETFROM:+0200
TZOFFSETTO:+0100
TZNAME:CET
DTSTART:20251026T010000
END:STANDARD
END:VTIMEZONE
BEGIN:VEVENT
DTSTART;TZID=Europe/Berlin:20241029T130000
DTEND;TZID=Europe/Berlin:20241029T170000
DTSTAMP:20260424T030700
CREATED:20240919T092735Z
LAST-MODIFIED:20241007T111411Z
UID:10000172-1730206800-1730221200@daisec.de
SUMMARY:Den Einstieg in ein effizientes Datenmanagement erfolgreich angehen
DESCRIPTION:Es ist für Unternehmen von entscheidender Bedeutung\, sich mit Daten auseinanderzusetzen\, da Daten das Potenzial haben\, tiefgreifende Einblicke und Wettbewerbsvorteile zu bieten. Durch die Analyse von Daten können Unternehmen Muster und Trends erkennen\, die ihnen helfen\, fundierte Entscheidungen zu treffen\, ihre Geschäftsstrategien zu optimieren und die Effizienz ihrer Abläufe zu steigern. In einer zunehmend datengetriebenen Welt ist die Fähigkeit\, Daten effektiv zu nutzen\, ein entscheidender Faktor für den langfristigen Erfolg und die Innovationsfähigkeit eines Unternehmens. \n\n\n\nDamit diese Daten sinnvoll genutzt werden können\, müssen sie sorgfältig aufbereitet werden. Der Prozess der Datenaufbereitung\, der von der Sammlung und Bewertung der Daten über die Bereinigung und Transformation bis hin zur Speicherung reicht\, bildet das Rückgrat jeder erfolgreichen Datenanalyse. \n\n\n\n\n\n\n\nUnser Angebot\n\n\n\nIn diesem Workshop werden gemeinsam die wesentlichen Schritte des Datenaufbereitungsprozesses durchlaufen. Praktische Übungen werden im Team durchführen. Die erlernten Techniken können am Ende direkt auf die eigenen Daten anwenden werden. Ziel ist es\, das nötige Rüstzeug zu vermitteln\, um die Qualität und Nutzbarkeit der Daten erheblich zu verbessern und somit den Grundstein für fundierte Analysen und wertvolle Erkenntnisse zu legen. \n\n\n\n\n\n\n\nLerninhalte\n\n\n\n– Grundlagen von Daten– Verständnis für das Aufbereiten von Daten entwickeln– Eigene Lösungsansätze zu entwickeln– Lösungsansätze präsentieren \n\n\n\n\n\n\n\nIhr Vorteil\n\n\n\n– Die Teilnehmenden verstehen die Grundlagen von Daten– Die Teilnehmenden erhalten Einblicke in den Datenaufbereitungsprozesses– Die Teilnehmenden können das Erlernte auf die eignen Daten anwenden \n\n\n\n\n\n\n\nZielgruppe und Vorkenntnisse\n\n\n\n– Führungskräfte und Mitarbeitende im mittleren Management– Die eigenen Datenwelt muss jedem Teilnehmenden ersichtlich sein– Ziel über das eigene Datenvorhaben sollte bekannt sein \n\n\n\n \n\n\n\n\n\n\n\nOrganisatorisches\n\n\n\nDie Dauer der Veranstaltung beträgt ca. 4 Stunden. Das Webinar findet online statt. Ein Link zum Online-Webinarraum wird Ihnen rechtzeitig vor der Veranstaltung zugesendet. \n\n\n\n\n\n\n\n\n\n\nKontakt\n\n\n\n\n\n\n\n\n\n\n\n\n\n\n\nRenata Latka\n\n\n\nExpertin für Digitalisierungstransformation \n\n\n\nlatka@daisec.de \n\n\n\n\n\n\n\n\n\n\n\n\n\n\n\n\n\n\nAnmeldung\n\n\n\n\n\n\n\n\n\n\n\n\n\nAlle Plätze für diese Veranstaltung sind bereits belegt. \n\n\n\nDie Teilnehmerzahl ist auf 15 begrenzt.Die Anmeldung schließt drei Tage vor dem Veranstaltungstermin.Sollten Sie Fragen oder Probleme mit der Anmeldung haben\,wenden Sie sich bitte an den oben angegebenen Kontakt. \n\n\n\n\n\n\n\n\n\n\nVeranstaltungsort\n\n\n\n\n\n\n\n\n\n\n\n\n\n\n\n\n\n\n\n\n\n\n\n\n\n\n\n\n	\n		\n\n			\n			\n\n							\n					\n						Kommende Veranstaltungen					\n				\n			\n			\n				\n											\n\n	\n	\n		\n			Apr.		\n		\n			20		\n	\n\n\n	\n		\n			\n\n				\n					\n		\n		20.04. – 24.04.	\n	\n					\n	\n		DAISEC auf der HANNOVER MESSE 2026	\n\n				\n\n				\n			\n		\n	\n\n\n											\n\n	\n	\n		\n			Apr.		\n		\n			29		\n	\n\n\n	\n		\n			\n\n				\n					\n		\n		14:00 – 15:30	\n	\n					\n	\n		KI-Wissensmanagement mit LLMs\, RAG und lokalen sowie cloudbasierten Ansätzen 1 – Überblick und Orientierung	\n\n				\n\n				\n			\n		\n	\n\n\n											\n\n	\n	\n		\n			Mai		\n		\n			7		\n	\n\n\n	\n		\n			\n\n				\n					\n		\n		16:30 – 19:00	\n	\n					\n	\n		2. KI Werkbank Forum 2026 (Lingen)	\n\n				\n\n				\n			\n		\n	\n\n\n									\n\n				\n	\n		Kalender anzeigen
URL:https://daisec.de/event/einstieg-effizientes-datenmanagement-29-10-2024/
LOCATION:Online
CATEGORIES:Webinar
ATTACH;FMTTYPE=image/png:https://daisec.de/wp-content/uploads/2024/09/Schulung.png
END:VEVENT
END:VCALENDAR