BEGIN:VCALENDAR
VERSION:2.0
PRODID:-//DAISEC - ECPv6.15.20//NONSGML v1.0//EN
CALSCALE:GREGORIAN
METHOD:PUBLISH
X-WR-CALNAME:DAISEC
X-ORIGINAL-URL:https://daisec.de
X-WR-CALDESC:Veranstaltungen für DAISEC
REFRESH-INTERVAL;VALUE=DURATION:PT1H
X-Robots-Tag:noindex
X-PUBLISHED-TTL:PT1H
BEGIN:VTIMEZONE
TZID:Europe/Berlin
BEGIN:DAYLIGHT
TZOFFSETFROM:+0100
TZOFFSETTO:+0200
TZNAME:CEST
DTSTART:20230326T010000
END:DAYLIGHT
BEGIN:STANDARD
TZOFFSETFROM:+0200
TZOFFSETTO:+0100
TZNAME:CET
DTSTART:20231029T010000
END:STANDARD
BEGIN:DAYLIGHT
TZOFFSETFROM:+0100
TZOFFSETTO:+0200
TZNAME:CEST
DTSTART:20240331T010000
END:DAYLIGHT
BEGIN:STANDARD
TZOFFSETFROM:+0200
TZOFFSETTO:+0100
TZNAME:CET
DTSTART:20241027T010000
END:STANDARD
BEGIN:DAYLIGHT
TZOFFSETFROM:+0100
TZOFFSETTO:+0200
TZNAME:CEST
DTSTART:20250330T010000
END:DAYLIGHT
BEGIN:STANDARD
TZOFFSETFROM:+0200
TZOFFSETTO:+0100
TZNAME:CET
DTSTART:20251026T010000
END:STANDARD
END:VTIMEZONE
BEGIN:VEVENT
DTSTART;TZID=Europe/Berlin:20241104T090000
DTEND;TZID=Europe/Berlin:20241104T110000
DTSTAMP:20260424T012542
CREATED:20240919T115149Z
LAST-MODIFIED:20241007T110626Z
UID:10000173-1730710800-1730718000@daisec.de
SUMMARY:KI - Teil 1: Grundlagen - Künstliche Intelligenz verstehen
DESCRIPTION:Um Betriebe bei der digitalen Transformation zu unterstützen\, bieten wir eine Online-Seminarreihe für Unternehmer*innen und Führungskräfte an\, um den Einsatz von KI im Mittelstand und Handwerk mit Blick auf Praxisanwendungen zu erarbeiten. \n\n\n\nWas bringt mir die Digitalisierung? Wie kann Künstliche Intelligenz (KI) im Betriebsalltag entlasten? In welchen Arbeitsbereichen ermöglicht sie effizientere Abläufe und was kostet der Einsatz von KI? In der 3-teiligen Online-Seminarreihe zum Thema KI in Mittelstand und Handwerk werden diese und weitere Fragen beantwortet. Neben Grundlagenwissen zum Einsatz von KI sollen dabei Praxisanwendungen in Mittelstand und Handwerk gemeinsam erarbeitet werden. \n\n\n\n\n\n\n\nProgrammablauf\n\n\n\nTeil 1 – Grundlagen – Künstliche Intelligenz verstehen adressiert folgende Fragestellungen: \n\n\n\n\nWas ist Künstliche Intelligenz?\n\n\n\nWie lernt die KI?\n\n\n\nWelche Anwendungsgebiete und Herausforderungen bestehen?\n\n\n\nWie kann ich erste Erfahrungen sammeln?\n\n\n\n\n\n\n\n\nIhr Vorteil \n\n\n\nSie lernen Chancen und Risiken sowie wesentliche Merkmale von KI-Technologien kennen. Fallbeispiele für gelungene Anwendungen von KI-Technologie in Mittelstand und Handwerk inspirieren Sie möglicherweise zu eigenen KI-Projekten oder helfen Ihnen\, die für Sie passende KI-Lösung zu entdecken. Sollten Sie sich im Laufe der Workshop-Reihe oder im Anschluss entscheiden\, selbst KI-Lösungen in Ihre Geschäftsprozesse integrieren zu wollen\, vermittelt das Team Kontakte und Unterstützungsangebote. \n\n\n\n\n\n\n\nWeitere Schulungen der Reihe KI\n\n\n\n\n\n\n\n\n\nTeil 2:KI-Geschäftsmodelle \n\n\n\n \n\n\n\n05.11.2024\, 16:00 – 18:00 UhrOnlineReferent: Lukas Fischer \n\n\n\n\n\nIm zweiten Teil der Serie geht es um die Frage\, was KI-basierte Geschäftsmodelle sind und wie sie konzeptioniert werden. Sie erfahren\, wie Unternehmen durch den gezielten Einsatz von künstlicher Intelligenz (KI) innovative Geschäftsmodelle entwickeln können\, die ihnen langfristig einen Wettbewerbsvorteil verschaffen. \n\n\n\nBeispielsweise nutzen immer mehr Unternehmen KI\, um datenbasierte Entscheidungen schneller zu treffen und Prozesse effizienter zu gestalten. Aber wie funktioniert die Konzeption eines KI-basierten Geschäftsmodells und welcher konkrete Nutzen lässt sich daraus für Ihr Unternehmen ableiten? \n\n\n\n \n\n\n\n\n\n\n\nTeil 3:Künstliche Intelligenz betrieblich nutzen\, Demonstration\, Best Practice-Beispiele \n\n\n\n08.11.2024\, 09:00 – 11:00 UhrOnlineReferenten: TimoBartels\, Monty-Maximilian Zühlke \n\n\n\n \n\n\n\n\n\nIm dritten Teil der Serie geht es darum\, wie gut Ihr Unternehmen für den Einsatz von Künstlicher Intelligenz (KI) vorbereitet ist. Sie erfahren\, welche Schritte notwendig sind\, um KI erfolgreich in Ihrem Betrieb zu implementieren\, und welche Anwendungsbereiche für Sie besonders interessant sein könnten. \n\n\n\nBeispielsweise setzen viele Unternehmen KI in Bereichen wie Automatisierung oder Kundenservice ein. Doch wie können Sie herausfinden\, ob Ihr Unternehmen bereit ist\, und wie können Sie konkret loslegen\, um die Potenziale von KI für sich zu nutzen? \n\n\n\n\n\n\n\n\n\n\n\n\n\n\n\nGebühren\n\n\n\nDiese Veranstaltungsreihe ist kostenfrei. \n\n\n\n\n\n\n\nJetzt kostenlos anmelden!\n\n\n\n\n\n\n\n\n\nDie Anmeldung erfolgt über die Webseite unseres Partners KI.WI / Region Hannover: \n\n\n\n\n\n\nZur Anmeldung\n\n\n\n\n\n\n\n\n\n\nTechnische Voraussetzungen und Online-Zugang\n\n\n\nRechtzeitig vor der Veranstaltung erhalten Sie einen Link für die Online-Sitzungen\, über welchen Sie sich einwählen können. \n\n\n\nZur Teilnahme benötigen Sie einen internetfähigen PC\, Laptop oder Netbook mit Kamera\, Mikrofon\, Lautsprecher oder Headset. Auf dem Smartphone werden Präsentationen nur sehr klein angezeigt. \n\n\n\n\n\n\n\n\n\n\n\n\n\n\n\n\nKontakt\n\n\n\n\n\n\n\n\n\n\n\n\n\n\n\nJulian Laue\n\n\n\nExperte für Künstliche Intelligenz \n\n\n\nlaue@daisec.de \n\n\n\n\n\n\n\n\n\n\n\n\n\n\n\n\n\n\n\n\n	\n		\n\n			\n			\n\n							\n					\n						Kommende Veranstaltungen					\n				\n			\n			\n				\n											\n\n	\n	\n		\n			Apr.		\n		\n			20		\n	\n\n\n	\n		\n			\n\n				\n					\n		\n		20.04. – 24.04.	\n	\n					\n	\n		DAISEC auf der HANNOVER MESSE 2026	\n\n				\n\n				\n			\n		\n	\n\n\n											\n\n	\n	\n		\n			Apr.		\n		\n			29		\n	\n\n\n	\n		\n			\n\n				\n					\n		\n		14:00 – 15:30	\n	\n					\n	\n		KI-Wissensmanagement mit LLMs\, RAG und lokalen sowie cloudbasierten Ansätzen 1 – Überblick und Orientierung	\n\n				\n\n				\n			\n		\n	\n\n\n											\n\n	\n	\n		\n			Mai		\n		\n			7		\n	\n\n\n	\n		\n			\n\n				\n					\n		\n		16:30 – 19:00	\n	\n					\n	\n		2. KI Werkbank Forum 2026 (Lingen)	\n\n				\n\n				\n			\n		\n	\n\n\n									\n\n				\n	\n		Kalender anzeigen
URL:https://daisec.de/event/ki-inforeihe-1-grundlagen-04-11-2024/
CATEGORIES:KI-Inforeihe,Qualifizierungsprogramm
ATTACH;FMTTYPE=image/png:https://daisec.de/wp-content/uploads/2024/09/2024-11-04-KI-Inforeihe-Teil-1.png
END:VEVENT
END:VCALENDAR