BEGIN:VCALENDAR
VERSION:2.0
PRODID:-//DAISEC - ECPv6.15.20//NONSGML v1.0//EN
CALSCALE:GREGORIAN
METHOD:PUBLISH
X-WR-CALNAME:DAISEC
X-ORIGINAL-URL:https://daisec.de
X-WR-CALDESC:Veranstaltungen für DAISEC
REFRESH-INTERVAL;VALUE=DURATION:PT1H
X-Robots-Tag:noindex
X-PUBLISHED-TTL:PT1H
BEGIN:VTIMEZONE
TZID:Europe/Berlin
BEGIN:DAYLIGHT
TZOFFSETFROM:+0100
TZOFFSETTO:+0200
TZNAME:CEST
DTSTART:20230326T010000
END:DAYLIGHT
BEGIN:STANDARD
TZOFFSETFROM:+0200
TZOFFSETTO:+0100
TZNAME:CET
DTSTART:20231029T010000
END:STANDARD
BEGIN:DAYLIGHT
TZOFFSETFROM:+0100
TZOFFSETTO:+0200
TZNAME:CEST
DTSTART:20240331T010000
END:DAYLIGHT
BEGIN:STANDARD
TZOFFSETFROM:+0200
TZOFFSETTO:+0100
TZNAME:CET
DTSTART:20241027T010000
END:STANDARD
BEGIN:DAYLIGHT
TZOFFSETFROM:+0100
TZOFFSETTO:+0200
TZNAME:CEST
DTSTART:20250330T010000
END:DAYLIGHT
BEGIN:STANDARD
TZOFFSETFROM:+0200
TZOFFSETTO:+0100
TZNAME:CET
DTSTART:20251026T010000
END:STANDARD
END:VTIMEZONE
BEGIN:VEVENT
DTSTART;TZID=Europe/Berlin:20241121T090000
DTEND;TZID=Europe/Berlin:20241121T110000
DTSTAMP:20260424T012538
CREATED:20240905T052129Z
LAST-MODIFIED:20240930T131153Z
UID:10000168-1732179600-1732186800@daisec.de
SUMMARY:Cybersicherheit - Teil 2: Schwachstellen im System - Erkennung und Vermeidung von Schwachstellen in Software und Hardware
DESCRIPTION:Nächster Termin: \n\n\n\n\n\n\n\n\n\n\n\n\n\n\n\n\n\n\nOhne die IT geht im Büro und im Betrieb kaum etwas\, aber wie können wir uns vor Cyberangriffen besser schützen? Wie verhalten wir uns im Ernstfall\, wenn ein Angriff erfolgt?In dieser Veranstaltungsreihe werden wir diesen Fragen nachgehen. \n\n\n\n\n\n\n\nProgrammablauf\n\n\n\nTeil 2 – Schwachstellen im System adressiert folgende Fragestellungen: \n\n\n\n\nWie können Schwachstellen in Software und Hardware identifiziert werden?\n\n\n\nWie können die Risiken durch Schwachstellen abgeschätzt werden?\n\n\n\nWie ist der Umgang mit Schwachstellen in Software und Hardware?\n\n\n\nWie können ältere Maschinen und Geräte noch genutzt werden?\n\n\n\n\n\n\n\n\nIhr Vorteil \n\n\n\n\nSie lernen gängige Schwachstellen kennen.\n\n\n\nSie erfahren\, wie neue Schwachstellen kommuniziert werden\n\n\n\nSie können Maßnahmen planen\, um Schwachstellen schneller zu schließen\n\n\n\nSie wissen\, wie Sie ihr Unternehmen nachhaltig schützen können und wie Mitarbeiter mitgenommen werden können\n\n\n\n\n\n\n\n\nWeitere Schulungen der Reihe Cybersicherheit\n\n\n\n\n\nTeil 1: Menschen stärken – Phishing\, schwache Passwörter und Co. verhindern \n\n\n\n14.11.2024\, 09:00 – 11:00 UhrOnlineReferent: Dr. Oliver Wiese \n\n\n\n\n\nIm ersten Teil besprechen wir\, wie Mitarbeitende für das Thema IT-Sicherheit sensibilisiert werden können. Außerdem klären wir\, welche Cyberangriffe sich gegen Mitarbeitende richten und welche Gegenmaßnahmen gegen Phishing\, schwache Passwörter und Co. sinnvoll und erforderlich sind. \n\n\n\n\n\n\n\n\n\n\n\nTeil 3:Professionell auf Sicherheitsvorfälle reagieren \n\n\n\n28.11.2024\, 09:00 – 11:00 UhrOnlineReferent: Dr. Oliver Wiese \n\n\n\n\n\nIm dritten Teil der Reihe thematisieren wir\, welche Schritte unternommen werden müssen\, wenn ein Sicherheitsvorfall aufgetreten ist und das Unternehmen bedroht. Ziel dieser Veranstaltung ist es\, einen umfassenden Maßnahmenplan für das eigene Unternehmen zu entwickeln. Dieser Plan soll es Ihnen ermöglichen\, im Ernstfall koordiniert und besonnen zu reagieren\, und konsequent die richtigen Schritte einzuleiten\, um den potenziellen Schaden so gering wie möglich zu halten. Ein Schwerpunkt sind Ransomware-Angriffe. \n\n\n\n\n\n\n\n\n\n\n\n\n\n\n\nGebühren\n\n\n\nDiese Veranstaltungsreihe ist kostenfrei. \n\n\n\n\n\n\n\nJetzt kostenlos anmelden!\n\n\n\n\n\n\n\n\n\nTechnische Voraussetzungen und Online-Zugang\n\n\n\nRechtzeitig vor der Veranstaltung erhalten Sie einen Link für die Online-Sitzungen\, über welchen Sie sich einwählen können. \n\n\n\nZur Teilnahme benötigen Sie einen internetfähigen PC\, Laptop oder Netbook mit Kamera\, Mikrofon\, Lautsprecher oder Headset. Auf dem Smartphone werden Präsentationen nur sehr klein angezeigt. \n\n\n\n\n\n\n\n\n\n\nKontakt\n\n\n\n\n\n\n\n\n\n\n\n\n\n\n\nDr. Oliver Wiese\n\n\n\nExperte für Cybersicherheit \n\n\n\nwiese@daisec.de \n\n\n\n\n\n\n\n\n\n\n\n\n\n\n\n\n\n\n\n\n\n\n\n\n	\n		\n\n			\n			\n\n							\n					\n						Kommende Veranstaltungen					\n				\n			\n			\n				\n											\n\n	\n	\n		\n			Apr.		\n		\n			20		\n	\n\n\n	\n		\n			\n\n				\n					\n		\n		20.04. – 24.04.	\n	\n					\n	\n		DAISEC auf der HANNOVER MESSE 2026	\n\n				\n\n				\n			\n		\n	\n\n\n											\n\n	\n	\n		\n			Apr.		\n		\n			29		\n	\n\n\n	\n		\n			\n\n				\n					\n		\n		14:00 – 15:30	\n	\n					\n	\n		KI-Wissensmanagement mit LLMs\, RAG und lokalen sowie cloudbasierten Ansätzen 1 – Überblick und Orientierung	\n\n				\n\n				\n			\n		\n	\n\n\n											\n\n	\n	\n		\n			Mai		\n		\n			7		\n	\n\n\n	\n		\n			\n\n				\n					\n		\n		16:30 – 19:00	\n	\n					\n	\n		2. KI Werkbank Forum 2026 (Lingen)	\n\n				\n\n				\n			\n		\n	\n\n\n									\n\n				\n	\n		Kalender anzeigen
URL:https://daisec.de/event/cybersicherheit-teil-2-2024-11-21/
CATEGORIES:KI-Inforeihe,Qualifizierungsprogramm
ATTACH;FMTTYPE=image/png:https://daisec.de/wp-content/uploads/2024/09/Cybersicherheit_2.png
END:VEVENT
END:VCALENDAR