BEGIN:VCALENDAR
VERSION:2.0
PRODID:-//DAISEC - ECPv6.15.20//NONSGML v1.0//EN
CALSCALE:GREGORIAN
METHOD:PUBLISH
X-WR-CALNAME:DAISEC
X-ORIGINAL-URL:https://daisec.de
X-WR-CALDESC:Veranstaltungen für DAISEC
REFRESH-INTERVAL;VALUE=DURATION:PT1H
X-Robots-Tag:noindex
X-PUBLISHED-TTL:PT1H
BEGIN:VTIMEZONE
TZID:Europe/Berlin
BEGIN:DAYLIGHT
TZOFFSETFROM:+0100
TZOFFSETTO:+0200
TZNAME:CEST
DTSTART:20240331T010000
END:DAYLIGHT
BEGIN:STANDARD
TZOFFSETFROM:+0200
TZOFFSETTO:+0100
TZNAME:CET
DTSTART:20241027T010000
END:STANDARD
BEGIN:DAYLIGHT
TZOFFSETFROM:+0100
TZOFFSETTO:+0200
TZNAME:CEST
DTSTART:20250330T010000
END:DAYLIGHT
BEGIN:STANDARD
TZOFFSETFROM:+0200
TZOFFSETTO:+0100
TZNAME:CET
DTSTART:20251026T010000
END:STANDARD
BEGIN:DAYLIGHT
TZOFFSETFROM:+0100
TZOFFSETTO:+0200
TZNAME:CEST
DTSTART:20260329T010000
END:DAYLIGHT
BEGIN:STANDARD
TZOFFSETFROM:+0200
TZOFFSETTO:+0100
TZNAME:CET
DTSTART:20261025T010000
END:STANDARD
END:VTIMEZONE
BEGIN:VEVENT
DTSTART;TZID=Europe/Berlin:20250429T100000
DTEND;TZID=Europe/Berlin:20250429T120000
DTSTAMP:20260423T124918
CREATED:20250220T112207Z
LAST-MODIFIED:20250220T133932Z
UID:10000225-1745920800-1745928000@daisec.de
SUMMARY:Herausforderungen des Autonomen Fahrens in China und die Auswirkungen auf die Infrastruktur der Mobilität 
DESCRIPTION:Die chinesische Automobilindustrie hat in den letzten Jahrzehnten eine bemerkenswerte Entwicklung durchlaufen. Von einer weitgehend staatlich gelenkten und technologisch rückständigen Branche hat sie sich zu einem globalen Schwergewicht gewandelt\, das heute nicht nur der größte Automarkt der Welt ist\, sondern auch eine führende Rolle bei Innovationen und der Produktion von Fahrzeugen spielt. Dieser Wandel wurde durch eine Kombination aus staatlicher Förderung\, ausländischen Investitionen und einer zunehmenden Fokussierung auf Forschung und Entwicklung vorangetrieben. Heute steht China an der Spitze der Elektromobilität und autonomen Fahrtechnologien\, was die Branche weltweit prägt. \n\n\n\nDoch dieser Erfolg ist nicht ohne Herausforderungen. Die chinesische Automobilindustrie steht vor einem tiefgreifenden Wandel\, der durch technologische Disruptionen\, veränderte Verbraucherpräferenzen und den globalen Druck zur Dekarbonisierung geprägt ist. Die Regierung hat ehrgeizige Ziele für die Reduzierung von Emissionen gesetzt\, was die Automobilhersteller dazu zwingt\, sich stärker auf Elektrofahrzeuge und alternative Antriebstechnologien zu konzentrieren. Gleichzeitig verändert die Digitalisierung die Art und Weise\, wie Fahrzeuge entwickelt\, produziert und genutzt werden. In den Vorträgen werden wir die Schlüsselfaktoren dieser Transformation analysieren und die Auswirkungen auf die globale Automobilindustrie diskutieren. \n\n\n\n\n\n\n\nUnser Angebot\n\n\n\nIn diesen Vorträgen werden die Teilnehmenden umfassende Einblicke in die Transformation der chinesischen Automobilindustrie gewinnen\, einschließlich der historischen Entwicklung\, der aktuellen Trends sowie der politischen und wirtschaftlichen Rahmenbedingungen\, die diese Veränderungen geprägt haben. Sie werden verstehen\, wie China durch gezielte Investitionen in Elektrofahrzeuge und digitale Technologien an die globale Spitze der Automobilhersteller gelangt ist und welche Herausforderungen und Chancen damit verbunden sind. Darüber hinaus werden wir die sich wandelnden Verbraucherbedürfnisse und deren Einfluss auf die Mobilitätskonzepte diskutieren\, sodass die Teilnehmenden ein fundiertes Verständnis für die Dynamiken der Branche sowie die strategischen Ansätze erlangen\, die für die Zukunft der Automobilindustrie entscheidend sein werden. \n\n\n\n\n\n\n\n\nSie lernen die Grundkonzepte und Klassifikationen des autonomen Fahrens kennen. \n\n\n\nSie erfahren Einblicke in die aktuellen Entwicklungen in der chinesischen Automobilindustrie im Bereich autonomes Fahren. \n\n\n\nSie erhalten Einblick in die Rolle von Schlüsselunternehmen und deren Technologien in China (z.B. Baidu\, Didi\, NIO). \n\n\n\nSie verstehen die staatliche Unterstützung und politische Maßnahmen zur Förderung autonomer Fahrzeuge in China. \n\n\n\nSie erhalten Einsicht in die regulatorischen Rahmenbedingungen und Herausforderungen im chinesischen Kontext. \n\n\n\nWir bewerten die Auswirkungen autonomer Fahrzeuge auf den urbanen Verkehr und die Mobilität in China. \n\n\n\nWir stellen Prognosen zur zukünftigen Entwicklung und Marktpotenzial im Bereich autonomes Fahren in China. \n\n\n\n\n\n\n\n\nLerninhalte\n\n\n\n\nDefinition und Abgrenzung von verschiedenen Automatisierungsgraden \n\n\n\nBedeutung des Themas für die Mobilität in China \n\n\n\nBeispiele erfolgreicher Testprojekte in Städten wie Peking\, Shanghai und Shenzhen \n\n\n\nSchlüsselunternehmen (z.B. Baidu\, Didi\, NIO\, Li) und deren Ansätze \n\n\n\nVergleich zu anderen Ländern\, insbesondere den USA \n\n\n\nChinas nationale Strategien zur Förderung autonomer Fahrzeuge \n\n\n\nGesetzgebung zum autonomen Fahren in China \n\n\n\n\n\n\n\n\nZielgruppe und Vorkenntnisse\n\n\n\nAlle\, die sich für die chinesische Automobilindustrie interessieren. Es sind keine Vorkenntnisse erforderlich. \n\n\n\n\n\n\n\nWeitere Termine\n\n\n\nIn dieser Vortragsreihe werden folgende Themen besprochen: \n\n\n\n28.03.2025: Die chinesische Automobilindustrie im Wandel29.04.2025: Herausforderungen des Autonomen Fahrens in China und die Auswirkungen auf die Infrastruktur der Mobilität27.06.2025: Wasserstoffautos und Wasserstofftechnologien in China18.09.2025: The Chinese Automotive Industry in transition25.11.2025: Fuel Cell Vehicles and hydrogen technologies in China \n\n\n\nEine Übersicht über die genauen Inhalte und Termine finden Sie hier: \n\n\n\n\nTerminübersicht\n\n\n\n\n\n\n\n\nGebühren\n\n\n\nDiese Veranstaltungsreihe ist kostenfrei. \n\n\n\n\n\n\n\nJetzt kostenlos anmelden!\n\n\n\n\n\n\n\n\n\nOrganisatorisches\n\n\n\nDie Vorträge finden online statt. Sie erhalten rechtzeitig vor dem Termin einen Link zum Online-Meeting.Die Anmeldung schließt zwei Tage vor dem Veranstaltungstermin.Sollten Sie Fragen oder Probleme mit der Anmeldung haben\,wenden Sie sich bitte an bartodziej@daisec.de. \n\n\n\n \n\n\n\n\n\n\n\nVeranstaltungsort\n\n\n\n\n\n\n\n\n\n\n\n\n\n\n\n\n\n\n\n\n\n\nKontakt\n\n\n\n\n\n\n\n\n\n\n\n\n\n\n\nDr.-Ing. Weijun Lu\n\n\n\nExperte für Automobilbranche \n\n\n\nlu@daisec.de \n\n\n\n\n\n\n\n\n\n\n\n\n\n\n\n\n\n\n\n\n	\n		\n\n			\n			\n\n							\n					\n						Kommende Veranstaltungen					\n				\n			\n			\n				\n											\n\n	\n	\n		\n			Apr.		\n		\n			20		\n	\n\n\n	\n		\n			\n\n				\n					\n		\n		20.04. – 24.04.	\n	\n					\n	\n		DAISEC auf der HANNOVER MESSE 2026	\n\n				\n\n				\n			\n		\n	\n\n\n											\n\n	\n	\n		\n			Apr.		\n		\n			29		\n	\n\n\n	\n		\n			\n\n				\n					\n		\n		14:00 – 15:30	\n	\n					\n	\n		KI-Wissensmanagement mit LLMs\, RAG und lokalen sowie cloudbasierten Ansätzen 1 – Überblick und Orientierung	\n\n				\n\n				\n			\n		\n	\n\n\n											\n\n	\n	\n		\n			Mai		\n		\n			7		\n	\n\n\n	\n		\n			\n\n				\n					\n		\n		16:30 – 19:00	\n	\n					\n	\n		2. KI Werkbank Forum 2026 (Lingen)	\n\n				\n\n				\n			\n		\n	\n\n\n									\n\n				\n	\n		Kalender anzeigen
URL:https://daisec.de/event/herausforderungen-autonomes-fahren-china/
LOCATION:Online
ATTACH;FMTTYPE=image/png:https://daisec.de/wp-content/uploads/2025/02/2025-03-DAISEC-KI-in-der-chinesischen-Automobilindustrie.png
END:VEVENT
END:VCALENDAR