BEGIN:VCALENDAR
VERSION:2.0
PRODID:-//DAISEC - ECPv6.15.20//NONSGML v1.0//EN
CALSCALE:GREGORIAN
METHOD:PUBLISH
X-WR-CALNAME:DAISEC
X-ORIGINAL-URL:https://daisec.de
X-WR-CALDESC:Veranstaltungen für DAISEC
REFRESH-INTERVAL;VALUE=DURATION:PT1H
X-Robots-Tag:noindex
X-PUBLISHED-TTL:PT1H
BEGIN:VTIMEZONE
TZID:Europe/Berlin
BEGIN:DAYLIGHT
TZOFFSETFROM:+0100
TZOFFSETTO:+0200
TZNAME:CEST
DTSTART:20240331T010000
END:DAYLIGHT
BEGIN:STANDARD
TZOFFSETFROM:+0200
TZOFFSETTO:+0100
TZNAME:CET
DTSTART:20241027T010000
END:STANDARD
BEGIN:DAYLIGHT
TZOFFSETFROM:+0100
TZOFFSETTO:+0200
TZNAME:CEST
DTSTART:20250330T010000
END:DAYLIGHT
BEGIN:STANDARD
TZOFFSETFROM:+0200
TZOFFSETTO:+0100
TZNAME:CET
DTSTART:20251026T010000
END:STANDARD
BEGIN:DAYLIGHT
TZOFFSETFROM:+0100
TZOFFSETTO:+0200
TZNAME:CEST
DTSTART:20260329T010000
END:DAYLIGHT
BEGIN:STANDARD
TZOFFSETFROM:+0200
TZOFFSETTO:+0100
TZNAME:CET
DTSTART:20261025T010000
END:STANDARD
END:VTIMEZONE
BEGIN:VEVENT
DTSTART;TZID=Europe/Berlin:20250611T170000
DTEND;TZID=Europe/Berlin:20250611T190000
DTSTAMP:20260423T061616
CREATED:20250514T122434Z
LAST-MODIFIED:20250514T124652Z
UID:10000252-1749661200-1749668400@daisec.de
SUMMARY:Prompten für den Business-Plan
DESCRIPTION:Workshop
URL:https://daisec.de/event/prompten-fuer-den-business-plan-2/
LOCATION:Emsland GmbH\, Haselünner Straße 3\, Meppen\, Deutschland
ATTACH;FMTTYPE=image/png:https://daisec.de/wp-content/uploads/2025/05/News-1.png
END:VEVENT
END:VCALENDAR