BEGIN:VCALENDAR
VERSION:2.0
PRODID:-//DAISEC - ECPv6.15.20//NONSGML v1.0//EN
CALSCALE:GREGORIAN
METHOD:PUBLISH
X-WR-CALNAME:DAISEC
X-ORIGINAL-URL:https://daisec.de
X-WR-CALDESC:Veranstaltungen für DAISEC
REFRESH-INTERVAL;VALUE=DURATION:PT1H
X-Robots-Tag:noindex
X-PUBLISHED-TTL:PT1H
BEGIN:VTIMEZONE
TZID:Europe/Berlin
BEGIN:DAYLIGHT
TZOFFSETFROM:+0100
TZOFFSETTO:+0200
TZNAME:CEST
DTSTART:20230326T010000
END:DAYLIGHT
BEGIN:STANDARD
TZOFFSETFROM:+0200
TZOFFSETTO:+0100
TZNAME:CET
DTSTART:20231029T010000
END:STANDARD
BEGIN:DAYLIGHT
TZOFFSETFROM:+0100
TZOFFSETTO:+0200
TZNAME:CEST
DTSTART:20240331T010000
END:DAYLIGHT
BEGIN:STANDARD
TZOFFSETFROM:+0200
TZOFFSETTO:+0100
TZNAME:CET
DTSTART:20241027T010000
END:STANDARD
BEGIN:DAYLIGHT
TZOFFSETFROM:+0100
TZOFFSETTO:+0200
TZNAME:CEST
DTSTART:20250330T010000
END:DAYLIGHT
BEGIN:STANDARD
TZOFFSETFROM:+0200
TZOFFSETTO:+0100
TZNAME:CET
DTSTART:20251026T010000
END:STANDARD
END:VTIMEZONE
BEGIN:VEVENT
DTSTART;TZID=Europe/Berlin:20240213T100000
DTEND;TZID=Europe/Berlin:20240213T103000
DTSTAMP:20260425T020209
CREATED:20240206T115728Z
LAST-MODIFIED:20240206T160410Z
UID:10000075-1707818400-1707820200@daisec.de
SUMMARY:Robotik
DESCRIPTION:Jeder Betrieb und jede Branche wird von innovativen Technologien verändert und herausgefordert. Die Zeit bleibt auch nicht im Handwerk stehen. So findet auch die Robotik Einzug in die traditionelle Arbeitsweise des Handwerks. Robotik kann dabei Lösung für die Automatisierung monotoner und schwerer Arbeiten sein und dem Handwerk wieder mehr Zeit für die Kerntätigkeiten verschaffen. \n\n\n\n\n\n\n\nAufbau der Veranstaltung\n\n\n\n„Wie können wir durch Automatisierung fehlende / bald fehlende Fachkräfte abfedern?“ \n\n\n\n„Wie ist die Anbindung an Bestandssyteme? Bzw. wie kann diese erfolgen?“ \n\n\n\nReturn on invest? \n\n\n\n „Was muss ich als Betrieb tun?“ / Wie kann Automatisierung angegangen werden?“ / „An wen kann ich mich wenden?“ (Prozesse anschauen etc.) \n\n\n\n„Wie (einfach) lassen sich Roboter programmieren?“ \n\n\n\n„Sind Robotik-Lösungen auch kleine Betriebe / Handwerk interessant?“ „Welche Prozesse/Arbeitsabläufe eignen sich besonders?“ \n\n\n\n„Was sind besondere Herausforderungen für kleinere Unternehmen bei der Einführung von Robotik?“ \n\n\n\n\nAuf diese Schwerpunkte gehe ich anhand konkreter Praxisbeispiele ein.\n\n\n\n\n\n\n\n\nZiel der Veranstaltung\n\n\n\nRobotik kann ein weiteres Werkzeug im Handwerk sein. Im Austausch haben Sie die Chance sich über Chancen und Herausforderungen zu informieren. \n\n\n\n\n\n\n\nOrganisatorisches\n\n\n\nDie Veranstaltung findet online statt und es wird ein Link nach der Anmeldung bereitgestellt. \n\n\n\n \n\n\n\n\n\n\n\n\n\n\nVortragender\n\n\n\n\n\n\n\n\n\n\n\n\n\n\n\nDaniel Hübschmann\n\n\n\nHWK Dresden \n\n\n\n\n\n\n\n\n\n\nAnmeldung\n\n\n\n\n\n\n\n\n\n\n\n\n\n\n\nDie Anmeldung schließt drei Tage vor dem Veranstaltungstermin.Sollten Sie Fragen oder Probleme mit der Anmeldung haben\,wenden Sie sich bitte an den oben angegebenen Kontakt. \n\n\n\n\n\n\n\n\nVeranstaltungsort\n\n\n\n\n\n\n\n\n\n\n\n\n\n\n\n\n\n\n\n\n\n\n\n\n\n\n\n\n	\n		\n\n			\n			\n\n							\n					\n						Kommende Veranstaltungen					\n				\n			\n			\n				\n											\n\n	\n	\n		\n			Apr.		\n		\n			29		\n	\n\n\n	\n		\n			\n\n				\n					\n		\n		14:00 – 15:30	\n	\n					\n	\n		KI-Wissensmanagement mit LLMs\, RAG und lokalen sowie cloudbasierten Ansätzen 1 – Überblick und Orientierung	\n\n				\n\n				\n			\n		\n	\n\n\n											\n\n	\n	\n		\n			Mai		\n		\n			7		\n	\n\n\n	\n		\n			\n\n				\n					\n		\n		16:30 – 19:00	\n	\n					\n	\n		2. KI Werkbank Forum 2026 (Lingen)	\n\n				\n\n				\n			\n		\n	\n\n\n											\n\n	\n	\n		\n			Mai		\n		\n			12		\n	\n\n\n	\n		\n			\n\n				\n					\n		\n		10:00 – 11:30	\n	\n					\n	\n		KI-Agenten in der Produktion	\n\n				\n\n				\n			\n		\n	\n\n\n									\n\n				\n	\n		Kalender anzeigen
URL:https://daisec.de/event/robotik/
LOCATION:Online
CATEGORIES:Kurzvortrag "Auf den Punkt"
ATTACH;FMTTYPE=image/png:https://daisec.de/wp-content/uploads/2023/09/Event-Kachel-Digitalisierungs-Dienstag.png
END:VEVENT
BEGIN:VEVENT
DTSTART;TZID=Europe/Berlin:20240214T090000
DTEND;TZID=Europe/Berlin:20240214T171500
DTSTAMP:20260425T020209
CREATED:20231005T132618Z
LAST-MODIFIED:20240117T084223Z
UID:10000033-1707901200-1707930900@daisec.de
SUMMARY:Deep Dive into Deep Learning – KI verstehen und anwenden
DESCRIPTION:Künstliche Intelligenz entwickelt sich mit atemberaubender Geschwindigkeit weiter und ist aus unserem Alltag nicht mehr wegzudenken. Angefangen bei der automatischen Erkennung von Verkehrsschildern beim Autofahren über das Einschalten von Geräten mittels Sprachsteuerung bis hin zum Entsperren unserer Smartphones mit Gesichtserkennung – KI hat sich fest in unserem Leben etabliert. Spätestens nach Einführung von ChatGPT\, Bard und dem Bing Chat ist das Thema in aller Munde. Auch in der Automobilindustrie und besonders im Kontext des autonomen Fahrens werden KI-Algorithmen zunehmend bedeutsam. \n\n\n\nDoch wie ist es überhaupt möglich\, einer leblosen Maschine solche Fähigkeiten beizubringen? Mit den klassischen Programmierparadigmen wie if-then-else-Anweisungen oder Schleifen stößt man dabei schnell an Grenzen. Hier kommen KI-Algorithmen ins Spiel. \n\n\n\n\n\n\n\nUnser Angebot\n\n\n\nIn einem intensiven Theorie-Modul erlangen Sie grundlegende Kenntnisse im Bereich der Künstlichen Intelligenz und insbesondere des Deep Learnings. Im Zuge mehrerer Praxis-Module lernen Sie\, Ihr Wissen anzuwenden und programmieren eigenständig erste KI-Anwendungen. Die Praxis-Module können Sie orts- und zeitunabhängig online bearbeiten. Wir stehen Ihnen dabei unterstützend zur Seite. \n\n\n\n\n\n\n\nLerninhalte\n\n\n\n• Theorie-Modul (vor Ort\, ein Tag): bestehend aus drei 1\,5h Modulen zum Thema KI• Praxis-Modul 1: Interaktive Einführung in die Grundlagen von Python mit Jupyter-Notebooks\, Grundlagen der Datenverarbeitung\, -aufbereitung und –visualisierung• Praxis-Modul 2: Nutzung von Single-Layer-Machine-Learning-Modellen zur Lösung eines Zwei-Klassen-Problems: Support-Vector-Maschinen vs. neuronalen Netz. Aufteilung und Nutzung von Datensätzen\, Anwendung passender Metriken zur Evaluierung\, Nutzung von High-Level Machine-Learning-Bibliotheken wie SciKit-Learn• Praxis-Modul 3: Nutzung von tiefen neuronalen Netzwerken zur Lösung eines Vielklassen-Klassifizierungs-Problems\, Kennenlernen von anerkannten akademischen Datensätzen wie MNIST und CIFAR-10\, Einführung in die Nutzung der Deep-Learning-Bibliotheken PyTorch und Tensorflow\, Nutzung und Anpassung von vortrainierten Modellen• Praxis-Modul 4: Nutzung von Faltungsnetzwerken zur Lösung von anspruchsvolleren Bildverarbeitungs-Problemen wie der semantischen Segmentierung und der Tiefenschätzung von Verkehrsszenarien\, Nutzung von Regularisierungsmethoden im Training \n\n\n\n\n\n\n\nIhr Vorteil\n\n\n\n• Sie lernen grundlegende Methoden des maschinellen Lernens und verstehen deren Funktionsweise.• Sie erwerben Programmierkenntnisse in Python und lernen High-Level-Machine-Learning-Bibliotheken kennen: SciKit-Learn\, PyTorch und Tensorflow.• Sie lernen eigenständig KI-Modelle zu trainieren und anzuwenden.• Sie lernen die bekanntesten Benchmark-Datensätze kennen und wissen\, wie Sie diese nutzen können.• Sie lernen KI-Modelle zu evaluieren und zu vergleichen.• Sie lernen verschiedene Netzwerkarchitekturen und Aufgabentypen kennen. \n\n\n\n\n\n\n\nZielgruppe und Vorkenntnisse\n\n\n\n• Fach- und Führungskräfte aus den Bereichen Mobilität und Produktion• Einsteiger im Bereich der Entwicklung von KI-Modellen.• Der Theorieteil wird auf Deutsch vorgetragen. Das Material der Praxismodule ist auf Englisch.• Grundlegende Programmiererfahrung und mathematische Kenntnisse sind von Vorteil. \n\n\n\n\n\n\n\nOrganisatorisches\n\n\n\nDas eintägige Theoriemodul findet als Präsenzveranstaltung in den Räumen des Niedersächsischen Forschungszentrums für Fahrzeugtechnik statt und wird im Abstand von 1-2 Monaten in deutscher Sprache angeboten. Im Anschluss erhalten Sie Zugang zu unseren interaktiven Online-Schulungsmaterialien. Diese können Sie in den folgenden Wochen bis Monaten zeitlich und räumlich flexibel selbstständig bearbeiten und erhalten in regelmäßigen Abständen Feedback zu Ihren Lösungen. Das Kursmaterial ist ausschließlich in englischer Sprache verfügbar\, wir stehen Ihnen aber selbstverständlich für Fragen und Hilfestellungen zur Verfügung. Für die Bearbeitung der Lerneinheiten benötigen Sie lediglich einen Computer mit Internetzugang. Alle weiteren Informationen erhalten Sie vor Ort während des Theorietages. \n\n\n\n\n\n\n\n\n\n\nKontakt\n\n\n\n\n\n\n\n\n\n\n\n\n\n\n\nNicole Bartodziej\n\n\n\nAdministration NFF & Networking \n\n\n\nbartodziej@daisec.de \n\n\n\n\n\n\n\n\n\n\n\n\n\n\n\n\n\n\nAnmeldung\n\n\n\n\n\n\n\n\n\n\n\n\n\n\n\nDie Anmeldung schließt drei Tage vor dem Veranstaltungstermin.Sollten Sie Fragen oder Probleme mit der Anmeldung haben\,wenden Sie sich bitte an den oben angegebenen Kontakt. \n\n\n\n\n\n\n\n\nVeranstaltungsort\n\n\n\n\n\n\n\n\n\n\n\n\n\n\n\n\n\n\n\n\n\n\n\n\n\n\n\n\n	\n		\n\n			\n			\n\n							\n					\n						Kommende Veranstaltungen					\n				\n			\n			\n				\n											\n\n	\n	\n		\n			Apr.		\n		\n			29		\n	\n\n\n	\n		\n			\n\n				\n					\n		\n		14:00 – 15:30	\n	\n					\n	\n		KI-Wissensmanagement mit LLMs\, RAG und lokalen sowie cloudbasierten Ansätzen 1 – Überblick und Orientierung	\n\n				\n\n				\n			\n		\n	\n\n\n											\n\n	\n	\n		\n			Mai		\n		\n			7		\n	\n\n\n	\n		\n			\n\n				\n					\n		\n		16:30 – 19:00	\n	\n					\n	\n		2. KI Werkbank Forum 2026 (Lingen)	\n\n				\n\n				\n			\n		\n	\n\n\n											\n\n	\n	\n		\n			Mai		\n		\n			12		\n	\n\n\n	\n		\n			\n\n				\n					\n		\n		10:00 – 11:30	\n	\n					\n	\n		KI-Agenten in der Produktion	\n\n				\n\n				\n			\n		\n	\n\n\n									\n\n				\n	\n		Kalender anzeigen
URL:https://daisec.de/event/deep-dive-into-deep-learning-14-02-24/
LOCATION:Niedersächsisches Forschungszentrum für Fahrzeugtechnik\, Hermann-Blenk-Straße 42\, Braunschweig\, 38108\, Deutschland
CATEGORIES:Workshops
ATTACH;FMTTYPE=image/png:https://daisec.de/wp-content/uploads/2024/01/Veranstaltungen-Vertiefungsschulung.png
END:VEVENT
BEGIN:VEVENT
DTSTART;TZID=Europe/Berlin:20240214T130000
DTEND;TZID=Europe/Berlin:20240214T133000
DTSTAMP:20260425T020210
CREATED:20240117T103242Z
LAST-MODIFIED:20240118T072959Z
UID:10000067-1707915600-1707917400@daisec.de
SUMMARY:Meetup Cybersicherheit: IT-Sicherheit für KMU: die Software-Seite
DESCRIPTION:Gemeinsam mit unseren EDIH Partnern bieten wir Ihnen die Online-Austausche „Meetup Cybersicherheit“ an. In diesem Termin berichtet unser Cybersicherheit-Experte Ulli Holtgrave über eine Reihe von grundlegenden Abwehrmechanismen\, die auch relativ einfach in Ihrem Unternehmen zu implementieren sind. Dazu betrachten wir unter anderem die Software Office-Landschaft von Microsoft\, geben eine kleine Einführung in das Update-Management und schauen uns auch einmal gängige Antivirus-Software an.
URL:https://daisec.de/event/meetup-cybersicherheit-kmu-software/
LOCATION:Online
ATTACH;FMTTYPE=image/png:https://daisec.de/wp-content/uploads/2024/01/Veranstaltung-Meetup-Cybersicherheit.png
END:VEVENT
BEGIN:VEVENT
DTSTART;TZID=Europe/Berlin:20240215T150000
DTEND;TZID=Europe/Berlin:20240215T170000
DTSTAMP:20260425T020210
CREATED:20240122T141318Z
LAST-MODIFIED:20240131T110528Z
UID:10000069-1708009200-1708016400@daisec.de
SUMMARY:Cybersicherheit für Produktionsunternehmen - Teil 1: Prävention - wirkungsvoll schützen
DESCRIPTION:Für viele ist IT essenzieller Bestandteil im Berufsalltag. Aber wie schützen wir uns wirkungsvoll vor Angriffen? Welche besonderen Herausforderungen gibt es\, wenn wir auch in der Produktion auf die IT angewiesen sind? Wie erkenne ich einen Angriff frühzeitig? Und wie sollte ich im Ernstfall reagieren? \n\n\n\nMit der vierteiligen Veranstaltungsreihe „Cybersicherheit für Produktionsunternehmen“ werden wir diesen Fragen nachgehen und wichtige Aspekte der IT-Sicherheit mit Bezug zur IT in der Produktion betrachten. Unter dem Motto des IT-Sicherheits-Dreiklangs „Prävention\, Detektion und Reaktion“ erhalten Sie konkrete Ansatzpunkte\, wie Sie Ihr Unternehmen besser schützen können\, wie Sie Angriffe frühzeitiger erkennen und wie Sie sich effektiv auf den Ernstfall vorbereiten sollten. \n\n\n\n\n\n\n\nUnser Angebot\n\n\n\nIn Teil 1 der Reihe geht es um „Prävention – wirkungsvoll schützen“. \n\n\n\nEs werden wirkungsvolle Schutzmechanismen für die Cybersicherheit von Unternehmen sowie  die aktuell dringlichsten Risiken und Angriffsszenarien\, mit denen insbesondere kleine und mittlere Unternehmen konfrontiert sind\, vorgestellt. Ausgehend von diesen Risiken und Angriffsszenarien lernen die Teilnehmenden unter Anleitung der Sicherheits-Experten in der Veranstaltung wirkungsvolle Maßnahmen kennen. Die Risiken für ein Unternehmen können mit diesen Maßnahmen reduziert und die Angriffsmöglichkeiten begrenzt werden. \n\n\n\nTeil 2: Schwachstellen und Angriffe erkennen – 13.03.2024 – Online \n\n\n\nTeil 3: Professionell auf Sicherheitsvorfälle reagieren – 09.04.2024 – Online \n\n\n\nTeil 4: Praxisworkshop Schwachstellen-Screening – 18.04.2024 – Präsenz (Ort wird bekannt gegeben) \n\n\n\n\n\n\n\nLerninhalte\n\n\n\n– Welchen typischen Angriffen ist ein Unternehmen ausgesetzt?– Welche typischen Risiken erhöhen das Gefahrenpotential?– Welche präventiven Gegenmaßnahmen sind sinnvoll und erforderlich?– Wo sollte Cybersicherheit angesiedelt sein und wer trägt Verantwortung?– Wie können Mitarbeitende sensibilisiert werden? \n\n\n\n\n\n\n\nIhr Vorteil\n\n\n\n– Sie kennen wesentliche und besonders relevante Angriffe\, Risiken und Gefahren für Unternehmen– Sie lernen wirkungsvolle präventive Gegenmaßnahmen kennen– Sie können eine grobe Einschätzung zur Cybersicherheit ihres Unternehmens entwickeln– Wenn Sie einen IT-Dienstleister haben\, können sie ihm die richtigen Fragen stellen– Sie lernen Handlungsoptionen kennen\, um die Risiken für Ihr Unternehmen zu reduzieren \n\n\n\n\n\n\n\nZielgruppe und Vorkenntnisse\n\n\n\nDie Veranstaltung richtet sich an Führungskräfte (Geschäfts-\, Betriebs-\, Produktionsleiter) und IT-Verantwortliche\, Systemadministratoren und IT-Beauftragte. \n\n\n\n\n\n\n\nOrganisatorisches\n\n\n\nDie Veranstaltung dauert ca. 2 Stunden und findet online statt. Der Link zum Webinar-Raum wird Ihnen rechtzeitig vor der Veranstaltung per E-Mail zugeschickt.  \n\n\n\nDie Veranstaltung wird in Kooperation mit it.emsland und dem MEMA-Netzwerk durchgeführt. \n\n\n\n\n\n\n\n\n\n\nVortrag\n\n\n\n\n\n\n\n\n\n\n\n\n\n\n\nDr. Oliver Wiese\n\n\n\nExperte für Cybersicherheit \n\n\n\nwiese@daisec.de \n\n\n\n\n\n\n\nModeration\n\n\n\n\n\n\n\n\n\n\n\nMichael Schnaider\n\n\n\nExperte für Digitalisierungsthemenschnaider@it-emsland.de \n\n\n\n\n\n\n\n\n\n\n\n\n\n\nAnmeldung\n\n\n\n\n\n\n\n\n\n\n\n\n\nDie Anmeldung schließt drei Tage vor dem Veranstaltungstermin.Sollten Sie Fragen oder Probleme mit der Anmeldung haben\,wenden Sie sich bitte an den oben angegebenen Kontakt. \n\n\n\n\n\n\n\n\n\n\nVeranstaltungsort\n\n\n\n\n\n\n\n\n\n\n\n\n\n\n\n\n\n\n\n\n\n\n\n\n\n\n\n\n	\n		\n\n			\n			\n\n							\n					\n						Kommende Veranstaltungen					\n				\n			\n			\n				\n											\n\n	\n	\n		\n			Apr.		\n		\n			29		\n	\n\n\n	\n		\n			\n\n				\n					\n		\n		14:00 – 15:30	\n	\n					\n	\n		KI-Wissensmanagement mit LLMs\, RAG und lokalen sowie cloudbasierten Ansätzen 1 – Überblick und Orientierung	\n\n				\n\n				\n			\n		\n	\n\n\n											\n\n	\n	\n		\n			Mai		\n		\n			7		\n	\n\n\n	\n		\n			\n\n				\n					\n		\n		16:30 – 19:00	\n	\n					\n	\n		2. KI Werkbank Forum 2026 (Lingen)	\n\n				\n\n				\n			\n		\n	\n\n\n											\n\n	\n	\n		\n			Mai		\n		\n			12		\n	\n\n\n	\n		\n			\n\n				\n					\n		\n		10:00 – 11:30	\n	\n					\n	\n		KI-Agenten in der Produktion	\n\n				\n\n				\n			\n		\n	\n\n\n									\n\n				\n	\n		Kalender anzeigen
URL:https://daisec.de/event/cybersicherheit-produktion-praevention-15-02-2024/
LOCATION:Online
CATEGORIES:Webinar
ATTACH;FMTTYPE=image/png:https://daisec.de/wp-content/uploads/2024/01/Veranstaltungen-Schulung.png
END:VEVENT
BEGIN:VEVENT
DTSTART;TZID=Europe/Berlin:20240227T100000
DTEND;TZID=Europe/Berlin:20240227T103000
DTSTAMP:20260425T020210
CREATED:20240205T152800Z
LAST-MODIFIED:20240206T160511Z
UID:10000073-1709028000-1709029800@daisec.de
SUMMARY:KI in der Produktion
DESCRIPTION:Die Auftragsabwicklung produzierender Unternehmen stützt sich auf eine komplexe Prozesskette. KI-basierte Assistenzsysteme bieten Unternehmen das Potenzial diese Arbeitsabläufe effizienter zu gestalten und fundierte Entscheidungen in einem dynamischen Umfeld schnell zu treffen. Die Umsetzung von KI-Methoden erfolgt jedoch nur bei einem geringen Anteil von KMUs. Hemmnisse sind vor allem die Unklarheit über den Nutzen und fehlende eigene Erfahrungen in der Umsetzung konkreter KI-Projekte. Daher soll in dieser Veranstaltung ein Einblick in die Anwendung von KI in der Produktion gegeben werden. \n\n\n\n\n\n\n\nInhalt der Veranstaltung\n\n\n\nAlexander Böttcher hält einen Impulsvortrag mit anschließender Diskussionsrunde zu den folgenden Themen: \n\n\n\n\nWas ist Künstliche Intelligenz?\n\n\n\nWie kann Künstliche Intelligenz in der Produktion eingesetzt werden?\n\n\n\n\n\n\n\n\nZiel der Veranstaltung\n\n\n\nSie erhalten einen Überblick darüber\, wie und in welchen Bereichen KI-Assistenzsysteme in der Produktion eingesetzt werden können. Außerdem erfahren Sie\, welche Aspekte bei der Umsetzung zu beachten sind. \n\n\n\n\n\n\n\nOrganisatorisches\n\n\n\nDie Veranstaltung findet online statt. Der Einwahllink wird am Vortag der Veranstaltung per Mail verschickt. \n\n\n\n \n\n\n\n\n\n\n\n\n\n\nVortragender\n\n\n\n\n\n\n\n\n\n\n\n\n\n\n\nAlexander Böttcher\n\n\n\nExperte für KI in der Fertigungboettcher@daisec.de \n\n\n\n\n\n\n\n\n\n\nAnmeldung\n\n\n\n\n\n\n\n\n\n\n\n\n\n\n\nDie Anmeldung schließt drei Tage vor dem Veranstaltungstermin.Sollten Sie Fragen oder Probleme mit der Anmeldung haben\,wenden Sie sich bitte an den oben angegebenen Kontakt. \n\n\n\n\n\n\n\n\nVeranstaltungsort\n\n\n\n\n\n\n\n\n\n\n\n\n\n\n\n\n\n\n\n\n\n\n\n\n\n\n\n\n	\n		\n\n			\n			\n\n							\n					\n						Kommende Veranstaltungen					\n				\n			\n			\n				\n											\n\n	\n	\n		\n			Apr.		\n		\n			29		\n	\n\n\n	\n		\n			\n\n				\n					\n		\n		14:00 – 15:30	\n	\n					\n	\n		KI-Wissensmanagement mit LLMs\, RAG und lokalen sowie cloudbasierten Ansätzen 1 – Überblick und Orientierung	\n\n				\n\n				\n			\n		\n	\n\n\n											\n\n	\n	\n		\n			Mai		\n		\n			7		\n	\n\n\n	\n		\n			\n\n				\n					\n		\n		16:30 – 19:00	\n	\n					\n	\n		2. KI Werkbank Forum 2026 (Lingen)	\n\n				\n\n				\n			\n		\n	\n\n\n											\n\n	\n	\n		\n			Mai		\n		\n			12		\n	\n\n\n	\n		\n			\n\n				\n					\n		\n		10:00 – 11:30	\n	\n					\n	\n		KI-Agenten in der Produktion	\n\n				\n\n				\n			\n		\n	\n\n\n									\n\n				\n	\n		Kalender anzeigen
URL:https://daisec.de/event/ki-in-der-produktion/
LOCATION:Online
CATEGORIES:Kurzvortrag "Auf den Punkt"
ATTACH;FMTTYPE=image/png:https://daisec.de/wp-content/uploads/2023/09/Event-Kachel-Digitalisierungs-Dienstag.png
END:VEVENT
BEGIN:VEVENT
DTSTART;TZID=Europe/Berlin:20240228T093000
DTEND;TZID=Europe/Berlin:20240301T160000
DTSTAMP:20260425T020210
CREATED:20231220T143556Z
LAST-MODIFIED:20240104T094057Z
UID:10000045-1709112600-1709308800@daisec.de
SUMMARY:DAISEC auf der ZUKUNFT HANDWERK 2024
DESCRIPTION:2024 findet die Handwerksmesse ZUKUNFT HANDWERK vom 28.02.-01.03. in München statt. Sie ist die erste und größte Veranstaltung aus dem Handwerk und für das Handwerk\, die Praktiker\, Start-ups\, Wirtschaft und Politik mit Handwerksbetrieben zusammenbringt. \n\n\n\nDer DAISEC wird als Teil des Standes des Heinz-Piest-Instituts für Handwerkstechnik mit von der Partie sein. \n\n\n\n\n\n\n\nDAISEC Experten geben am 29.02. Einblick in KI für Handwerksunternehmen\n\n\n\nUnsere Experten Walter und Julian sind am Donnerstag außerdem im ZUKUNFT HANDWERK FORUM anzutreffen: am Nachmittag berichten sie über die Möglichkeiten von künstlicher Intelligenz in Handwerksunternehmen.  \n\n\n\nNähere Infos zum Programm finden Sie hier – Änderungen vorbehalten. \n\n\n\n\n\n\n\n\n\nSpeaker\n\n\n\n\n\n\n\n\n\n\n\nWalter Pirk\n\n\n\nExperte für handwerksspezifische Anforderungen an Technologie und Innovationsprozesse \n\n\n\n\n\n\n\n\n\n\n\nJulian Laue\n\n\n\nExperte für KI \n\n\n\n\n\n\n\n\n\n\n\n\n\n\n\n\n\n\n\n\n\n\n\n\n\n\nJetzt Tickets sichern!\n\n\n\nHier finden Sie den Ticketverkauf. \n\n\n\n\n\n\n\n\n\n\n\n\n\n\n\n\n\n\n\n\n	\n		\n\n			\n			\n\n							\n					\n						Kommende Veranstaltungen					\n				\n			\n			\n				\n											\n\n	\n	\n		\n			Apr.		\n		\n			29		\n	\n\n\n	\n		\n			\n\n				\n					\n		\n		14:00 – 15:30	\n	\n					\n	\n		KI-Wissensmanagement mit LLMs\, RAG und lokalen sowie cloudbasierten Ansätzen 1 – Überblick und Orientierung	\n\n				\n\n				\n			\n		\n	\n\n\n											\n\n	\n	\n		\n			Mai		\n		\n			7		\n	\n\n\n	\n		\n			\n\n				\n					\n		\n		16:30 – 19:00	\n	\n					\n	\n		2. KI Werkbank Forum 2026 (Lingen)	\n\n				\n\n				\n			\n		\n	\n\n\n											\n\n	\n	\n		\n			Mai		\n		\n			12		\n	\n\n\n	\n		\n			\n\n				\n					\n		\n		10:00 – 11:30	\n	\n					\n	\n		KI-Agenten in der Produktion	\n\n				\n\n				\n			\n		\n	\n\n\n									\n\n				\n	\n		Kalender anzeigen
URL:https://daisec.de/event/zukunft-handwerk-2024/
LOCATION:ICM – Internationales Congress Center München\, Messegelände\, München\, 81823
CATEGORIES:Öffentliche Veranstaltung
ATTACH;FMTTYPE=image/png:https://daisec.de/wp-content/uploads/2023/12/DAISEC-Twitter-ZUKUNFT-HANNOVER.png
END:VEVENT
BEGIN:VEVENT
DTSTART;TZID=Europe/Berlin:20240229T160000
DTEND;TZID=Europe/Berlin:20240229T180000
DTSTAMP:20260425T020210
CREATED:20240228T070722Z
LAST-MODIFIED:20240228T070724Z
UID:10000091-1709222400-1709229600@daisec.de
SUMMARY:Fachtagung KI & ChatGPT - Werkzeuge der Zukunft?
DESCRIPTION:Anlässlich der 74. Internationalen Handwerksmesse München findet die Fachtagung „KI & ChatGPTWerkzeuge der Zukunft?“ statt. Unsere Experten Julian Laue und Walter Pirk geben um 16:50 Uhr eine Einführung in die Anwendung von KI-Modellen im Handwerk.
URL:https://daisec.de/event/fachtagung-ki-chatgpt-werkzeuge-der-zukunft/
LOCATION:ICM – Internationales Congress Center München\, Messegelände\, München\, 81823
CATEGORIES:Öffentliche Veranstaltung
ATTACH;FMTTYPE=image/png:https://daisec.de/wp-content/uploads/2024/02/2024-02-28-DAISEC-Twitter-Fachtagung-KI-ChatGPT.png
END:VEVENT
END:VCALENDAR