BEGIN:VCALENDAR
VERSION:2.0
PRODID:-//DAISEC - ECPv6.15.20//NONSGML v1.0//EN
CALSCALE:GREGORIAN
METHOD:PUBLISH
X-WR-CALNAME:DAISEC
X-ORIGINAL-URL:https://daisec.de
X-WR-CALDESC:Veranstaltungen für DAISEC
REFRESH-INTERVAL;VALUE=DURATION:PT1H
X-Robots-Tag:noindex
X-PUBLISHED-TTL:PT1H
BEGIN:VTIMEZONE
TZID:Europe/Berlin
BEGIN:DAYLIGHT
TZOFFSETFROM:+0100
TZOFFSETTO:+0200
TZNAME:CEST
DTSTART:20230326T010000
END:DAYLIGHT
BEGIN:STANDARD
TZOFFSETFROM:+0200
TZOFFSETTO:+0100
TZNAME:CET
DTSTART:20231029T010000
END:STANDARD
BEGIN:DAYLIGHT
TZOFFSETFROM:+0100
TZOFFSETTO:+0200
TZNAME:CEST
DTSTART:20240331T010000
END:DAYLIGHT
BEGIN:STANDARD
TZOFFSETFROM:+0200
TZOFFSETTO:+0100
TZNAME:CET
DTSTART:20241027T010000
END:STANDARD
BEGIN:DAYLIGHT
TZOFFSETFROM:+0100
TZOFFSETTO:+0200
TZNAME:CEST
DTSTART:20250330T010000
END:DAYLIGHT
BEGIN:STANDARD
TZOFFSETFROM:+0200
TZOFFSETTO:+0100
TZNAME:CET
DTSTART:20251026T010000
END:STANDARD
END:VTIMEZONE
BEGIN:VEVENT
DTSTART;TZID=Europe/Berlin:20240228T093000
DTEND;TZID=Europe/Berlin:20240301T160000
DTSTAMP:20260424T200534
CREATED:20231220T143556Z
LAST-MODIFIED:20240104T094057Z
UID:10000045-1709112600-1709308800@daisec.de
SUMMARY:DAISEC auf der ZUKUNFT HANDWERK 2024
DESCRIPTION:2024 findet die Handwerksmesse ZUKUNFT HANDWERK vom 28.02.-01.03. in München statt. Sie ist die erste und größte Veranstaltung aus dem Handwerk und für das Handwerk\, die Praktiker\, Start-ups\, Wirtschaft und Politik mit Handwerksbetrieben zusammenbringt. \n\n\n\nDer DAISEC wird als Teil des Standes des Heinz-Piest-Instituts für Handwerkstechnik mit von der Partie sein. \n\n\n\n\n\n\n\nDAISEC Experten geben am 29.02. Einblick in KI für Handwerksunternehmen\n\n\n\nUnsere Experten Walter und Julian sind am Donnerstag außerdem im ZUKUNFT HANDWERK FORUM anzutreffen: am Nachmittag berichten sie über die Möglichkeiten von künstlicher Intelligenz in Handwerksunternehmen.  \n\n\n\nNähere Infos zum Programm finden Sie hier – Änderungen vorbehalten. \n\n\n\n\n\n\n\n\n\nSpeaker\n\n\n\n\n\n\n\n\n\n\n\nWalter Pirk\n\n\n\nExperte für handwerksspezifische Anforderungen an Technologie und Innovationsprozesse \n\n\n\n\n\n\n\n\n\n\n\nJulian Laue\n\n\n\nExperte für KI \n\n\n\n\n\n\n\n\n\n\n\n\n\n\n\n\n\n\n\n\n\n\n\n\n\n\nJetzt Tickets sichern!\n\n\n\nHier finden Sie den Ticketverkauf. \n\n\n\n\n\n\n\n\n\n\n\n\n\n\n\n\n\n\n\n\n	\n		\n\n			\n			\n\n							\n					\n						Kommende Veranstaltungen					\n				\n			\n			\n				\n											\n\n	\n	\n		\n			Apr.		\n		\n			20		\n	\n\n\n	\n		\n			\n\n				\n					\n		\n		20.04. – 24.04.	\n	\n					\n	\n		DAISEC auf der HANNOVER MESSE 2026	\n\n				\n\n				\n			\n		\n	\n\n\n											\n\n	\n	\n		\n			Apr.		\n		\n			29		\n	\n\n\n	\n		\n			\n\n				\n					\n		\n		14:00 – 15:30	\n	\n					\n	\n		KI-Wissensmanagement mit LLMs\, RAG und lokalen sowie cloudbasierten Ansätzen 1 – Überblick und Orientierung	\n\n				\n\n				\n			\n		\n	\n\n\n											\n\n	\n	\n		\n			Mai		\n		\n			7		\n	\n\n\n	\n		\n			\n\n				\n					\n		\n		16:30 – 19:00	\n	\n					\n	\n		2. KI Werkbank Forum 2026 (Lingen)	\n\n				\n\n				\n			\n		\n	\n\n\n									\n\n				\n	\n		Kalender anzeigen
URL:https://daisec.de/event/zukunft-handwerk-2024/
LOCATION:ICM – Internationales Congress Center München\, Messegelände\, München\, 81823
CATEGORIES:Öffentliche Veranstaltung
ATTACH;FMTTYPE=image/png:https://daisec.de/wp-content/uploads/2023/12/DAISEC-Twitter-ZUKUNFT-HANNOVER.png
END:VEVENT
BEGIN:VEVENT
DTSTART;TZID=Europe/Berlin:20240307T090000
DTEND;TZID=Europe/Berlin:20240307T130000
DTSTAMP:20260424T200535
CREATED:20240109T132316Z
LAST-MODIFIED:20240119T081818Z
UID:10000050-1709802000-1709816400@daisec.de
SUMMARY:KI-Assistenzsysteme in der Produktion – datenbasierte Planung und Fertigung
DESCRIPTION:Die Auftragsabwicklung produzierender Unternehmen stützt sich auf eine komplexe Prozesskette aus Konstruktion und Arbeitsvorbereitung über Teilefertigung und Montage bis hin zur Qualitätssicherung. KI-basierte Assistenzsysteme bieten Unternehmen das Potenzial diese Arbeitsabläufe effizienter zu gestalten und fundierte Entscheidungen in einem dynamischen Umfeld schnell zu treffen. Sie ermöglichen eine automatisierte Planung für die autonome Fertigung. \n\n\n\n\n\n\n\nUnser Angebot\n\n\n\nIn diesem Training werden die Grundlagen und Umsetzungsmöglichkeiten von KI-basierten Assistenzsystemen in der Produktion aufgezeigt. Dies beinhaltet zum Beispiel die Digitalisierung von Werkstückinformationen während der Konstruktion oder die KI-unterstützte Planung von Arbeitsgängen. \n\n\n\n\n\n\n\nLerninhalte\n\n\n\n– Wie können potenzielle Anwendungsfelder für KI in der Produktion identifiziert werden?– Welche Bedeutung haben qualitativ hochwertige Daten für den Einsatz von KI in der Produktion?– Welche Techniken gibt es für die Datenaufbereitung\, -analyse und -integration?– Welche KI-Modelle können in der Produktion für welche Aufgabe genutzt werden?– Wie kann das Ergebnis eines KI-Modells interpretiert werden? \n\n\n\n\n\n\n\nIhr Vorteil\n\n\n\n– Sie wissen\, wie KI in der Produktion eingesetzt werden kann– Sie können Einsatzmöglichkeiten in Ihrem Unternehmen identifizieren– Sie kennen Techniken zur Datenaufbereitung\, -analyse und -integration– Sie können in der Produktion einsetzbare Codes programmieren– Sie können mit Hilfe der Prognosen der KI ein Assistenzsystem aufbauen \n\n\n\n\n\n\n\nZielgruppe und Vorkenntnisse\n\n\n\n– Kleine und mittlere Unternehmen\, die schon erste Erfahrungen mit dem Einsatz datengetriebener Softwarelösungen in ihrer Produktion gesammelt haben und somit eine nutzbare Datengrundlage haben– Führungskräfte in der Produktion– Techniker/-innen und Ingenieur/-innen in der Produktion \n\n\n\n\n\n\n\nOrganisatorisches\n\n\n\nDie Dauer der Veranstaltung beträgt 4 Stunden. Das Webinar findet online statt. Ein Link zum Online-Webinarraum wird Ihnen rechtzeitig vor der Veranstaltung zugesendet. \n\n\n\n\n\n\n\n\n\n\nKontakt\n\n\n\n\n\n\n\n\n\n\n\n\n\n\n\nAlexander Böttcher\n\n\n\nExperte für KI-Technologien in der Fertigung \n\n\n\nboettcher@daisec.de \n\n\n\n\n\n\n\n\n\n\n\n\n\n\n\n\n\n\nAnmeldung\n\n\n\n\n\n\n\n\n\n\n\n\n\nDie Anmeldung schließt drei Tage vor dem Veranstaltungstermin.Sollten Sie Fragen oder Probleme mit der Anmeldung haben\,wenden Sie sich bitte an den oben angegebenen Kontakt. \n\n\n\n\n\n\n\n\n\n\nVeranstaltungsort\n\n\n\n\n\n\n\n\n\n\n\n\n\n\n\n\n\n\n\n\n\n\n\n\n\n\n\n\n	\n		\n\n			\n			\n\n							\n					\n						Kommende Veranstaltungen					\n				\n			\n			\n				\n											\n\n	\n	\n		\n			Apr.		\n		\n			20		\n	\n\n\n	\n		\n			\n\n				\n					\n		\n		20.04. – 24.04.	\n	\n					\n	\n		DAISEC auf der HANNOVER MESSE 2026	\n\n				\n\n				\n			\n		\n	\n\n\n											\n\n	\n	\n		\n			Apr.		\n		\n			29		\n	\n\n\n	\n		\n			\n\n				\n					\n		\n		14:00 – 15:30	\n	\n					\n	\n		KI-Wissensmanagement mit LLMs\, RAG und lokalen sowie cloudbasierten Ansätzen 1 – Überblick und Orientierung	\n\n				\n\n				\n			\n		\n	\n\n\n											\n\n	\n	\n		\n			Mai		\n		\n			7		\n	\n\n\n	\n		\n			\n\n				\n					\n		\n		16:30 – 19:00	\n	\n					\n	\n		2. KI Werkbank Forum 2026 (Lingen)	\n\n				\n\n				\n			\n		\n	\n\n\n									\n\n				\n	\n		Kalender anzeigen
URL:https://daisec.de/event/ki-assistenzsystemedatenbasierte-planung-fertigung-07-03-2024/
LOCATION:Online
CATEGORIES:Webinar
ATTACH;FMTTYPE=image/png:https://daisec.de/wp-content/uploads/2024/01/Veranstaltungen-Schulung.png
END:VEVENT
BEGIN:VEVENT
DTSTART;TZID=Europe/Berlin:20240313T150000
DTEND;TZID=Europe/Berlin:20240313T170000
DTSTAMP:20260424T200536
CREATED:20240123T132417Z
LAST-MODIFIED:20240222T080652Z
UID:10000070-1710342000-1710349200@daisec.de
SUMMARY:Cybersicherheit für Produktionsunternehmen - Teil 2: Schwachstellen und Angriffe erkennen
DESCRIPTION:Für viele ist IT essenzieller Bestandteil im Berufsalltag. Aber wie schützen wir uns wirkungsvoll vor Angriffen? Welche besonderen Herausforderungen gibt es\, wenn wir auch in der Produktion auf die IT angewiesen sind? Wie erkenne ich einen Angriff frühzeitig? Und wie sollte ich im Ernstfall reagieren? \n\n\n\nMit der vierteiligen Veranstaltungsreihe „Cybersicherheit für Produktionsunternehmen“ werden wir diesen Fragen nachgehen und wichtige Aspekte der IT-Sicherheit mit Bezug zur IT in der Produktion betrachten. Unter dem Motto des IT-Sicherheits-Dreiklangs „Prävention\, Detektion und Reaktion“ erhalten Sie konkrete Ansatzpunkte\, wie Sie Ihr Unternehmen besser schützen können\, wie Sie Angriffe frühzeitiger erkennen und wie Sie sich effektiv auf den Ernstfall vorbereiten sollten. \n\n\n\n\n\n\n\nUnser Angebot\n\n\n\nIn Teil 2 der Reihe geht es darum\, Ihre Reaktionszeit auf Schwachstellen im System und auf akute Angriffe zu verbessern. Dazu lernen Sie\, wie Sie vorhandene Schwachstellen in Ihrer Unternehmens-IT erkennen und einen aktiven Angriff auf Ihr Unternehmen schneller entdecken können. \n\n\n\n \n\n\n\nTeil 3: Professionell auf Sicherheitsvorfälle reagieren – 09.04.2024 – Online \n\n\n\nTeil 4: Praxisworkshop Schwachstellen-Screening – 18.04.2024 – Präsenz (Ort wird bekannt gegeben) \n\n\n\n\n\n\n\nLerninhalte\n\n\n\n– Wie können Schwachstellen im System identifiziert werden?– Wie können die Risiken durch Schwachstellen abgeschätzt werden?– Welche Reaktionszeiten sind notwendig oder empfehlenswert?– Wie können akute Angriffe frühzeitig erkannt werden? \n\n\n\n\n\n\n\nIhr Vorteil\n\n\n\n– Sie lernen gängige Schwachstellen kennen– Sie erfahren\, wie neue Schwachstellen kommuniziert werden– Sie können Maßnahmen planen\, um Schwachstellen schneller zu schließen– Sie wissen\, wie Sie Ihr Unternehmen nachhaltig schützen können und wie Mitarbeiter mitgenommen werden können \n\n\n\n\n\n\n\nZielgruppe und Vorkenntnisse\n\n\n\nDie Veranstaltung richtet sich an Führungskräfte (Geschäfts-\, Betriebs-\, Produktionsleiter) und IT-Verantwortliche\, Systemadministratoren und IT-Beauftragte. \n\n\n\n\n\n\n\nOrganisatorisches\n\n\n\nDie Veranstaltung dauert ca. 2 Stunden und findet online statt. Der Link zum Webinar-Raum wird Ihnen rechtzeitig vor der Veranstaltung per E-Mail zugeschickt.  \n\n\n\nDie Veranstaltung wird in Kooperation mit it.emsland und dem MEMA-Netzwerk durchgeführt. \n\n\n\n\n\n\n\n\n\n\nVortrag\n\n\n\n\n\n\n\n\n\n\n\n\n\n\n\nDr. Oliver Wiese\n\n\n\nExperte für Cybersicherheit \n\n\n\nwiese@daisec.de \n\n\n\n\n\n\n\nModeration\n\n\n\n\n\n\n\n\n\n\n\nMichael Schnaider\n\n\n\nExperte für Digitalisierungsthemen \n\n\n\nschnaider@it.emsland.de \n\n\n\n\n\n\n\n\n\n\n\n\n\n\nAnmeldung\n\n\n\n\n\n\n\n\n\n\n\n\n\nDie Anmeldung schließt drei Tage vor dem Veranstaltungstermin.Sollten Sie Fragen oder Probleme mit der Anmeldung haben\,wenden Sie sich bitte an den oben angegebenen Kontakt. \n\n\n\n\n\n\n\n\n\n\nVeranstaltungsort\n\n\n\n\n\n\n\n\n\n\n\n\n\n\n\n\n\n\n\n\n\n\n\n\n\n\n\n\n	\n		\n\n			\n			\n\n							\n					\n						Kommende Veranstaltungen					\n				\n			\n			\n				\n											\n\n	\n	\n		\n			Apr.		\n		\n			20		\n	\n\n\n	\n		\n			\n\n				\n					\n		\n		20.04. – 24.04.	\n	\n					\n	\n		DAISEC auf der HANNOVER MESSE 2026	\n\n				\n\n				\n			\n		\n	\n\n\n											\n\n	\n	\n		\n			Apr.		\n		\n			29		\n	\n\n\n	\n		\n			\n\n				\n					\n		\n		14:00 – 15:30	\n	\n					\n	\n		KI-Wissensmanagement mit LLMs\, RAG und lokalen sowie cloudbasierten Ansätzen 1 – Überblick und Orientierung	\n\n				\n\n				\n			\n		\n	\n\n\n											\n\n	\n	\n		\n			Mai		\n		\n			7		\n	\n\n\n	\n		\n			\n\n				\n					\n		\n		16:30 – 19:00	\n	\n					\n	\n		2. KI Werkbank Forum 2026 (Lingen)	\n\n				\n\n				\n			\n		\n	\n\n\n									\n\n				\n	\n		Kalender anzeigen
URL:https://daisec.de/event/cybersicherheit-produktionsunternehmen-schwachstellen-angriffe-13-03-2024/
LOCATION:Online
CATEGORIES:Webinar
ATTACH;FMTTYPE=image/png:https://daisec.de/wp-content/uploads/2024/01/Veranstaltungen-Schulung.png
END:VEVENT
BEGIN:VEVENT
DTSTART;TZID=Europe/Berlin:20240314T160000
DTEND;TZID=Europe/Berlin:20240314T180000
DTSTAMP:20260424T200536
CREATED:20240219T103016Z
LAST-MODIFIED:20240219T113002Z
UID:10000080-1710432000-1710439200@daisec.de
SUMMARY:Der German Automotive Corridor stellt sich vor
DESCRIPTION:Im Kontext der European Digital Innovation Hubs (EDIHs) ist der German Automotive Corridor entstanden\, in dem neben dem DAISEC aus Niedersachsen auch EDIHs aus anderen Automobilregionen\, wie Baden-Württemberg\, Saarland und Bayern\, vertreten sind. \n\n\n\nDie EDIHs im Automotive Corridor wollen durch den Austausch und die Vermittlung von Strategien\, Erkenntnissen und praxisrelevanten Angeboten lokale Unternehmen und Einrichten aus dem Automotive-Bereich gezielt unterstützen. \n\n\n\nDiese Online-Veranstaltung bringt Referenten aus den Automotive-Regionen zusammen und bietet Einblicke in die Strategien und Erkenntnisse der jeweiligen Automotive-Transformationsnetzwerke. Darüber hinaus werden die praxisrelevanten Unterstützungsangebote durch die EDIHs aufgezeigt. \n\n\n\n\n\n\n\n\n\nOrganisatoren \n\n\n\n\n\n\n\n\n\n\n\n\n\n\n\n\n\n\n\n\n\n\nAnmeldung\n\n\n\nHier geht es zur kostenlosen Anmeldung über die Webseite von AuToS. \n\n\n\n\n\n\n\n\n\n\n\n\n\n\n\n\n\n\n	\n		\n\n			\n			\n\n							\n					\n						Kommende Veranstaltungen					\n				\n			\n			\n				\n											\n\n	\n	\n		\n			Apr.		\n		\n			20		\n	\n\n\n	\n		\n			\n\n				\n					\n		\n		20.04. – 24.04.	\n	\n					\n	\n		DAISEC auf der HANNOVER MESSE 2026	\n\n				\n\n				\n			\n		\n	\n\n\n											\n\n	\n	\n		\n			Apr.		\n		\n			29		\n	\n\n\n	\n		\n			\n\n				\n					\n		\n		14:00 – 15:30	\n	\n					\n	\n		KI-Wissensmanagement mit LLMs\, RAG und lokalen sowie cloudbasierten Ansätzen 1 – Überblick und Orientierung	\n\n				\n\n				\n			\n		\n	\n\n\n											\n\n	\n	\n		\n			Mai		\n		\n			7		\n	\n\n\n	\n		\n			\n\n				\n					\n		\n		16:30 – 19:00	\n	\n					\n	\n		2. KI Werkbank Forum 2026 (Lingen)	\n\n				\n\n				\n			\n		\n	\n\n\n									\n\n				\n	\n		Kalender anzeigen
URL:https://daisec.de/event/german-automotive-corridor-vorstellung-14-03-2024/
CATEGORIES:Öffentliche Veranstaltung
ATTACH;FMTTYPE=image/jpeg:https://daisec.de/wp-content/uploads/2024/02/pexels-pixabay-63294.jpg
END:VEVENT
BEGIN:VEVENT
DTSTART;TZID=Europe/Berlin:20240319T160000
DTEND;TZID=Europe/Berlin:20240319T180000
DTSTAMP:20260424T200536
CREATED:20240319T060529Z
LAST-MODIFIED:20240319T061005Z
UID:10000094-1710864000-1710871200@daisec.de
SUMMARY:TECH-MEETUP: ChatGPT\, Chatbots und Co. – Aktuelle Trends bei KI-Sprachmodellen
DESCRIPTION:
URL:https://daisec.de/event/tech-meetup-chatgpt-chatbots-ki-wi-2/
LOCATION:Forschungszentrum L3S\, Lange Laube 6\, Hannover\, 30159
CATEGORIES:Öffentliche Veranstaltung
ATTACH;FMTTYPE=image/png:https://daisec.de/wp-content/uploads/2024/03/Bild_2024-03-19_065932558.png
END:VEVENT
END:VCALENDAR