BEGIN:VCALENDAR
VERSION:2.0
PRODID:-//DAISEC - ECPv6.15.20//NONSGML v1.0//EN
CALSCALE:GREGORIAN
METHOD:PUBLISH
X-WR-CALNAME:DAISEC
X-ORIGINAL-URL:https://daisec.de
X-WR-CALDESC:Veranstaltungen für DAISEC
REFRESH-INTERVAL;VALUE=DURATION:PT1H
X-Robots-Tag:noindex
X-PUBLISHED-TTL:PT1H
BEGIN:VTIMEZONE
TZID:Europe/Berlin
BEGIN:DAYLIGHT
TZOFFSETFROM:+0100
TZOFFSETTO:+0200
TZNAME:CEST
DTSTART:20230326T010000
END:DAYLIGHT
BEGIN:STANDARD
TZOFFSETFROM:+0200
TZOFFSETTO:+0100
TZNAME:CET
DTSTART:20231029T010000
END:STANDARD
BEGIN:DAYLIGHT
TZOFFSETFROM:+0100
TZOFFSETTO:+0200
TZNAME:CEST
DTSTART:20240331T010000
END:DAYLIGHT
BEGIN:STANDARD
TZOFFSETFROM:+0200
TZOFFSETTO:+0100
TZNAME:CET
DTSTART:20241027T010000
END:STANDARD
BEGIN:DAYLIGHT
TZOFFSETFROM:+0100
TZOFFSETTO:+0200
TZNAME:CEST
DTSTART:20250330T010000
END:DAYLIGHT
BEGIN:STANDARD
TZOFFSETFROM:+0200
TZOFFSETTO:+0100
TZNAME:CET
DTSTART:20251026T010000
END:STANDARD
END:VTIMEZONE
BEGIN:VEVENT
DTSTART;TZID=Europe/Berlin:20240507T100000
DTEND;TZID=Europe/Berlin:20240507T103000
DTSTAMP:20260424T164011
CREATED:20240206T161712Z
LAST-MODIFIED:20240415T140046Z
UID:10000077-1715076000-1715077800@daisec.de
SUMMARY:Integration von Unternehmenswissen in moderne Chatbots: Methoden und Strategien
DESCRIPTION:In einer Ära\, in der Informationsmanagement und Kundendienst Schlüsselrollen im Geschäftserfolg spielen\, ist es für KMU entscheidend\, auf dem neuesten Stand der Technologie zu bleiben. Unsere Veranstaltung „Integration von Unternehmenswissen in moderne Chatbots“ bietet einen Einblick in die effektive Nutzung von Chatbot-Technologien zur Optimierung Ihres Wissensmanagements und zur Verbesserung der Kundeninteraktion. Erfahren Sie\, warum gerade jetzt der richtige Zeitpunkt ist\, um Ihre Unternehmensdaten in intelligente Chatbots zu integrieren. \n\n\n\n\n\n\n\nInhalt der Veranstaltung\n\n\n\n\nGrundlagen moderner Chatbots: Wie funktionieren sie und was können sie leisten?\n\n\n\nMethoden zur Integration von Unternehmenswissen in Chatbots.\n\n\n\nStrategien zur Optimierung der Kundenkommunikation durch Chatbots.\n\n\n\nAnwendungsbeispiele: Erfolgreiche Integration in verschiedenen Branchen.\n\n\n\nDatenschutz und Sicherheit bei der Verwendung von Chatbots.\n\n\n\nZukünftige Trends und Entwicklungen in der Chatbot-Technologie.\n\n\n\nInteraktive Fragerunde und Diskussion\n\n\n\n\n\n\n\n\nZiel der Veranstaltung\n\n\n\nTeilnehmende sollen grundlegende und fortgeschrittene Kenntnisse über die Integration von Unternehmenswissen in Chatbots erlangen. Sie erhalten die Gelegenheit\, sich mit KollegInnen und ExpertInnen aus dem Bereich Künstliche Intelligenz und digitale Transformation auszutauschen und individuelle Fragen zu stellen. \n\n\n\n\n\n\n\nOrganisatorisches\n\n\n\nDie Veranstaltung wird online durchgeführt. Nach der Anmeldung erhalten die TeilnehmerInnen einen Zugangslink per E-Mail. Wir empfehlen eine frühzeitige Anmeldung\, um sich einen Platz zu sichern und alle wichtigen Informationen vor der Veranstaltung zu erhalten. \n\n\n\nDiese Veranstaltung wird unterstützt von \n\n\n\n\n\n\n\n\n\n\n\n\n\n\nVortragender\n\n\n\n\n\n\n\n\n\n\n\n\n\n\n\nJulian Laue\n\n\n\nExperte für KIlaue@daisec.de \n\n\n\n\n\n\n\n\n\n\nAnmeldung\n\n\n\n\n\n\n\n\n\n\n\n\n\n\n\nDie Anmeldung schließt drei Tage vor dem Veranstaltungstermin.Sollten Sie Fragen oder Probleme mit der Anmeldung haben\,wenden Sie sich bitte an den oben angegebenen Kontakt. \n\n\n\n\n\n\n\n\nVeranstaltungsort\n\n\n\n\n\n\n\n\n\n\n\n\n\n\n\n\n\n\n\n\n\n\n\n\n\n\n\n\n	\n		\n\n			\n			\n\n							\n					\n						Kommende Veranstaltungen					\n				\n			\n			\n				\n											\n\n	\n	\n		\n			Apr.		\n		\n			20		\n	\n\n\n	\n		\n			\n\n				\n					\n		\n		20.04. – 24.04.	\n	\n					\n	\n		DAISEC auf der HANNOVER MESSE 2026	\n\n				\n\n				\n			\n		\n	\n\n\n											\n\n	\n	\n		\n			Apr.		\n		\n			29		\n	\n\n\n	\n		\n			\n\n				\n					\n		\n		14:00 – 15:30	\n	\n					\n	\n		KI-Wissensmanagement mit LLMs\, RAG und lokalen sowie cloudbasierten Ansätzen 1 – Überblick und Orientierung	\n\n				\n\n				\n			\n		\n	\n\n\n											\n\n	\n	\n		\n			Mai		\n		\n			7		\n	\n\n\n	\n		\n			\n\n				\n					\n		\n		16:30 – 19:00	\n	\n					\n	\n		2. KI Werkbank Forum 2026 (Lingen)	\n\n				\n\n				\n			\n		\n	\n\n\n									\n\n				\n	\n		Kalender anzeigen
URL:https://daisec.de/event/integration-von-unternehmenswissen-in-moderne-chatbots-methoden-und-strategien/
LOCATION:Online
CATEGORIES:Kurzvortrag "Auf den Punkt"
ATTACH;FMTTYPE=image/png:https://daisec.de/wp-content/uploads/2024/02/2024-05-07-DAISEC-Digitalisierungs-Dienstag-Chatbots-Methoden-und-Strategien.png
END:VEVENT
BEGIN:VEVENT
DTSTART;TZID=Europe/Berlin:20240507T100000
DTEND;TZID=Europe/Berlin:20240507T113000
DTSTAMP:20260424T164011
CREATED:20240429T124430Z
LAST-MODIFIED:20240429T124432Z
UID:10000100-1715076000-1715081400@daisec.de
SUMMARY:Cybersicherheit - Der digitale Panzerschrank
DESCRIPTION:
URL:https://daisec.de/event/cybersicherheit-der-digitale-panzerschrank/
LOCATION:Online
CATEGORIES:Öffentliche Veranstaltung
ATTACH;FMTTYPE=image/png:https://daisec.de/wp-content/uploads/2024/04/Bild_2024-04-29_144108625.png
END:VEVENT
BEGIN:VEVENT
DTSTART;TZID=Europe/Berlin:20240521T100000
DTEND;TZID=Europe/Berlin:20240521T103000
DTSTAMP:20260424T164011
CREATED:20240221T060740Z
LAST-MODIFIED:20240415T142818Z
UID:10000081-1716285600-1716287400@daisec.de
SUMMARY:ChatBots und Cybersicherheitsgefahren
DESCRIPTION:Chatbots sind eine spannende und interessante Technologie mit viel Potential für Unternehmen. Aber wie jede Technologie\, hat auch sie ihre Schattenseiten. Wir stellen einige Gefahren von Chatbots (und der LLM Technologie dahinter) aus der Perspektive von Cybersicherheit vor. \n\n\n\n\n\n\n\nInhalt der Veranstaltung\n\n\n\n\nManipulation von Chatbots und deren Antworten\n\n\n\nExtraktion von vertraulichen Informationen aus Chatbots\n\n\n\nWiederentdeckung von Grundprinzipien der Cybersicherheit bei Chatbots\n\n\n\nIdentifikation von Feldern in denen der Einsatz von Chatbots besonders gefährlich ist.\n\n\n\n\n\n\n\n\nZiel der Veranstaltung\n\n\n\nSie erhalten einen Einblick in das Thema Chatbots aus der Perspektive der Cybersicherheit und können anschließend besser die Anwendung in Ihrem Unternehmen einschätzen. Sie haben die Chance\, mit Kolleg:innen und Cybersicherheitsexperten über Chatbots und deren Einsatz zu diskutieren. \n\n\n\n\n\n\n\nOrganisatorisches\n\n\n\nDie Veranstaltung wird online durchgeführt. Nach der Anmeldung erhalten Sie einen Zugangslink per E-Mail. Wir empfehlen eine frühzeitige Anmeldung\, um sich einen Platz zu sichern und alle wichtigen Informationen vor der Veranstaltung zu erhalten. \n\n\n\n\n\n\n\n\n\n\nVortragender\n\n\n\n\n\n\n\n\n\n\n\n\n\n\n\nNiklas Busch\n\n\n\nExperte für Cybersicherheitbusch@daisec.de \n\n\n\n\n\n\n\n\n\n\nAnmeldung\n\n\n\n\n\n\n\n\n\n\n\n\n\n\n\nDie Anmeldung schließt drei Tage vor dem Veranstaltungstermin.Sollten Sie Fragen oder Probleme mit der Anmeldung haben\,wenden Sie sich bitte an den oben angegebenen Kontakt. \n\n\n\n\n\n\n\n\nVeranstaltungsort\n\n\n\n\n\n\n\n\n\n\n\n\n\n\n\n\n\n\n\n\n\n\n\n\n\n\n\n\n	\n		\n\n			\n			\n\n							\n					\n						Kommende Veranstaltungen					\n				\n			\n			\n				\n											\n\n	\n	\n		\n			Apr.		\n		\n			20		\n	\n\n\n	\n		\n			\n\n				\n					\n		\n		20.04. – 24.04.	\n	\n					\n	\n		DAISEC auf der HANNOVER MESSE 2026	\n\n				\n\n				\n			\n		\n	\n\n\n											\n\n	\n	\n		\n			Apr.		\n		\n			29		\n	\n\n\n	\n		\n			\n\n				\n					\n		\n		14:00 – 15:30	\n	\n					\n	\n		KI-Wissensmanagement mit LLMs\, RAG und lokalen sowie cloudbasierten Ansätzen 1 – Überblick und Orientierung	\n\n				\n\n				\n			\n		\n	\n\n\n											\n\n	\n	\n		\n			Mai		\n		\n			7		\n	\n\n\n	\n		\n			\n\n				\n					\n		\n		16:30 – 19:00	\n	\n					\n	\n		2. KI Werkbank Forum 2026 (Lingen)	\n\n				\n\n				\n			\n		\n	\n\n\n									\n\n				\n	\n		Kalender anzeigen
URL:https://daisec.de/event/chatbots-und-cybersicherheitsgefahren-21-05-2024/
LOCATION:Online
CATEGORIES:Kurzvortrag "Auf den Punkt"
ATTACH;FMTTYPE=image/png:https://daisec.de/wp-content/uploads/2024/02/2024-05-21-DAISEC-Digitalisierungs-Dienstag-Chatbots-Cybersicherheit.png
END:VEVENT
BEGIN:VEVENT
DTSTART;TZID=Europe/Berlin:20240523T120000
DTEND;TZID=Europe/Berlin:20240523T130000
DTSTAMP:20260424T164012
CREATED:20240513T072949Z
LAST-MODIFIED:20240513T072950Z
UID:10000103-1716465600-1716469200@daisec.de
SUMMARY:Digitale Woche: Einsatz von KI-Bildgeneratoren und Ausblick auf Videogeneratoren
DESCRIPTION:
URL:https://daisec.de/event/digitale-woche-einsatz-von-ki-bildgeneratoren-und-ausblick-auf-videogeneratoren/
LOCATION:Online
CATEGORIES:Öffentliche Veranstaltung
ATTACH;FMTTYPE=image/png:https://daisec.de/wp-content/uploads/2024/05/Bild_2024-05-13_092649236.png
END:VEVENT
BEGIN:VEVENT
DTSTART;TZID=Europe/Berlin:20240530T133000
DTEND;TZID=Europe/Berlin:20240530T173000
DTSTAMP:20260424T164012
CREATED:20240410T095749Z
LAST-MODIFIED:20240410T101027Z
UID:10000096-1717075800-1717090200@daisec.de
SUMMARY:KI-Safari: Auf in die Wildnis der Künstlichen Intelligenz
DESCRIPTION:
URL:https://daisec.de/event/ki-safari-auf-in-die-wildnis-der-kuenstlichen-intelligenz/
LOCATION:IT-Zentrum Lingen\, Kaiserstraße 10B\, Lingen (Ems)\, 49809
ATTACH;FMTTYPE=image/jpeg:https://daisec.de/wp-content/uploads/2024/04/KI-Safari_wide_prog-e1712743538884.jpg
END:VEVENT
BEGIN:VEVENT
DTSTART;TZID=Europe/Berlin:20240530T150000
DTEND;TZID=Europe/Berlin:20240530T170000
DTSTAMP:20260424T164012
CREATED:20240513T090415Z
LAST-MODIFIED:20240530T075753Z
UID:10000104-1717081200-1717088400@daisec.de
SUMMARY:3D-Druck: Einführungsworkshop 1
DESCRIPTION:Seit der ersten Entwicklungsphase in den 1980er Jahren sind 3D-Druckverfahren inzwischen ausgereift und für den Einsatz in Produktionsumgebungen geeignet. Im Gegensatz zu herkömmlichen Fertigungsverfahren\, bei denen die Erzeugnisse entweder durch Gießen oder Entfernen von Material (z.B. Fräsen) hergestellt werden\, wird beim 3D-Druckverfahren das Material Schicht für Schicht aufgebaut. Dies ermöglicht die Herstellung sehr komplexer Formen. \n\n\n\nDa für die Fertigung keine zusätzlichen Werkzeuge erforderlich sind\, können die Erzeugnisse kostengünstig in kleinen bis mittleren Losgrößen hergestellt werden. Das Verfahren bietet eine enorme Freiheit bei der Gestaltung von Kunststoff-\, Metall- und Keramikteilen\, wodurch sich die Fertigungsteile schnell und ressourcenschonend herstellen lassen. \n\n\n\n\n\n\n\nUnser Angebot\n\n\n\nUm Ihnen den nächsten Schritt zur Digitalisierung Ihrer Produktionsprozesse zu ermöglichen\, bieten wir Ihnen eine Reihe von online Einführungsworkshops an\, in denen Sie die verschiedenen Arten von 3D-Druckverfahren sowie ihre Stärken und Schwächen kennenlernen.  \n\n\n\nWir bieten Ihnen insgesamt drei Einführungsworkshops in einem wiederkehrenden Rhythmus. So haben Sie die Flexibilität\, einen Workshop passend zu Ihrem Zeitplan zu besuchen. Suchen Sie sich einfach aus der Liste in der Anmeldung die für Sie passenden Termine aus. Darüber hinaus bieten wir einen praktischen 3D-Druck-Workshop an\, für den Sie sich ebenfalls unten anmelden können. \n\n\n\n\n\n\n\nLerninhalte\n\n\n\n\n\n\n\nEinführungsworkshop 1: Einführung und Extrusionsverfahren \n\n\n\n\nAllgemeine 3D-Druck-Einführung\n\nWelche Verfahrenstypen gibt es?\n\n\n\nWas sind ihre Stärken und Schwächen?\n\n\n\nWie unterscheidet sich die Prozesskette von der Idee bis zum Bauteil von traditionellen Verfahren?\n\n\n\n\n\nMaterialextrusionsverfahren (auch bekannt als FDM)\n\nWie funktionieren diese Verfahren?\n\n\n\nWelche Materialien können sie verarbeiten?\n\n\n\nWas sind ihre Stärken und Schwächen?\n\n\n\nIn welchen Anwendungen wird die Technologie erfolgreich eingesetzt?\n\n\n\nWelche Designrichtlinien sollten bei diesen Verfahren berücksichtigt werden?\n\n\n\n\n\nSchichtlaminierungsverfahren\n\n\n\n\n\n\n\n\nIhre Vorteile\n\n\n\n\nSie lernen die technologische Vielfalt des 3D-Drucks kennen.\n\n\n\nSie entwickeln ein Verständnis dafür\, welche im Unternehmen hergestellten Produkte\, Potenzial für die Produktion mittels 3D-Druck aufweisen.\n\n\n\nSie erwerben Kenntnisse über geeignete Konstruktionsverfahren für den 3D-Druck.\n\n\n\nSie verstehen\, wie sich der 3D-Druck in dem Fertigungsportfolio Ihres Unternehmens integrieren lässt.\n\n\n\n\n\n\n\n\nZielgruppe und Vorkenntnisse\n\n\n\nMitarbeitende aus Produktentwicklung\, Design und Fertigung aus allen Branchen. Es sind keine Vorkenntnisse zum Thema 3D-Druck erforderlich. Die Einführungsworkshops können in beliebiger Reihenfolge besucht werden. \n\n\n\n\n\n\n\nOrganisatorisches\n\n\n\nDie Einführungsworkshops finden online statt. Hier sind die nächsten Termine: \n\n\n\nEinführung und Extrusionsverfahren \n\n\n\n\nEinführungsworkshop 1: 30.05.24 von 15:00 bis 17:00\n\n\n\nEinführungsworkshop 1: 29.08.24 von 15:00 bis 17:00\n\n\n\nEinführungsworkshop 1: 28.11.24 von 15:00 bis 17:00\n\n\n\n\n\n\n\n\nPhotopolymerisation und Nachbearbeitung \n\n\n\n\nEinführungsworkshop 2: 27.06.24 von 15:00 bis 17:00\n\n\n\nEinführungsworkshop 2: 26.09.24 von 15:00 bis 17:00\n\n\n\nEinführungsworkshop 2: 19.12.24 von 15:00 bis 17:00\n\n\n\n\n\n\n\n\nPulverbasierte Verfahren\, 3D-Modelle und 3D-Scannen \n\n\n\n\nEinführungsworkshop 3: 25.07.24 von 15:00 bis 17:00\n\n\n\nEinführungsworkshop 3: 31.10.24 von 15:00 bis 17:00\n\n\n\nEinführungsworkshop 3: 30.01.25 von 15:00 bis 17:00\n\n\n\n\n\n\n\n\nVerwenden Sie bitte die Schaltfläche unten\, um sich anzumelden. Sie können die Termine beliebig kombinieren. \n\n\n\nWenn Sie auch an dem praktischen Vor-Ort-Workshop zum 3D-Druck teilnehmen möchten\, können Sie sich ebenfalls über das Formular unten anmelden. Nähere Informationen zum Praxisworkshops finden Sie hier. \n\n\n\n\n\n\n\n\n\n\nKontakt\n\n\n\n\n\n\n\n\n\n\n\n\n\n\n\nKarl Hilbig\n\n\n\nExperte für 3D-Druck \n\n\n\nhilbig@daisec.de \n\n\n\n\n\n\n\n\n\n\n\n\n\n\nAnmeldung\n\n\n\n\n\n\n\n\n\n\n\n\n\nDie Einführungs-Workshops finden online statt. Sie erhalten rechtzeitig vor dem Termin einen Link zum Online-Meeting.Die Anmeldung schließt drei Tage vor dem Veranstaltungstermin.Sollten Sie Fragen oder Probleme mit der Anmeldung haben\,wenden Sie sich bitte an den oben angegebenen Kontakt. \n\n\n\n\n\n\n\n\n\n\nVeranstaltungsort\n\n\n\n\n\n\n\n\n\n\n\n\n\n\n\n\n\n\n\n\n\n\n\n\n\n\n\n\n	\n		\n\n			\n			\n\n							\n					\n						Kommende Veranstaltungen					\n				\n			\n			\n				\n											\n\n	\n	\n		\n			Apr.		\n		\n			20		\n	\n\n\n	\n		\n			\n\n				\n					\n		\n		20.04. – 24.04.	\n	\n					\n	\n		DAISEC auf der HANNOVER MESSE 2026	\n\n				\n\n				\n			\n		\n	\n\n\n											\n\n	\n	\n		\n			Apr.		\n		\n			29		\n	\n\n\n	\n		\n			\n\n				\n					\n		\n		14:00 – 15:30	\n	\n					\n	\n		KI-Wissensmanagement mit LLMs\, RAG und lokalen sowie cloudbasierten Ansätzen 1 – Überblick und Orientierung	\n\n				\n\n				\n			\n		\n	\n\n\n											\n\n	\n	\n		\n			Mai		\n		\n			7		\n	\n\n\n	\n		\n			\n\n				\n					\n		\n		16:30 – 19:00	\n	\n					\n	\n		2. KI Werkbank Forum 2026 (Lingen)	\n\n				\n\n				\n			\n		\n	\n\n\n									\n\n				\n	\n		Kalender anzeigen
URL:https://daisec.de/event/3d-druck-einfuehrung1-30-05-2024/
LOCATION:Online
ATTACH;FMTTYPE=image/png:https://daisec.de/wp-content/uploads/2024/05/2024-05-30-DAISEC-Template-3D-Druck-Einfuehrungsworkshop.png
END:VEVENT
END:VCALENDAR