BEGIN:VCALENDAR
VERSION:2.0
PRODID:-//DAISEC - ECPv6.15.20//NONSGML v1.0//EN
CALSCALE:GREGORIAN
METHOD:PUBLISH
X-ORIGINAL-URL:https://daisec.de
X-WR-CALDESC:Veranstaltungen für DAISEC
REFRESH-INTERVAL;VALUE=DURATION:PT1H
X-Robots-Tag:noindex
X-PUBLISHED-TTL:PT1H
BEGIN:VTIMEZONE
TZID:Europe/Berlin
BEGIN:DAYLIGHT
TZOFFSETFROM:+0100
TZOFFSETTO:+0200
TZNAME:CEST
DTSTART:20230326T010000
END:DAYLIGHT
BEGIN:STANDARD
TZOFFSETFROM:+0200
TZOFFSETTO:+0100
TZNAME:CET
DTSTART:20231029T010000
END:STANDARD
BEGIN:DAYLIGHT
TZOFFSETFROM:+0100
TZOFFSETTO:+0200
TZNAME:CEST
DTSTART:20240331T010000
END:DAYLIGHT
BEGIN:STANDARD
TZOFFSETFROM:+0200
TZOFFSETTO:+0100
TZNAME:CET
DTSTART:20241027T010000
END:STANDARD
BEGIN:DAYLIGHT
TZOFFSETFROM:+0100
TZOFFSETTO:+0200
TZNAME:CEST
DTSTART:20250330T010000
END:DAYLIGHT
BEGIN:STANDARD
TZOFFSETFROM:+0200
TZOFFSETTO:+0100
TZNAME:CET
DTSTART:20251026T010000
END:STANDARD
END:VTIMEZONE
BEGIN:VEVENT
DTSTART;TZID=Europe/Berlin:20240702T100000
DTEND;TZID=Europe/Berlin:20240702T110000
DTSTAMP:20260424T080058
CREATED:20240226T131054Z
LAST-MODIFIED:20240416T073340Z
UID:10000085-1719914400-1719918000@daisec.de
SUMMARY:Wann lohnen sich Cyberversicherungen?
DESCRIPTION:Haben Sie schon eine Cyberversicherung oder brauchen Sie erst noch eine? Die meisten Cyberversicherungen bieten nicht nur eine Versicherung\, sondern auch Unterstützung im Bereich der Cybersicherheit. Gleichzeitig stellen Sie auch Anforderungen an Sie und Ihre Cybersicherheit. Wenn Sie eine Cyberversicherung haben\, sollten Sie prüfen\, ob Sie alle Anforderungen erfüllen. Falls Sie noch keine haben\, sollten Sie überlegen\, ob Sie eine brauchen. In beiden Fällen bietet der Vortrag einen Einstieg. \n\n\n\n\n\n\n\nInhalt der Veranstaltung\n\n\n\n\nWas bieten heutige Cyberversicherungen?\n\n\n\nWelche Anforderungen sind oftmals gefordert?\n\n\n\nWelche Aspekte sind zu berücksichtigen für den Abschluss oder Verzicht auf eine Cyberversicherung?\n\n\n\n\n\n\n\n\nZiel der Veranstaltung\n\n\n\nSie erhalten einen ersten Einblick in das Thema und können erste Maßnahmen für Ihr Unternehmen identifizieren. Sie haben die Chance sich mit Kolleg:innen und Cybersicherheitsexperten auszutauschen und Fragen zu stellen. \n\n\n\n\n\n\n\nOrganisatorisches\n\n\n\nDie Veranstaltung wird online durchgeführt. Nach der Anmeldung erhalten Sie einen Zugangslink per E-Mail. Wir empfehlen eine frühzeitige Anmeldung\, um sich einen Platz zu sichern und alle wichtigen Informationen vor der Veranstaltung zu erhalten. \n\n\n\n\n\n\n\n\n\n\nVortragender\n\n\n\n\n\n\n\n\n\n\n\n\n\n\n\nDr. Oliver Wiese\n\n\n\nExperte für Cybersicherheit \n\n\n\nwiese@daisec.de \n\n\n\n \n\n\n\n\n\n\n\n\n\n\nAnmeldung\n\n\n\n\n\n\n\n\n\n\n\n\n\n\n\nDie Anmeldung schließt drei Tage vor dem Veranstaltungstermin.Sollten Sie Fragen oder Probleme mit der Anmeldung haben\,wenden Sie sich bitte an den oben angegebenen Kontakt. \n\n\n\n\n\n\n\n\nVeranstaltungsort\n\n\n\n\n\n\n\n\n\n\n\n\n\n\n\n\n\n\n\n\n\n\n\n\n\n\n\n\n	\n		\n\n			\n			\n\n							\n					\n						Kommende Veranstaltungen					\n				\n			\n			\n				\n											\n\n	\n	\n		\n			Apr.		\n		\n			20		\n	\n\n\n	\n		\n			\n\n				\n					\n		\n		20.04. – 24.04.	\n	\n					\n	\n		DAISEC auf der HANNOVER MESSE 2026	\n\n				\n\n				\n			\n		\n	\n\n\n											\n\n	\n	\n		\n			Apr.		\n		\n			29		\n	\n\n\n	\n		\n			\n\n				\n					\n		\n		14:00 – 15:30	\n	\n					\n	\n		KI-Wissensmanagement mit LLMs\, RAG und lokalen sowie cloudbasierten Ansätzen 1 – Überblick und Orientierung	\n\n				\n\n				\n			\n		\n	\n\n\n											\n\n	\n	\n		\n			Mai		\n		\n			7		\n	\n\n\n	\n		\n			\n\n				\n					\n		\n		16:30 – 19:00	\n	\n					\n	\n		2. KI Werkbank Forum 2026 (Lingen)	\n\n				\n\n				\n			\n		\n	\n\n\n									\n\n				\n	\n		Kalender anzeigen
URL:https://daisec.de/event/wann-lohnen-sich-cyberversicherungen-02-07-2024/
LOCATION:Online
CATEGORIES:Kurzvortrag "Auf den Punkt"
ATTACH;FMTTYPE=image/png:https://daisec.de/wp-content/uploads/2024/02/2024-07-02-DAISEC-Digitalisierungs-Dienstag-Cyberversicherung.png
END:VEVENT
BEGIN:VEVENT
DTSTART;TZID=Europe/Berlin:20240725T150000
DTEND;TZID=Europe/Berlin:20240725T170000
DTSTAMP:20260424T080059
CREATED:20240513T115219Z
LAST-MODIFIED:20240709T082758Z
UID:10000110-1721919600-1721926800@daisec.de
SUMMARY:3D-Druck: Einführungsworkshop 3
DESCRIPTION:Seit der ersten Entwicklungsphase in den 1980er Jahren sind 3D-Druckverfahren inzwischen ausgereift und für den Einsatz in Produktionsumgebungen geeignet. Im Gegensatz zu herkömmlichen Fertigungsverfahren\, bei denen die Erzeugnisse entweder durch Gießen oder Entfernen von Material (z.B. Fräsen) hergestellt werden\, wird beim 3D-Druckverfahren das Material Schicht für Schicht aufgebaut. Dies ermöglicht die Herstellung sehr komplexer Formen. \n\n\n\nDa für die Fertigung keine zusätzlichen Werkzeuge erforderlich sind\, können die Erzeugnisse kostengünstig in kleinen bis mittleren Losgrößen hergestellt werden. Das Verfahren bietet eine enorme Freiheit bei der Gestaltung von Kunststoff-\, Metall- und Keramikteilen\, wodurch sich die Fertigungsteile schnell und ressourcenschonend herstellen lassen. \n\n\n\n\n\n\n\nUnser Angebot\n\n\n\nUm Ihnen den nächsten Schritt zur Digitalisierung Ihrer Produktionsprozesse zu ermöglichen\, bieten wir Ihnen eine Reihe von online Einführungsworkshops an\, in denen Sie die verschiedenen Arten von 3D-Druckverfahren sowie ihre Stärken und Schwächen kennenlernen.  \n\n\n\nWir bieten Ihnen insgesamt drei Einführungsworkshops in einem wiederkehrenden Rhythmus. So haben Sie die Flexibilität\, einen Workshop passend zu Ihrem Zeitplan zu besuchen. Suchen Sie sich einfach aus der Liste in der Anmeldung die für Sie passenden Termine aus. Darüber hinaus bieten wir einen praktischen 3D-Druck-Workshop an\, für den Sie sich ebenfalls unten anmelden können. \n\n\n\n\n\n\n\nLerninhalte\n\n\n\n\n\n\n\nEinführungsworkshops 3: Pulverbasierte Verfahren\, 3D-Modelle und 3D-Scannen \n\n\n\n\nPulverbettbasiertes schmelzen (auch bekannt als SLS oder SLM)\n\nWie funktionieren diese Verfahren?\n\n\n\nWelche Materialien können sie verarbeiten?\n\n\n\nWas sind ihre Stärken und Schwächen?\n\n\n\nIn welchen Anwendungen wird die Technologie erfolgreich eingesetzt?\n\n\n\nWelche Konstruktionsrichtlinien sollten bei diesen Verfahren beachtet werden?\n\n\n\n\n\nMaterialauftrag mit gerichteter Energieeinbringung\n\n\n\nFreistrahl-Bindemittelauftrag\n\n\n\nWie werden 3D-Modelle für den Druck erstellt?\n\nWelche Möglichkeiten der computergestützten Konstruktion gibt es?\n\n\n\nWie können komplexe Geometrien erstellt werden?\n\n\n\nWie kann 3D-Scanning Modelldaten liefern\, und wie können diese genutzt werden?\n\n\n\nWelche Möglichkeiten gibt es\, Online-Teiledatenbanken zu nutzen?\n\n\n\n\n\nWie entscheidet man sich zwischen internem oder externem 3D-Druck?\n\n\n\n\n\n\n\n\nIhre Vorteile\n\n\n\n\nSie lernen die technologische Vielfalt des 3D-Drucks kennen.\n\n\n\nSie entwickeln ein Verständnis dafür\, welche im Unternehmen hergestellten Produkte\, Potenzial für die Produktion mittels 3D-Druck aufweisen.\n\n\n\nSie erwerben Kenntnisse über geeignete Konstruktionsverfahren für den 3D-Druck.\n\n\n\nSie verstehen\, wie sich der 3D-Druck in dem Fertigungsportfolio Ihres Unternehmens integrieren lässt.\n\n\n\n\n\n\n\n\nZielgruppe und Vorkenntnisse\n\n\n\nMitarbeitende aus Produktentwicklung\, Design und Fertigung aus allen Branchen. Es sind keine Vorkenntnisse zum Thema 3D-Druck erforderlich. Die Einführungsworkshops können in beliebiger Reihenfolge besucht werden. \n\n\n\n\n\n\n\nOrganisatorisches\n\n\n\nDie Einführungsworkshops finden online statt. Hier sind die nächsten Termine: \n\n\n\nEinführung und Extrusionsverfahren \n\n\n\n\nEinführungsworkshop 1: 29.08.24 von 15:00 bis 17:00\n\n\n\nEinführungsworkshop 1: 28.11.24 von 15:00 bis 17:00\n\n\n\n\n\n\n\n\nPhotopolymerisation und Nachbearbeitung \n\n\n\n\nEinführungsworkshop 2: 26.09.24 von 15:00 bis 17:00\n\n\n\nEinführungsworkshop 2: 19.12.24 von 15:00 bis 17:00\n\n\n\n\n\n\n\n\nPulverbasierte Verfahren\, 3D-Modelle und 3D-Scannen \n\n\n\n\nEinführungsworkshop 3: 25.07.24 von 15:00 bis 17:00\n\n\n\nEinführungsworkshop 3: 24.10.24 von 15:00 bis 17:00\n\n\n\nEinführungsworkshop 3: 30.01.25 von 15:00 bis 17:00\n\n\n\n\n\n\n\n\nVerwenden Sie bitte die Schaltfläche unten\, um sich anzumelden. Sie können die Termine beliebig kombinieren. \n\n\n\nWenn Sie auch an dem praktischen Vor-Ort-Workshop zum 3D-Druck teilnehmen möchten\, können Sie sich ebenfalls über das Formular unten anmelden. Nähere Informationen zum Praxisworkshops finden Sie hier. \n\n\n\n\n\n\n\n\n\n\nKontakt\n\n\n\n\n\n\n\n\n\n\n\n\n\n\n\nKarl Hilbig\n\n\n\nExperte für 3D-Druck \n\n\n\nhilbig@daisec.de \n\n\n\n\n\n\n\n\n\n\n\n\n\n\nAnmeldung\n\n\n\n\n\n\n\n\n\n\n\n\n\nDie Einführungs-Workshops finden online statt. Sie erhalten rechtzeitig vor dem Termin einen Link zum Online-Meeting.Die Anmeldung schließt drei Tage vor dem Veranstaltungstermin.Sollten Sie Fragen oder Probleme mit der Anmeldung haben\,wenden Sie sich bitte an den oben angegebenen Kontakt. \n\n\n\n\n\n\n\n\n\n\nVeranstaltungsort\n\n\n\n\n\n\n\n\n\n\n\n\n\n\n\n\n\n\n\n\n\n\n\n\n\n\n\n\n	\n		\n\n			\n			\n\n							\n					\n						Kommende Veranstaltungen					\n				\n			\n			\n				\n											\n\n	\n	\n		\n			Apr.		\n		\n			20		\n	\n\n\n	\n		\n			\n\n				\n					\n		\n		20.04. – 24.04.	\n	\n					\n	\n		DAISEC auf der HANNOVER MESSE 2026	\n\n				\n\n				\n			\n		\n	\n\n\n											\n\n	\n	\n		\n			Apr.		\n		\n			29		\n	\n\n\n	\n		\n			\n\n				\n					\n		\n		14:00 – 15:30	\n	\n					\n	\n		KI-Wissensmanagement mit LLMs\, RAG und lokalen sowie cloudbasierten Ansätzen 1 – Überblick und Orientierung	\n\n				\n\n				\n			\n		\n	\n\n\n											\n\n	\n	\n		\n			Mai		\n		\n			7		\n	\n\n\n	\n		\n			\n\n				\n					\n		\n		16:30 – 19:00	\n	\n					\n	\n		2. KI Werkbank Forum 2026 (Lingen)	\n\n				\n\n				\n			\n		\n	\n\n\n									\n\n				\n	\n		Kalender anzeigen
URL:https://daisec.de/event/3d-druck-einfuehrung3-25-07-2024/
LOCATION:Online
ATTACH;FMTTYPE=image/png:https://daisec.de/wp-content/uploads/2024/05/2024-05-30-DAISEC-Template-3D-Druck-Einfuehrungsworkshop.png
END:VEVENT
BEGIN:VEVENT
DTSTART;TZID=Europe/Berlin:20240730T100000
DTEND;TZID=Europe/Berlin:20240730T103000
DTSTAMP:20260424T080059
CREATED:20240717T091906Z
LAST-MODIFIED:20240723T082259Z
UID:10000138-1722333600-1722335400@daisec.de
SUMMARY:Wie funktionieren neuronale Netze?
DESCRIPTION:KI kann bereits in zahlreichen Bereichen eingesetzt werden\, um die Effizienz von Arbeitsprozessen zu steigern und monotone Tätigkeiten zu automatisieren. Beispielsweise in der Qualitätskontrolle\, der Oberflächendefekterkennung\, für audiobasierten Anomalieerkennung oder für Maschinenzustandsüberwachung. \n\n\n\nIn unserem Impulsvortrag lernen Sie verschiedene Anwendungsbeispiele von tiefen neuronalen Netzwerken kennen. Dabei legen wir einen besonderen Fokus auf die Bild- und Sprachverarbeitung im Automotive-Kontext. \n\n\n\n\n\n\n\nInhalt der Veranstaltung\n\n\n\n\nWas sind die Fachbegriffe rund um das Thema Deep Learning und was sind deren Datensätze?\n\n\n\nWie ist der Aufbau und die Formatierung der Trainings- und der Testdaten?\n\n\n\nWie ist die Darstellung von Datensätzen aus der Forschung und auf welche Aspekte müssen EntwicklerInnen achten\, wenn sie eigene Datensätze verwenden möchten?\n\n\n\nWo werden neuronale Netze in der Bild- und Sprachverarbeitung angewendet?\n\n\n\n\n\n\n\n\nZiel der Veranstaltung\n\n\n\nSie lernen verschiedene Anwendungsbeispiele von tiefen neuronalen Netzwerken\, wie die Bild- und Sprachverarbeitung\, sowie häufig verwendete Methoden und deren Anwendungsmöglichkeiten kennen. \n\n\n\n\n\n\n\nOrganisatorisches\n\n\n\nDie Veranstaltung findet online statt. Ein Zugangslink wird nach erfolgreicher Anmeldung per E-Mail bereitgestellt. Bitte melden Sie sich rechtzeitig an\, um Ihren Platz zu sichern und Zugang zu allen relevanten Informationen vor der Veranstaltung zu erhalten. \n\n\n\n\n\n\n\n\n\n\nVortrag von\n\n\n\n\n\n\n\n\n\n\n\n\n\n\n\nTimo Bartels\n\n\n\nExperte für KI \n\n\n\nbartels@daisec.de \n\n\n\n\n\n\n\n\n\n\nAnmeldung\n\n\n\n\n\n\n\n\n\n\n\n\n\nDies ist ein gemeinsames Angebot des DAISEC und des Mittelstand-Digital Zentrums Hannover.Die Anmeldung schließt zwei Tage vor Beginn der Veranstaltung.Bei Fragen kontaktieren Sie uns bitte über info@daisec.de \n\n\n\n\n\n\n\n\n\n\nVeranstaltungsort\n\n\n\n\n\n\n\n\n\n\n\n\n\n\n\n\n\n\n\n\n\n\n\n\n\n\n\n\n	\n		\n\n			\n			\n\n							\n					\n						Kommende Veranstaltungen					\n				\n			\n			\n				\n											\n\n	\n	\n		\n			Apr.		\n		\n			20		\n	\n\n\n	\n		\n			\n\n				\n					\n		\n		20.04. – 24.04.	\n	\n					\n	\n		DAISEC auf der HANNOVER MESSE 2026	\n\n				\n\n				\n			\n		\n	\n\n\n											\n\n	\n	\n		\n			Apr.		\n		\n			29		\n	\n\n\n	\n		\n			\n\n				\n					\n		\n		14:00 – 15:30	\n	\n					\n	\n		KI-Wissensmanagement mit LLMs\, RAG und lokalen sowie cloudbasierten Ansätzen 1 – Überblick und Orientierung	\n\n				\n\n				\n			\n		\n	\n\n\n											\n\n	\n	\n		\n			Mai		\n		\n			7		\n	\n\n\n	\n		\n			\n\n				\n					\n		\n		16:30 – 19:00	\n	\n					\n	\n		2. KI Werkbank Forum 2026 (Lingen)	\n\n				\n\n				\n			\n		\n	\n\n\n									\n\n				\n	\n		Kalender anzeigen
URL:https://daisec.de/event/neuronale-netze-30-07-2024/
LOCATION:Online\, Online-Meeting
CATEGORIES:Kurzvortrag "Auf den Punkt"
ATTACH;FMTTYPE=image/png:https://daisec.de/wp-content/uploads/2024/07/2024-07-30-Neuronale-Netze.png
END:VEVENT
END:VCALENDAR